Back to Multiple platform build/check report for BioC 3.13 experimental data
ABCDEFGHIJKLMNOP[Q]RSTUVWXYZ

INSTALL report for qPLEXdata on riesling1

This page was generated on 2021-01-21 16:01:35 -0500 (Thu, 21 Jan 2021).

TO THE DEVELOPERS/MAINTAINERS OF THE qPLEXdata PACKAGE: Please make sure to use the following settings in order to reproduce any error or warning you see on this page.
Package 286/386HostnameOS / ArchINSTALLBUILDCHECK
qPLEXdata 1.9.0
Kamal Kishore Developer
Snapshot Date: 2021-01-21 09:00:14 -0500 (Thu, 21 Jan 2021)
URL: https://git.bioconductor.org/packages/qPLEXdata
Branch: master
Last Commit: ffaf3d3
Last Changed Date: 2020-10-27 10:27:05 -0500 (Tue, 27 Oct 2020)
malbec2 Linux (Ubuntu 20.04.1 LTS) / x86_64  OK  ERROR  skipped 
riesling1 Windows Server 2019 Standard / x64 [ OK ] ERROR  skipped 

Summary

Package: qPLEXdata
Version: 1.9.0
Command: C:\cygwin\bin\curl.exe -O http://172.29.0.4/BBS/3.13/data-experiment/src/contrib/qPLEXdata_1.9.0.tar.gz && rm -rf qPLEXdata.buildbin-libdir && mkdir qPLEXdata.buildbin-libdir && D:\biocbuild\bbs-3.13-bioc\R\bin\R.exe CMD INSTALL --merge-multiarch --build --library=qPLEXdata.buildbin-libdir qPLEXdata_1.9.0.tar.gz && D:\biocbuild\bbs-3.13-bioc\R\bin\R.exe CMD INSTALL qPLEXdata_1.9.0.zip && rm qPLEXdata_1.9.0.tar.gz qPLEXdata_1.9.0.zip
StartedAt: 2021-01-21 10:15:40 -0500 (Thu, 21 Jan 2021)
EndedAt: 2021-01-21 10:16:02 -0500 (Thu, 21 Jan 2021)
EllapsedTime: 21.7 seconds
RetCode: 0
Status:  OK  

Command output

##############################################################################
##############################################################################
###
### Running command:
###
###   C:\cygwin\bin\curl.exe -O http://172.29.0.4/BBS/3.13/data-experiment/src/contrib/qPLEXdata_1.9.0.tar.gz && rm -rf qPLEXdata.buildbin-libdir && mkdir qPLEXdata.buildbin-libdir && D:\biocbuild\bbs-3.13-bioc\R\bin\R.exe CMD INSTALL --merge-multiarch --build --library=qPLEXdata.buildbin-libdir qPLEXdata_1.9.0.tar.gz && D:\biocbuild\bbs-3.13-bioc\R\bin\R.exe CMD INSTALL qPLEXdata_1.9.0.zip && rm qPLEXdata_1.9.0.tar.gz qPLEXdata_1.9.0.zip
###
##############################################################################
##############################################################################


  % Total    % Received % Xferd  Average Speed   Time    Time     Time  Current
                                 Dload  Upload   Total   Spent    Left  Speed

  0     0    0     0    0     0      0      0 --:--:-- --:--:-- --:--:--     0
 59 11.5M   59 7065k    0     0  12.9M      0 --:--:-- --:--:-- --:--:-- 12.9M
100 11.5M  100 11.5M    0     0  10.8M      0  0:00:01  0:00:01 --:--:-- 10.8M

install for i386

* installing *source* package 'qPLEXdata' ...
** using staged installation
** R
** data
** byte-compile and prepare package for lazy loading
Warning: replacing previous import 'dplyr::combine' by 'MSnbase::combine' when loading 'qPLEXdata'
** help
*** installing help indices
  converting help for package 'qPLEXdata'
    finding HTML links ... done
    exp1_specificity                        html  
REDIRECT:topic	 exp1_specificity -> exp1_specificity.html [ SUCCESS ]
    exp2_Xlink                              html  
REDIRECT:topic	 exp2_Xlink -> exp2_Xlink.html [ SUCCESS ]
    exp3_OHT_ESR1                           html  
REDIRECT:topic	 exp3_OHT_ESR1 -> exp3_OHT_ESR1.html [ SUCCESS ]
    exp4_OHT_FP                             html  
REDIRECT:topic	 exp4_OHT_FP -> exp4_OHT_FP.html [ SUCCESS ]
    exp5_PDX                                html  
REDIRECT:topic	 exp5_PDX -> exp5_PDX.html [ SUCCESS ]
    exp6_ER                                 html  
REDIRECT:topic	 exp6_ER -> exp6_ER.html [ SUCCESS ]
    exp7_NCOA3                              html  
REDIRECT:topic	 exp7_NCOA3 -> exp7_NCOA3.html [ SUCCESS ]
    exp8_CBP                                html  
REDIRECT:topic	 exp8_CBP -> exp8_CBP.html [ SUCCESS ]
    exp9_PolII                              html  
REDIRECT:topic	 exp9_PolII -> exp9_PolII.html [ SUCCESS ]
    qPLEXdata                               html  
REDIRECT:topic	 qPLEXdata -> qPLEXdata.html [ SUCCESS ]
** building package indices
** installing vignettes
** testing if installed package can be loaded from temporary location
Warning: replacing previous import 'dplyr::combine' by 'MSnbase::combine' when loading 'qPLEXdata'
** testing if installed package can be loaded from final location
Warning: replacing previous import 'dplyr::combine' by 'MSnbase::combine' when loading 'qPLEXdata'
** testing if installed package keeps a record of temporary installation path

install for x64

* installing *source* package 'qPLEXdata' ...
** testing if installed package can be loaded
Warning: replacing previous import 'dplyr::combine' by 'MSnbase::combine' when loading 'qPLEXdata'
* MD5 sums
packaged installation of 'qPLEXdata' as qPLEXdata_1.9.0.zip
* DONE (qPLEXdata)
* installing to library 'D:/biocbuild/bbs-3.13-bioc/R/library'
package 'qPLEXdata' successfully unpacked and MD5 sums checked