Back to Multiple platform build/check report for BioC 3.13 experimental data
ABCDEFGHIJKLMNO[P]QRSTUVWXYZ

BUILD report for pwrEWAS.data on riesling1

This page was generated on 2021-01-11 15:59:33 -0500 (Mon, 11 Jan 2021).

TO THE DEVELOPERS/MAINTAINERS OF THE pwrEWAS.data PACKAGE: Please make sure to use the following settings in order to reproduce any error or warning you see on this page.
Package 283/385HostnameOS / ArchINSTALLBUILDCHECK
pwrEWAS.data 1.5.0
Stefan Graw
Snapshot Date: 2021-01-11 09:00:09 -0500 (Mon, 11 Jan 2021)
URL: https://git.bioconductor.org/packages/pwrEWAS.data
Branch: master
Last Commit: 39a0396
Last Changed Date: 2020-10-27 10:30:50 -0500 (Tue, 27 Oct 2020)
malbec2 Linux (Ubuntu 20.04.1 LTS) / x86_64  OK  OK  OK UNNEEDED, same version exists in internal repository
riesling1 Windows Server 2019 Standard / x64  OK [ OK ] OK 

Summary

Package: pwrEWAS.data
Version: 1.5.0
Command: chmod a+r pwrEWAS.data -R && D:\biocbuild\bbs-3.13-bioc\R\bin\R.exe CMD build --keep-empty-dirs --no-resave-data pwrEWAS.data
StartedAt: 2021-01-11 10:55:48 -0500 (Mon, 11 Jan 2021)
EndedAt: 2021-01-11 10:56:00 -0500 (Mon, 11 Jan 2021)
EllapsedTime: 11.8 seconds
RetCode: 0
Status:  OK  
PackageFile: pwrEWAS.data_1.5.0.tar.gz
PackageFileSize: 145.8 KiB

Command output

##############################################################################
##############################################################################
###
### Running command:
###
###   chmod a+r pwrEWAS.data -R && D:\biocbuild\bbs-3.13-bioc\R\bin\R.exe CMD build --keep-empty-dirs --no-resave-data pwrEWAS.data
###
##############################################################################
##############################################################################


* checking for file 'pwrEWAS.data/DESCRIPTION' ... OK
* preparing 'pwrEWAS.data':
* checking DESCRIPTION meta-information ... OK
* installing the package to build vignettes
* creating vignettes ... OK
* checking for LF line-endings in source and make files and shell scripts
* checking for empty or unneeded directories
* building 'pwrEWAS.data_1.5.0.tar.gz'