Back to Multiple platform build/check report for BioC 3.13 experimental data
ABCDEFGHIJKLMNO[P]QRSTUVWXYZ

INSTALL report for pumadata on riesling1

This page was generated on 2021-01-21 16:01:35 -0500 (Thu, 21 Jan 2021).

TO THE DEVELOPERS/MAINTAINERS OF THE pumadata PACKAGE: Please make sure to use the following settings in order to reproduce any error or warning you see on this page.
Package 279/386HostnameOS / ArchINSTALLBUILDCHECK
pumadata 2.27.0
Xuejun liu
Snapshot Date: 2021-01-21 09:00:14 -0500 (Thu, 21 Jan 2021)
URL: https://git.bioconductor.org/packages/pumadata
Branch: master
Last Commit: b7849ba
Last Changed Date: 2020-10-27 09:47:30 -0500 (Tue, 27 Oct 2020)
malbec2 Linux (Ubuntu 20.04.1 LTS) / x86_64  OK  OK  OK UNNEEDED, same version exists in internal repository
riesling1 Windows Server 2019 Standard / x64 [ OK ] OK  OK 

Summary

Package: pumadata
Version: 2.27.0
Command: C:\cygwin\bin\curl.exe -O http://172.29.0.4/BBS/3.13/data-experiment/src/contrib/pumadata_2.27.0.tar.gz && rm -rf pumadata.buildbin-libdir && mkdir pumadata.buildbin-libdir && D:\biocbuild\bbs-3.13-bioc\R\bin\R.exe CMD INSTALL --merge-multiarch --build --library=pumadata.buildbin-libdir pumadata_2.27.0.tar.gz && D:\biocbuild\bbs-3.13-bioc\R\bin\R.exe CMD INSTALL pumadata_2.27.0.zip && rm pumadata_2.27.0.tar.gz pumadata_2.27.0.zip
StartedAt: 2021-01-21 10:08:42 -0500 (Thu, 21 Jan 2021)
EndedAt: 2021-01-21 10:09:34 -0500 (Thu, 21 Jan 2021)
EllapsedTime: 51.3 seconds
RetCode: 0
Status:  OK  

Command output

##############################################################################
##############################################################################
###
### Running command:
###
###   C:\cygwin\bin\curl.exe -O http://172.29.0.4/BBS/3.13/data-experiment/src/contrib/pumadata_2.27.0.tar.gz && rm -rf pumadata.buildbin-libdir && mkdir pumadata.buildbin-libdir && D:\biocbuild\bbs-3.13-bioc\R\bin\R.exe CMD INSTALL --merge-multiarch --build --library=pumadata.buildbin-libdir pumadata_2.27.0.tar.gz && D:\biocbuild\bbs-3.13-bioc\R\bin\R.exe CMD INSTALL pumadata_2.27.0.zip && rm pumadata_2.27.0.tar.gz pumadata_2.27.0.zip
###
##############################################################################
##############################################################################


  % Total    % Received % Xferd  Average Speed   Time    Time     Time  Current
                                 Dload  Upload   Total   Spent    Left  Speed

  0     0    0     0    0     0      0      0 --:--:-- --:--:-- --:--:--     0
 34  101M   34 35.1M    0     0   102M      0 --:--:-- --:--:-- --:--:--  102M
100  101M  100  101M    0     0  97.5M      0  0:00:01  0:00:01 --:--:-- 97.5M

install for i386

* installing *source* package 'pumadata' ...
** using staged installation
** R
** data
** byte-compile and prepare package for lazy loading
** help
*** installing help indices
  converting help for package 'pumadata'
    finding HTML links ... done
    HTA_Location                            html  
REDIRECT:topic	 HTA_Location -> HTA_Location.html [ SUCCESS ]
    HTA_probes_transcripts                  html  
REDIRECT:topic	 HTA_probes_transcripts -> HTA_probes_transcripts.html [ SUCCESS ]
    HTA_transcript_NO                       html  
REDIRECT:topic	 HTA_transcript_NO -> HTA_transcript_NO.html [ SUCCESS ]
    HTA_transcript_name                     html  
REDIRECT:topic	 HTA_transcript_name -> HTA_transcript_name.html [ SUCCESS ]
    Human_Location                          html  
REDIRECT:topic	 Human_Location -> Human_Location.html [ SUCCESS ]
    Human_probes_transcripts                html  
REDIRECT:topic	 Human_probes_transcripts -> Human_probes_transcripts.html [ SUCCESS ]
    Human_transcript_NO                     html  
REDIRECT:topic	 Human_transcript_NO -> Human_transcript_NO.html [ SUCCESS ]
    Human_transcript_name                   html  
REDIRECT:topic	 Human_transcript_name -> Human_transcript_name.html [ SUCCESS ]
    Mouse_Location                          html  
REDIRECT:topic	 Mouse_Location -> Mouse_Location.html [ SUCCESS ]
    Mouse_probes_alpha                      html  
REDIRECT:topic	 Mouse_probes_transcripts -> Mouse_probes_alpha.html [ SUCCESS ]
REDIRECT:file	 Mouse_probes_alpha.html -> Mouse_probes_alpha.html [ SUCCESS ]
    Mouse_transcript_NO                     html  
REDIRECT:topic	 Mouse_transcript_NO -> Mouse_transcript_NO.html [ SUCCESS ]
    Mouse_transcript_name                   html  
REDIRECT:topic	 Mouse_transcript_name -> Mouse_transcript_name.html [ SUCCESS ]
    Rat_Location                            html  
REDIRECT:topic	 Rat_Location -> Rat_Location.html [ SUCCESS ]
    Rat_probes_alpha                        html  
REDIRECT:topic	 Rat_probes_transcripts -> Rat_probes_alpha.html [ SUCCESS ]
REDIRECT:file	 Rat_probes_alpha.html -> Rat_probes_alpha.html [ SUCCESS ]
    Rat_transcript_NO                       html  
REDIRECT:topic	 Rat_transcript_NO -> Rat_transcript_NO.html [ SUCCESS ]
    Rat_transcript_name                     html  
REDIRECT:topic	 Rat_transcript_name -> Rat_transcript_name.html [ SUCCESS ]
    affybatch.estrogen                      html  
REDIRECT:topic	 affybatch.estrogen -> affybatch.estrogen.html [ SUCCESS ]
    eset_estrogen_comb                      html  
REDIRECT:topic	 eset_estrogen_comb -> eset_estrogen_comb.html [ SUCCESS ]
    eset_estrogen_mmgmos                    html  
REDIRECT:topic	 eset_estrogen_mmgmos -> eset_estrogen_mmgmos.html [ SUCCESS ]
    eset_estrogen_pmmmgmos                  html  
REDIRECT:topic	 eset_estrogen_pmmmgmos -> eset_estrogen_pmmmgmos.html [ SUCCESS ]
    eset_estrogen_rma                       html  
REDIRECT:topic	 eset_estrogen_rma -> eset_estrogen_rma.html [ SUCCESS ]
    oligo.estrogen                          html  
REDIRECT:topic	 oligo.estrogen -> oligo.estrogen.html [ SUCCESS ]
    pumapca_estrogen                        html  
REDIRECT:topic	 pumapca_estrogen -> pumapca_estrogen.html [ SUCCESS ]
** building package indices
** installing vignettes
** testing if installed package can be loaded from temporary location
** testing if installed package can be loaded from final location
** testing if installed package keeps a record of temporary installation path

install for x64

* installing *source* package 'pumadata' ...
** testing if installed package can be loaded
* MD5 sums
packaged installation of 'pumadata' as pumadata_2.27.0.zip
* DONE (pumadata)
* installing to library 'D:/biocbuild/bbs-3.13-bioc/R/library'
package 'pumadata' successfully unpacked and MD5 sums checked