Back to Multiple platform build/check report for BioC 3.13 experimental data
ABCDEFGHIJKLMNO[P]QRSTUVWXYZ

INSTALL report for prostateCancerTaylor on riesling1

This page was generated on 2021-03-01 15:56:10 -0500 (Mon, 01 Mar 2021).

To the developers/maintainers of the prostateCancerTaylor package:
Please make sure to use the following settings in order to reproduce any error or warning you see on this page.
Package 280/391HostnameOS / ArchINSTALLBUILDCHECK
prostateCancerTaylor 1.19.0
Mark Dunning
Snapshot Date: 2021-03-01 09:00:05 -0500 (Mon, 01 Mar 2021)
URL: https://git.bioconductor.org/packages/prostateCancerTaylor
Branch: master
Last Commit: 594bd01
Last Changed Date: 2020-10-27 10:18:13 -0500 (Tue, 27 Oct 2020)
rex3Linux (Ubuntu 20.04.2 LTS) / x86_64  OK    OK    OK  UNNEEDED, same version exists in internal repository
riesling1Windows Server 2019 Standard / x64  OK    OK    OK  

Summary

Package: prostateCancerTaylor
Version: 1.19.0
Command: C:\cygwin\bin\curl.exe -O http://155.52.173.35/BBS/3.13/data-experiment/src/contrib/prostateCancerTaylor_1.19.0.tar.gz && rm -rf prostateCancerTaylor.buildbin-libdir && mkdir prostateCancerTaylor.buildbin-libdir && D:\biocbuild\bbs-3.13-bioc\R\bin\R.exe CMD INSTALL --merge-multiarch --build --library=prostateCancerTaylor.buildbin-libdir prostateCancerTaylor_1.19.0.tar.gz && D:\biocbuild\bbs-3.13-bioc\R\bin\R.exe CMD INSTALL prostateCancerTaylor_1.19.0.zip && rm prostateCancerTaylor_1.19.0.tar.gz prostateCancerTaylor_1.19.0.zip
StartedAt: 2021-03-01 10:05:41 -0500 (Mon, 01 Mar 2021)
EndedAt: 2021-03-01 10:06:16 -0500 (Mon, 01 Mar 2021)
EllapsedTime: 34.7 seconds
RetCode: 0
Status:   OK   

Command output

##############################################################################
##############################################################################
###
### Running command:
###
###   C:\cygwin\bin\curl.exe -O http://155.52.173.35/BBS/3.13/data-experiment/src/contrib/prostateCancerTaylor_1.19.0.tar.gz && rm -rf prostateCancerTaylor.buildbin-libdir && mkdir prostateCancerTaylor.buildbin-libdir && D:\biocbuild\bbs-3.13-bioc\R\bin\R.exe CMD INSTALL --merge-multiarch --build --library=prostateCancerTaylor.buildbin-libdir prostateCancerTaylor_1.19.0.tar.gz && D:\biocbuild\bbs-3.13-bioc\R\bin\R.exe CMD INSTALL prostateCancerTaylor_1.19.0.zip && rm prostateCancerTaylor_1.19.0.tar.gz prostateCancerTaylor_1.19.0.zip
###
##############################################################################
##############################################################################


  % Total    % Received % Xferd  Average Speed   Time    Time     Time  Current
                                 Dload  Upload   Total   Spent    Left  Speed

  0     0    0     0    0     0      0      0 --:--:-- --:--:-- --:--:--     0
  0 25.6M    0  246k    0     0   662k      0  0:00:39 --:--:--  0:00:39  660k
 12 25.6M   12 3357k    0     0  2457k      0  0:00:10  0:00:01  0:00:09 2456k
100 25.6M  100 25.6M    0     0  10.9M      0  0:00:02  0:00:02 --:--:-- 10.9M

install for i386

* installing *source* package 'prostateCancerTaylor' ...
** using staged installation
** data
*** moving datasets to lazyload DB
** inst
** help
*** installing help indices
  converting help for package 'prostateCancerTaylor'
    finding HTML links ... done
    taylor                                  html  
REDIRECT:topic	 taylor -> taylor.html [ SUCCESS ]
** building package indices
** installing vignettes
** testing if installed package can be loaded from temporary location
** testing if installed package can be loaded from final location
** testing if installed package keeps a record of temporary installation path

install for x64

* installing *source* package 'prostateCancerTaylor' ...
** testing if installed package can be loaded
* MD5 sums
packaged installation of 'prostateCancerTaylor' as prostateCancerTaylor_1.19.0.zip
* DONE (prostateCancerTaylor)
* installing to library 'D:/biocbuild/bbs-3.13-bioc/R/library'
package 'prostateCancerTaylor' successfully unpacked and MD5 sums checked