Back to Multiple platform build/check report for BioC 3.13 experimental data |
|
This page was generated on 2021-01-21 16:01:35 -0500 (Thu, 21 Jan 2021).
TO THE DEVELOPERS/MAINTAINERS OF THE prostateCancerTaylor PACKAGE: Please make sure to use the following settings in order to reproduce any error or warning you see on this page. |
Package 276/386 | Hostname | OS / Arch | INSTALL | BUILD | CHECK | ||||||
prostateCancerTaylor 1.19.0 Mark Dunning
| malbec2 | Linux (Ubuntu 20.04.1 LTS) / x86_64 | OK | OK | OK | ![]() | |||||
riesling1 | Windows Server 2019 Standard / x64 | OK | OK | [ OK ] |
Package: prostateCancerTaylor |
Version: 1.19.0 |
Command: D:\biocbuild\bbs-3.13-bioc\R\bin\R.exe CMD check --force-multiarch --install=check:prostateCancerTaylor.install-out.txt --library=D:\biocbuild\bbs-3.13-bioc\R\library --no-vignettes --timings prostateCancerTaylor_1.19.0.tar.gz |
StartedAt: 2021-01-21 11:40:30 -0500 (Thu, 21 Jan 2021) |
EndedAt: 2021-01-21 11:40:57 -0500 (Thu, 21 Jan 2021) |
EllapsedTime: 27.1 seconds |
RetCode: 0 |
Status: OK |
CheckDir: prostateCancerTaylor.Rcheck |
Warnings: 0 |
############################################################################## ############################################################################## ### ### Running command: ### ### D:\biocbuild\bbs-3.13-bioc\R\bin\R.exe CMD check --force-multiarch --install=check:prostateCancerTaylor.install-out.txt --library=D:\biocbuild\bbs-3.13-bioc\R\library --no-vignettes --timings prostateCancerTaylor_1.19.0.tar.gz ### ############################################################################## ############################################################################## * using log directory 'D:/biocbuild/bbs-3.13-data-experiment/meat/prostateCancerTaylor.Rcheck' * using R Under development (unstable) (2020-12-30 r79736) * using platform: x86_64-w64-mingw32 (64-bit) * using session charset: ISO8859-1 * using option '--no-vignettes' * checking for file 'prostateCancerTaylor/DESCRIPTION' ... OK * checking extension type ... Package * this is package 'prostateCancerTaylor' version '1.19.0' * checking package namespace information ... OK * checking package dependencies ... OK * checking if this is a source package ... OK * checking if there is a namespace ... OK * checking for hidden files and directories ... OK * checking for portable file names ... OK * checking whether package 'prostateCancerTaylor' can be installed ... OK * checking installed package size ... NOTE installed size is 33.5Mb sub-directories of 1Mb or more: data 33.4Mb * checking package directory ... OK * checking 'build' directory ... OK * checking DESCRIPTION meta-information ... OK * checking top-level files ... OK * checking for left-over files ... OK * checking index information ... OK * checking package subdirectories ... OK * loading checks for arch 'i386' ** checking whether the package can be loaded ... OK ** checking whether the package can be loaded with stated dependencies ... OK ** checking whether the package can be unloaded cleanly ... OK ** checking whether the namespace can be loaded with stated dependencies ... OK ** checking whether the namespace can be unloaded cleanly ... OK * loading checks for arch 'x64' ** checking whether the package can be loaded ... OK ** checking whether the package can be loaded with stated dependencies ... OK ** checking whether the package can be unloaded cleanly ... OK ** checking whether the namespace can be loaded with stated dependencies ... OK ** checking whether the namespace can be unloaded cleanly ... OK * checking Rd files ... OK * checking Rd metadata ... OK * checking Rd cross-references ... OK * checking for missing documentation entries ... OK * checking for code/documentation mismatches ... OK * checking Rd \usage sections ... OK * checking Rd contents ... OK * checking for unstated dependencies in examples ... OK * checking contents of 'data' directory ... OK * checking data for non-ASCII characters ... OK * checking data for ASCII and uncompressed saves ... OK * checking files in 'vignettes' ... OK * checking examples ... NONE * checking for unstated dependencies in vignettes ... OK * checking package vignettes in 'inst/doc' ... OK * checking running R code from vignettes ... SKIPPED * checking re-building of vignette outputs ... SKIPPED * checking PDF version of manual ... OK * DONE Status: 1 NOTE See 'D:/biocbuild/bbs-3.13-data-experiment/meat/prostateCancerTaylor.Rcheck/00check.log' for details.
prostateCancerTaylor.Rcheck/00install.out
############################################################################## ############################################################################## ### ### Running command: ### ### C:\cygwin\bin\curl.exe -O http://172.29.0.4/BBS/3.13/data-experiment/src/contrib/prostateCancerTaylor_1.19.0.tar.gz && rm -rf prostateCancerTaylor.buildbin-libdir && mkdir prostateCancerTaylor.buildbin-libdir && D:\biocbuild\bbs-3.13-bioc\R\bin\R.exe CMD INSTALL --merge-multiarch --build --library=prostateCancerTaylor.buildbin-libdir prostateCancerTaylor_1.19.0.tar.gz && D:\biocbuild\bbs-3.13-bioc\R\bin\R.exe CMD INSTALL prostateCancerTaylor_1.19.0.zip && rm prostateCancerTaylor_1.19.0.tar.gz prostateCancerTaylor_1.19.0.zip ### ############################################################################## ############################################################################## % Total % Received % Xferd Average Speed Time Time Time Current Dload Upload Total Spent Left Speed 0 0 0 0 0 0 0 0 --:--:-- --:--:-- --:--:-- 0 100 25.6M 100 25.6M 0 0 81.2M 0 --:--:-- --:--:-- --:--:-- 81.2M install for i386 * installing *source* package 'prostateCancerTaylor' ... ** using staged installation ** data *** moving datasets to lazyload DB ** inst ** help *** installing help indices converting help for package 'prostateCancerTaylor' finding HTML links ... done taylor html REDIRECT:topic taylor -> taylor.html [ SUCCESS ] ** building package indices ** installing vignettes ** testing if installed package can be loaded from temporary location ** testing if installed package can be loaded from final location ** testing if installed package keeps a record of temporary installation path install for x64 * installing *source* package 'prostateCancerTaylor' ... ** testing if installed package can be loaded * MD5 sums packaged installation of 'prostateCancerTaylor' as prostateCancerTaylor_1.19.0.zip * DONE (prostateCancerTaylor) * installing to library 'D:/biocbuild/bbs-3.13-bioc/R/library' package 'prostateCancerTaylor' successfully unpacked and MD5 sums checked