Back to Multiple platform build/check report for BioC 3.13 experimental data
ABCDEFGHIJKLMNO[P]QRSTUVWXYZ

BUILD report for prostateCancerTaylor on riesling1

This page was generated on 2021-03-01 15:56:10 -0500 (Mon, 01 Mar 2021).

To the developers/maintainers of the prostateCancerTaylor package:
Please make sure to use the following settings in order to reproduce any error or warning you see on this page.
Package 280/391HostnameOS / ArchINSTALLBUILDCHECK
prostateCancerTaylor 1.19.0
Mark Dunning
Snapshot Date: 2021-03-01 09:00:05 -0500 (Mon, 01 Mar 2021)
URL: https://git.bioconductor.org/packages/prostateCancerTaylor
Branch: master
Last Commit: 594bd01
Last Changed Date: 2020-10-27 10:18:13 -0500 (Tue, 27 Oct 2020)
rex3Linux (Ubuntu 20.04.2 LTS) / x86_64  OK    OK    OK  UNNEEDED, same version exists in internal repository
riesling1Windows Server 2019 Standard / x64  OK    OK    OK  

Summary

Package: prostateCancerTaylor
Version: 1.19.0
Command: chmod a+r prostateCancerTaylor -R && D:\biocbuild\bbs-3.13-bioc\R\bin\R.exe CMD build --keep-empty-dirs --no-resave-data prostateCancerTaylor
StartedAt: 2021-03-01 11:05:16 -0500 (Mon, 01 Mar 2021)
EndedAt: 2021-03-01 11:05:42 -0500 (Mon, 01 Mar 2021)
EllapsedTime: 25.6 seconds
RetCode: 0
Status:   OK   
PackageFile: prostateCancerTaylor_1.19.0.tar.gz
PackageFileSize: 25.75 MiB

Command output

##############################################################################
##############################################################################
###
### Running command:
###
###   chmod a+r prostateCancerTaylor -R && D:\biocbuild\bbs-3.13-bioc\R\bin\R.exe CMD build --keep-empty-dirs --no-resave-data prostateCancerTaylor
###
##############################################################################
##############################################################################


* checking for file 'prostateCancerTaylor/DESCRIPTION' ... OK
* preparing 'prostateCancerTaylor':
* checking DESCRIPTION meta-information ... OK
* installing the package to build vignettes
* creating vignettes ... OK
* checking for LF line-endings in source and make files and shell scripts
* checking for empty or unneeded directories
* building 'prostateCancerTaylor_1.19.0.tar.gz'