Back to Multiple platform build/check report for BioC 3.13 experimental data
ABCDEFGHIJKLMNO[P]QRSTUVWXYZ

INSTALL report for prostateCancerStockholm on riesling1

This page was generated on 2021-01-14 15:59:10 -0500 (Thu, 14 Jan 2021).

TO THE DEVELOPERS/MAINTAINERS OF THE prostateCancerStockholm PACKAGE: Please make sure to use the following settings in order to reproduce any error or warning you see on this page.
Package 275/385HostnameOS / ArchINSTALLBUILDCHECK
prostateCancerStockholm 1.19.0
Mark Dunning
Snapshot Date: 2021-01-14 09:00:13 -0500 (Thu, 14 Jan 2021)
URL: https://git.bioconductor.org/packages/prostateCancerStockholm
Branch: master
Last Commit: 74d2ee4
Last Changed Date: 2020-10-27 10:18:16 -0500 (Tue, 27 Oct 2020)
malbec2 Linux (Ubuntu 20.04.1 LTS) / x86_64  OK  OK  OK UNNEEDED, same version exists in internal repository
riesling1 Windows Server 2019 Standard / x64 [ OK ] OK  OK 

Summary

Package: prostateCancerStockholm
Version: 1.19.0
Command: C:\cygwin\bin\curl.exe -O http://172.29.0.4/BBS/3.13/data-experiment/src/contrib/prostateCancerStockholm_1.19.0.tar.gz && rm -rf prostateCancerStockholm.buildbin-libdir && mkdir prostateCancerStockholm.buildbin-libdir && D:\biocbuild\bbs-3.13-bioc\R\bin\R.exe CMD INSTALL --merge-multiarch --build --library=prostateCancerStockholm.buildbin-libdir prostateCancerStockholm_1.19.0.tar.gz && D:\biocbuild\bbs-3.13-bioc\R\bin\R.exe CMD INSTALL prostateCancerStockholm_1.19.0.zip && rm prostateCancerStockholm_1.19.0.tar.gz prostateCancerStockholm_1.19.0.zip
StartedAt: 2021-01-14 10:02:13 -0500 (Thu, 14 Jan 2021)
EndedAt: 2021-01-14 10:02:33 -0500 (Thu, 14 Jan 2021)
EllapsedTime: 19.5 seconds
RetCode: 0
Status:  OK  

Command output

##############################################################################
##############################################################################
###
### Running command:
###
###   C:\cygwin\bin\curl.exe -O http://172.29.0.4/BBS/3.13/data-experiment/src/contrib/prostateCancerStockholm_1.19.0.tar.gz && rm -rf prostateCancerStockholm.buildbin-libdir && mkdir prostateCancerStockholm.buildbin-libdir && D:\biocbuild\bbs-3.13-bioc\R\bin\R.exe CMD INSTALL --merge-multiarch --build --library=prostateCancerStockholm.buildbin-libdir prostateCancerStockholm_1.19.0.tar.gz && D:\biocbuild\bbs-3.13-bioc\R\bin\R.exe CMD INSTALL prostateCancerStockholm_1.19.0.zip && rm prostateCancerStockholm_1.19.0.tar.gz prostateCancerStockholm_1.19.0.zip
###
##############################################################################
##############################################################################


  % Total    % Received % Xferd  Average Speed   Time    Time     Time  Current
                                 Dload  Upload   Total   Spent    Left  Speed

  0     0    0     0    0     0      0      0 --:--:-- --:--:-- --:--:--     0
100 13.4M  100 13.4M    0     0  91.8M      0 --:--:-- --:--:-- --:--:-- 91.8M

install for i386

* installing *source* package 'prostateCancerStockholm' ...
** using staged installation
** data
*** moving datasets to lazyload DB
** help
*** installing help indices
  converting help for package 'prostateCancerStockholm'
    finding HTML links ... done
    stockholm                               html  
REDIRECT:topic	 stockholm -> stockholm.html [ SUCCESS ]
** building package indices
** installing vignettes
** testing if installed package can be loaded from temporary location
** testing if installed package can be loaded from final location
** testing if installed package keeps a record of temporary installation path

install for x64

* installing *source* package 'prostateCancerStockholm' ...
** testing if installed package can be loaded
* MD5 sums
packaged installation of 'prostateCancerStockholm' as prostateCancerStockholm_1.19.0.zip
* DONE (prostateCancerStockholm)
* installing to library 'D:/biocbuild/bbs-3.13-bioc/R/library'
package 'prostateCancerStockholm' successfully unpacked and MD5 sums checked