Back to Multiple platform build/check report for BioC 3.13 experimental data
ABCDEFGHIJKLMNO[P]QRSTUVWXYZ

INSTALL report for prebsdata on riesling1

This page was generated on 2021-01-11 15:59:32 -0500 (Mon, 11 Jan 2021).

TO THE DEVELOPERS/MAINTAINERS OF THE prebsdata PACKAGE: Please make sure to use the following settings in order to reproduce any error or warning you see on this page.
Package 268/385HostnameOS / ArchINSTALLBUILDCHECK
prebsdata 1.27.0
Karolis Uziela
Snapshot Date: 2021-01-11 09:00:09 -0500 (Mon, 11 Jan 2021)
URL: https://git.bioconductor.org/packages/prebsdata
Branch: master
Last Commit: 24e7136
Last Changed Date: 2020-10-27 10:02:06 -0500 (Tue, 27 Oct 2020)
malbec2 Linux (Ubuntu 20.04.1 LTS) / x86_64  OK  OK  OK UNNEEDED, same version exists in internal repository
riesling1 Windows Server 2019 Standard / x64 [ OK ] OK  OK 

Summary

Package: prebsdata
Version: 1.27.0
Command: C:\cygwin\bin\curl.exe -O http://172.29.0.4/BBS/3.13/data-experiment/src/contrib/prebsdata_1.27.0.tar.gz && rm -rf prebsdata.buildbin-libdir && mkdir prebsdata.buildbin-libdir && D:\biocbuild\bbs-3.13-bioc\R\bin\R.exe CMD INSTALL --merge-multiarch --build --library=prebsdata.buildbin-libdir prebsdata_1.27.0.tar.gz && D:\biocbuild\bbs-3.13-bioc\R\bin\R.exe CMD INSTALL prebsdata_1.27.0.zip && rm prebsdata_1.27.0.tar.gz prebsdata_1.27.0.zip
StartedAt: 2021-01-11 09:48:48 -0500 (Mon, 11 Jan 2021)
EndedAt: 2021-01-11 09:49:20 -0500 (Mon, 11 Jan 2021)
EllapsedTime: 32.3 seconds
RetCode: 0
Status:  OK  

Command output

##############################################################################
##############################################################################
###
### Running command:
###
###   C:\cygwin\bin\curl.exe -O http://172.29.0.4/BBS/3.13/data-experiment/src/contrib/prebsdata_1.27.0.tar.gz && rm -rf prebsdata.buildbin-libdir && mkdir prebsdata.buildbin-libdir && D:\biocbuild\bbs-3.13-bioc\R\bin\R.exe CMD INSTALL --merge-multiarch --build --library=prebsdata.buildbin-libdir prebsdata_1.27.0.tar.gz && D:\biocbuild\bbs-3.13-bioc\R\bin\R.exe CMD INSTALL prebsdata_1.27.0.zip && rm prebsdata_1.27.0.tar.gz prebsdata_1.27.0.zip
###
##############################################################################
##############################################################################


  % Total    % Received % Xferd  Average Speed   Time    Time     Time  Current
                                 Dload  Upload   Total   Spent    Left  Speed

  0     0    0     0    0     0      0      0 --:--:-- --:--:-- --:--:--     0
  0     0    0     0    0     0      0      0 --:--:-- --:--:-- --:--:--     0
  2 23.9M    2  505k    0     0   442k      0  0:00:55  0:00:01  0:00:54  442k
  7 23.9M    7 1888k    0     0   892k      0  0:00:27  0:00:02  0:00:25  892k
 21 23.9M   21 5285k    0     0  1647k      0  0:00:14  0:00:03  0:00:11 1647k
100 23.9M  100 23.9M    0     0  6838k      0  0:00:03  0:00:03 --:--:-- 6838k

install for i386

* installing *source* package 'prebsdata' ...
** using staged installation
** inst
** help
No man pages found in package  'prebsdata' 
*** installing help indices
** building package indices
** installing vignettes
** testing if installed package can be loaded from temporary location
** testing if installed package can be loaded from final location
** testing if installed package keeps a record of temporary installation path

install for x64

* installing *source* package 'prebsdata' ...
** testing if installed package can be loaded
* MD5 sums
packaged installation of 'prebsdata' as prebsdata_1.27.0.zip
* DONE (prebsdata)
* installing to library 'D:/biocbuild/bbs-3.13-bioc/R/library'
package 'prebsdata' successfully unpacked and MD5 sums checked