Back to Multiple platform build/check report for BioC 3.13 experimental data
ABCDEFGHIJKLMNO[P]QRSTUVWXYZ

INSTALL report for ppiData on riesling1

This page was generated on 2021-01-14 15:59:10 -0500 (Thu, 14 Jan 2021).

TO THE DEVELOPERS/MAINTAINERS OF THE ppiData PACKAGE: Please make sure to use the following settings in order to reproduce any error or warning you see on this page.
Package 267/385HostnameOS / ArchINSTALLBUILDCHECK
ppiData 0.29.0
Bioconductor Package Maintainer
Snapshot Date: 2021-01-14 09:00:13 -0500 (Thu, 14 Jan 2021)
URL: https://git.bioconductor.org/packages/ppiData
Branch: master
Last Commit: b2d6691
Last Changed Date: 2020-10-27 09:46:51 -0500 (Tue, 27 Oct 2020)
malbec2 Linux (Ubuntu 20.04.1 LTS) / x86_64  OK  OK  WARNINGS UNNEEDED, same version exists in internal repository
riesling1 Windows Server 2019 Standard / x64 [ OK ] OK  WARNINGS 

Summary

Package: ppiData
Version: 0.29.0
Command: C:\cygwin\bin\curl.exe -O http://172.29.0.4/BBS/3.13/data-experiment/src/contrib/ppiData_0.29.0.tar.gz && rm -rf ppiData.buildbin-libdir && mkdir ppiData.buildbin-libdir && D:\biocbuild\bbs-3.13-bioc\R\bin\R.exe CMD INSTALL --merge-multiarch --build --library=ppiData.buildbin-libdir ppiData_0.29.0.tar.gz && D:\biocbuild\bbs-3.13-bioc\R\bin\R.exe CMD INSTALL ppiData_0.29.0.zip && rm ppiData_0.29.0.tar.gz ppiData_0.29.0.zip
StartedAt: 2021-01-14 10:07:31 -0500 (Thu, 14 Jan 2021)
EndedAt: 2021-01-14 10:07:49 -0500 (Thu, 14 Jan 2021)
EllapsedTime: 18.7 seconds
RetCode: 0
Status:  OK  

Command output

##############################################################################
##############################################################################
###
### Running command:
###
###   C:\cygwin\bin\curl.exe -O http://172.29.0.4/BBS/3.13/data-experiment/src/contrib/ppiData_0.29.0.tar.gz && rm -rf ppiData.buildbin-libdir && mkdir ppiData.buildbin-libdir && D:\biocbuild\bbs-3.13-bioc\R\bin\R.exe CMD INSTALL --merge-multiarch --build --library=ppiData.buildbin-libdir ppiData_0.29.0.tar.gz && D:\biocbuild\bbs-3.13-bioc\R\bin\R.exe CMD INSTALL ppiData_0.29.0.zip && rm ppiData_0.29.0.tar.gz ppiData_0.29.0.zip
###
##############################################################################
##############################################################################


  % Total    % Received % Xferd  Average Speed   Time    Time     Time  Current
                                 Dload  Upload   Total   Spent    Left  Speed

  0     0    0     0    0     0      0      0 --:--:-- --:--:-- --:--:--     0
100 2868k  100 2868k    0     0  28.2M      0 --:--:-- --:--:-- --:--:-- 28.2M

install for i386

* installing *source* package 'ppiData' ...
** using staged installation
** R
** data
*** moving datasets to lazyload DB
** inst
** byte-compile and prepare package for lazy loading
** help
*** installing help indices
  converting help for package 'ppiData'
    finding HTML links ... done
    Cagney2001BPGraph                       html  
REDIRECT:topic	 Cagney2001BPGraph -> Cagney2001BPGraph.html [ SUCCESS ]
    Gavin2002BPGraph                        html  
REDIRECT:topic	 Gavin2002BPGraph -> Gavin2002BPGraph.html [ SUCCESS ]
    Gavin2006bPGraph                        html  
REDIRECT:topic	 Gavin2006BPGraph -> Gavin2006bPGraph.html [ SUCCESS ]
    Hazbun2003BPGraph                       html  
REDIRECT:topic	 Hazbun2003BPGraph -> Hazbun2003BPGraph.html [ SUCCESS ]
    Ho2002BPGraph                           html  
REDIRECT:topic	 Ho2002BPGraph -> Ho2002BPGraph.html [ SUCCESS ]
    Ito2001BPGraph                          html  
REDIRECT:topic	 Ito2001BPGraph -> Ito2001BPGraph.html [ SUCCESS ]
    ItoCore2001BPGraph                      html  
REDIRECT:topic	 ItoCore2001BPGraph -> ItoCore2001BPGraph.html [ SUCCESS ]
    ItoFull2001BPGraph                      html  
REDIRECT:topic	 ItoFull2001BPGraph -> ItoFull2001BPGraph.html [ SUCCESS ]
    Krogan2004BPGraph                       html  
REDIRECT:topic	 Krogan2004BPGraph -> Krogan2004BPGraph.html [ SUCCESS ]
    Krogan2006BPGraph                       html  
REDIRECT:topic	 Krogan2006BPGraph -> Krogan2006BPGraph.html [ SUCCESS ]
    Tong2002BPGraph                         html  
REDIRECT:topic	 Tong2002BPGraph -> Tong2002BPGraph.html [ SUCCESS ]
    Uetz2000BPGraph1                        html  
REDIRECT:topic	 Uetz2000BPGraph1 -> Uetz2000BPGraph1.html [ SUCCESS ]
    Uetz2000BPGraph2                        html  
REDIRECT:topic	 Uetz2000BPGraph2 -> Uetz2000BPGraph2.html [ SUCCESS ]
    Zhao2005BPGraph                         html  
REDIRECT:topic	 Zhao2005BPGraph -> Zhao2005BPGraph.html [ SUCCESS ]
    bpExperimentNames                       html  
REDIRECT:topic	 bpExperimentNames -> bpExperimentNames.html [ SUCCESS ]
    collectIntactPPIData                    html  
REDIRECT:topic	 collectIntactPPIData -> collectIntactPPIData.html [ SUCCESS ]
    createBPList                            html  
REDIRECT:topic	 createBPList -> createBPList.html [ SUCCESS ]
    intAct2Sys                              html  
REDIRECT:topic	 intAct2Sys -> intAct2Sys.html [ SUCCESS ]
    intActPPIData                           html  
REDIRECT:topic	 intActPPIData -> intActPPIData.html [ SUCCESS ]
    map2Systematic                          html  
REDIRECT:topic	 map2Systematic -> map2Systematic.html [ SUCCESS ]
    map2Systematic2                         html  
REDIRECT:topic	 map2Systematic2 -> map2Systematic2.html [ SUCCESS ]
    ppipred                                 html  
REDIRECT:topic	 ppipred -> ppipred.html [ SUCCESS ]
    sWAC2Sys                                html  
REDIRECT:topic	 sWAC2Sys -> sWAC2Sys.html [ SUCCESS ]
    stochasticBaits                         html  
REDIRECT:topic	 stochasticBaits -> stochasticBaits.html [ SUCCESS ]
    tableList                               html  
REDIRECT:topic	 tableList -> tableList.html [ SUCCESS ]
    twTableAPMS                             html  
REDIRECT:topic	 twTableAPMS -> twTableAPMS.html [ SUCCESS ]
    twTableY2H                              html  
REDIRECT:topic	 twTableY2H -> twTableY2H.html [ SUCCESS ]
    viableProteins                          html  
REDIRECT:topic	 viablePrey -> viableProteins.html [ SUCCESS ]
REDIRECT:topic	 viableBaits -> viableProteins.html [ SUCCESS ]
REDIRECT:file	 viableProteins.html -> viableProteins.html [ SUCCESS ]
    y2h                                     html  
REDIRECT:topic	 y2h -> y2h.html [ SUCCESS ]
    y2hSysGW                                html  
REDIRECT:topic	 y2hSysGW -> y2hSysGW.html [ SUCCESS ]
** building package indices
** installing vignettes
** testing if installed package can be loaded from temporary location
** testing if installed package can be loaded from final location
** testing if installed package keeps a record of temporary installation path

install for x64

* installing *source* package 'ppiData' ...
** testing if installed package can be loaded
* MD5 sums
packaged installation of 'ppiData' as ppiData_0.29.0.zip
* DONE (ppiData)
* installing to library 'D:/biocbuild/bbs-3.13-bioc/R/library'
package 'ppiData' successfully unpacked and MD5 sums checked