Back to Multiple platform build/check report for BioC 3.13 experimental data
ABCDEFGHIJKLMNO[P]QRSTUVWXYZ

INSTALL report for plasFIA on riesling1

This page was generated on 2021-01-14 15:59:10 -0500 (Thu, 14 Jan 2021).

TO THE DEVELOPERS/MAINTAINERS OF THE plasFIA PACKAGE: Please make sure to use the following settings in order to reproduce any error or warning you see on this page.
Package 266/385HostnameOS / ArchINSTALLBUILDCHECK
plasFIA 1.19.1
Alexis Delabriere
Snapshot Date: 2021-01-14 09:00:13 -0500 (Thu, 14 Jan 2021)
URL: https://git.bioconductor.org/packages/plasFIA
Branch: master
Last Commit: eab8deb
Last Changed Date: 2020-12-07 08:50:10 -0500 (Mon, 07 Dec 2020)
malbec2 Linux (Ubuntu 20.04.1 LTS) / x86_64  OK  OK  WARNINGS UNNEEDED, same version exists in internal repository
riesling1 Windows Server 2019 Standard / x64 [ OK ] OK  WARNINGS 

Summary

Package: plasFIA
Version: 1.19.1
Command: C:\cygwin\bin\curl.exe -O http://172.29.0.4/BBS/3.13/data-experiment/src/contrib/plasFIA_1.19.1.tar.gz && rm -rf plasFIA.buildbin-libdir && mkdir plasFIA.buildbin-libdir && D:\biocbuild\bbs-3.13-bioc\R\bin\R.exe CMD INSTALL --merge-multiarch --build --library=plasFIA.buildbin-libdir plasFIA_1.19.1.tar.gz && D:\biocbuild\bbs-3.13-bioc\R\bin\R.exe CMD INSTALL plasFIA_1.19.1.zip && rm plasFIA_1.19.1.tar.gz plasFIA_1.19.1.zip
StartedAt: 2021-01-14 10:15:55 -0500 (Thu, 14 Jan 2021)
EndedAt: 2021-01-14 10:16:34 -0500 (Thu, 14 Jan 2021)
EllapsedTime: 39.0 seconds
RetCode: 0
Status:  OK  

Command output

##############################################################################
##############################################################################
###
### Running command:
###
###   C:\cygwin\bin\curl.exe -O http://172.29.0.4/BBS/3.13/data-experiment/src/contrib/plasFIA_1.19.1.tar.gz && rm -rf plasFIA.buildbin-libdir && mkdir plasFIA.buildbin-libdir && D:\biocbuild\bbs-3.13-bioc\R\bin\R.exe CMD INSTALL --merge-multiarch --build --library=plasFIA.buildbin-libdir plasFIA_1.19.1.tar.gz && D:\biocbuild\bbs-3.13-bioc\R\bin\R.exe CMD INSTALL plasFIA_1.19.1.zip && rm plasFIA_1.19.1.tar.gz plasFIA_1.19.1.zip
###
##############################################################################
##############################################################################


  % Total    % Received % Xferd  Average Speed   Time    Time     Time  Current
                                 Dload  Upload   Total   Spent    Left  Speed

  0     0    0     0    0     0      0      0 --:--:-- --:--:-- --:--:--     0
 52 10.2M   52 5504k    0     0  22.7M      0 --:--:-- --:--:-- --:--:-- 22.6M
100 10.2M  100 10.2M    0     0  31.6M      0 --:--:-- --:--:-- --:--:-- 31.5M

install for i386

* installing *source* package 'plasFIA' ...
** using staged installation
** R
** data
** inst
** byte-compile and prepare package for lazy loading
Warning message:
Package 'proFIA' is deprecated and will be removed from Bioconductor
  version 3.14 
** help
*** installing help indices
  converting help for package 'plasFIA'
    finding HTML links ... done
    plasFIA-package                         html  
REDIRECT:topic	 plasFIA-package -> plasFIA-package.html [ SUCCESS ]
REDIRECT:topic	 plasFIA -> plasFIA-package.html [ SUCCESS ]
    plasMols                                html  
REDIRECT:topic	 plasMols -> plasMols.html [ SUCCESS ]
    plasSamples                             html  
REDIRECT:topic	 plasSamples -> plasSamples.html [ SUCCESS ]
    plasSet                                 html  
REDIRECT:topic	 plasSet -> plasSet.html [ SUCCESS ]
** building package indices
** testing if installed package can be loaded from temporary location
Warning: Package 'proFIA' is deprecated and will be removed from Bioconductor
  version 3.14
Warning: Package 'plasFIA' is deprecated and will be removed from Bioconductor
  version 3.14
** testing if installed package can be loaded from final location
Warning: Package 'proFIA' is deprecated and will be removed from Bioconductor
  version 3.14
Warning: Package 'plasFIA' is deprecated and will be removed from Bioconductor
  version 3.14
** testing if installed package keeps a record of temporary installation path

install for x64

* installing *source* package 'plasFIA' ...
** testing if installed package can be loaded
Warning: Package 'proFIA' is deprecated and will be removed from Bioconductor
  version 3.14
Warning: Package 'plasFIA' is deprecated and will be removed from Bioconductor
  version 3.14
* MD5 sums
packaged installation of 'plasFIA' as plasFIA_1.19.1.zip
* DONE (plasFIA)
* installing to library 'D:/biocbuild/bbs-3.13-bioc/R/library'
package 'plasFIA' successfully unpacked and MD5 sums checked