Back to Multiple platform build/check report for BioC 3.13 experimental data |
|
This page was generated on 2021-01-14 15:59:10 -0500 (Thu, 14 Jan 2021).
TO THE DEVELOPERS/MAINTAINERS OF THE pepDat PACKAGE: Please make sure to use the following settings in order to reproduce any error or warning you see on this page. |
Package 263/385 | Hostname | OS / Arch | INSTALL | BUILD | CHECK | ||||||
pepDat 1.11.0 Renan Sauteraud
| malbec2 | Linux (Ubuntu 20.04.1 LTS) / x86_64 | OK | OK | OK | ![]() | |||||
riesling1 | Windows Server 2019 Standard / x64 | OK | [ OK ] | OK |
Package: pepDat |
Version: 1.11.0 |
Command: chmod a+r pepDat -R && D:\biocbuild\bbs-3.13-bioc\R\bin\R.exe CMD build --keep-empty-dirs --no-resave-data pepDat |
StartedAt: 2021-01-14 10:49:19 -0500 (Thu, 14 Jan 2021) |
EndedAt: 2021-01-14 10:49:36 -0500 (Thu, 14 Jan 2021) |
EllapsedTime: 16.6 seconds |
RetCode: 0 |
Status: OK |
PackageFile: pepDat_1.11.0.tar.gz |
PackageFileSize: 2.654 MiB |
############################################################################## ############################################################################## ### ### Running command: ### ### chmod a+r pepDat -R && D:\biocbuild\bbs-3.13-bioc\R\bin\R.exe CMD build --keep-empty-dirs --no-resave-data pepDat ### ############################################################################## ############################################################################## * checking for file 'pepDat/DESCRIPTION' ... OK * preparing 'pepDat': * checking DESCRIPTION meta-information ... OK * installing the package to build vignettes * creating vignettes ... OK * checking for LF line-endings in source and make files and shell scripts * checking for empty or unneeded directories * looking to see if a 'data/datalist' file should be added * building 'pepDat_1.11.0.tar.gz'