Back to Multiple platform build/check report for BioC 3.13 experimental data
ABCDEFGHIJKLMNO[P]QRSTUVWXYZ

INSTALL report for pd.atdschip.tiling on riesling1

This page was generated on 2021-01-14 15:59:10 -0500 (Thu, 14 Jan 2021).

TO THE DEVELOPERS/MAINTAINERS OF THE pd.atdschip.tiling PACKAGE: Please make sure to use the following settings in order to reproduce any error or warning you see on this page.
Package 262/385HostnameOS / ArchINSTALLBUILDCHECK
pd.atdschip.tiling 0.29.0
Kristof De Beuf
Snapshot Date: 2021-01-14 09:00:13 -0500 (Thu, 14 Jan 2021)
URL: https://git.bioconductor.org/packages/pd.atdschip.tiling
Branch: master
Last Commit: c41aa07
Last Changed Date: 2020-10-27 09:56:59 -0500 (Tue, 27 Oct 2020)
malbec2 Linux (Ubuntu 20.04.1 LTS) / x86_64  OK  OK  WARNINGS UNNEEDED, same version exists in internal repository
riesling1 Windows Server 2019 Standard / x64 [ OK ] OK  WARNINGS 

Summary

Package: pd.atdschip.tiling
Version: 0.29.0
Command: C:\cygwin\bin\curl.exe -O http://172.29.0.4/BBS/3.13/data-experiment/src/contrib/pd.atdschip.tiling_0.29.0.tar.gz && rm -rf pd.atdschip.tiling.buildbin-libdir && mkdir pd.atdschip.tiling.buildbin-libdir && D:\biocbuild\bbs-3.13-bioc\R\bin\R.exe CMD INSTALL --merge-multiarch --build --library=pd.atdschip.tiling.buildbin-libdir pd.atdschip.tiling_0.29.0.tar.gz && D:\biocbuild\bbs-3.13-bioc\R\bin\R.exe CMD INSTALL pd.atdschip.tiling_0.29.0.zip && rm pd.atdschip.tiling_0.29.0.tar.gz pd.atdschip.tiling_0.29.0.zip
StartedAt: 2021-01-14 10:07:17 -0500 (Thu, 14 Jan 2021)
EndedAt: 2021-01-14 10:10:00 -0500 (Thu, 14 Jan 2021)
EllapsedTime: 162.5 seconds
RetCode: 0
Status:  OK  

Command output

##############################################################################
##############################################################################
###
### Running command:
###
###   C:\cygwin\bin\curl.exe -O http://172.29.0.4/BBS/3.13/data-experiment/src/contrib/pd.atdschip.tiling_0.29.0.tar.gz && rm -rf pd.atdschip.tiling.buildbin-libdir && mkdir pd.atdschip.tiling.buildbin-libdir && D:\biocbuild\bbs-3.13-bioc\R\bin\R.exe CMD INSTALL --merge-multiarch --build --library=pd.atdschip.tiling.buildbin-libdir pd.atdschip.tiling_0.29.0.tar.gz && D:\biocbuild\bbs-3.13-bioc\R\bin\R.exe CMD INSTALL pd.atdschip.tiling_0.29.0.zip && rm pd.atdschip.tiling_0.29.0.tar.gz pd.atdschip.tiling_0.29.0.zip
###
##############################################################################
##############################################################################


  % Total    % Received % Xferd  Average Speed   Time    Time     Time  Current
                                 Dload  Upload   Total   Spent    Left  Speed

  0     0    0     0    0     0      0      0 --:--:-- --:--:-- --:--:--     0
  0  135M    0  1212    0     0   6965      0  5:40:12 --:--:--  5:40:12  6925
 52  135M   52 70.9M    0     0  68.2M      0  0:00:01  0:00:01 --:--:-- 68.2M
100  135M  100  135M    0     0  84.2M      0  0:00:01  0:00:01 --:--:-- 84.1M

install for i386

* installing *source* package 'pd.atdschip.tiling' ...
** using staged installation
** R
** data
** inst
** byte-compile and prepare package for lazy loading
** help
*** installing help indices
  converting help for package 'pd.atdschip.tiling'
    finding HTML links ... done
    pkg                                     html  
REDIRECT:topic	 pd.atdschip.tiling -> pkg.html [ SUCCESS ]
REDIRECT:file	 pkg.html -> pkg.html [ SUCCESS ]
    probeSequences                          html  
REDIRECT:topic	 pmSequence -> probeSequences.html [ SUCCESS ]
REDIRECT:topic	 data:pmSequence -> probeSequences.html [ FAIL ]
REDIRECT:topic	 bgSequence -> probeSequences.html [ SUCCESS ]
REDIRECT:topic	 data:bgSequence -> probeSequences.html [ FAIL ]
REDIRECT:topic	 mmSequence -> probeSequences.html [ SUCCESS ]
REDIRECT:topic	 data:mmSequence -> probeSequences.html [ FAIL ]
REDIRECT:file	 probeSequences.html -> probeSequences.html [ SUCCESS ]
** building package indices
** testing if installed package can be loaded from temporary location
** testing if installed package can be loaded from final location
** testing if installed package keeps a record of temporary installation path

install for x64

* installing *source* package 'pd.atdschip.tiling' ...
** testing if installed package can be loaded
* MD5 sums
packaged installation of 'pd.atdschip.tiling' as pd.atdschip.tiling_0.29.0.zip
* DONE (pd.atdschip.tiling)
* installing to library 'D:/biocbuild/bbs-3.13-bioc/R/library'
package 'pd.atdschip.tiling' successfully unpacked and MD5 sums checked