Back to Multiple platform build/check report for BioC 3.13 experimental data |
|
This page was generated on 2021-01-21 16:01:34 -0500 (Thu, 21 Jan 2021).
TO THE DEVELOPERS/MAINTAINERS OF THE pd.atdschip.tiling PACKAGE: Please make sure to use the following settings in order to reproduce any error or warning you see on this page. |
Package 262/386 | Hostname | OS / Arch | INSTALL | BUILD | CHECK | ||||||
pd.atdschip.tiling 0.29.0 Kristof De Beuf
| malbec2 | Linux (Ubuntu 20.04.1 LTS) / x86_64 | OK | OK | WARNINGS | ![]() | |||||
riesling1 | Windows Server 2019 Standard / x64 | OK | [ OK ] | WARNINGS |
Package: pd.atdschip.tiling |
Version: 0.29.0 |
Command: chmod a+r pd.atdschip.tiling -R && D:\biocbuild\bbs-3.13-bioc\R\bin\R.exe CMD build --keep-empty-dirs --no-resave-data pd.atdschip.tiling |
StartedAt: 2021-01-21 10:53:21 -0500 (Thu, 21 Jan 2021) |
EndedAt: 2021-01-21 10:55:28 -0500 (Thu, 21 Jan 2021) |
EllapsedTime: 126.4 seconds |
RetCode: 0 |
Status: OK |
PackageFile: pd.atdschip.tiling_0.29.0.tar.gz |
PackageFileSize: 134.4 MiB |
############################################################################## ############################################################################## ### ### Running command: ### ### chmod a+r pd.atdschip.tiling -R && D:\biocbuild\bbs-3.13-bioc\R\bin\R.exe CMD build --keep-empty-dirs --no-resave-data pd.atdschip.tiling ### ############################################################################## ############################################################################## * checking for file 'pd.atdschip.tiling/DESCRIPTION' ... OK * preparing 'pd.atdschip.tiling': * checking DESCRIPTION meta-information ... OK * checking for LF line-endings in source and make files and shell scripts * checking for empty or unneeded directories * looking to see if a 'data/datalist' file should be added * building 'pd.atdschip.tiling_0.29.0.tar.gz'