Back to Multiple platform build/check report for BioC 3.13 experimental data
ABCDEFGHIJKLMNO[P]QRSTUVWXYZ

INSTALL report for pasillaBamSubset on riesling1

This page was generated on 2021-01-11 15:59:32 -0500 (Mon, 11 Jan 2021).

TO THE DEVELOPERS/MAINTAINERS OF THE pasillaBamSubset PACKAGE: Please make sure to use the following settings in order to reproduce any error or warning you see on this page.
Package 257/385HostnameOS / ArchINSTALLBUILDCHECK
pasillaBamSubset 0.29.0
Hervé Pagès
Snapshot Date: 2021-01-11 09:00:09 -0500 (Mon, 11 Jan 2021)
URL: https://git.bioconductor.org/packages/pasillaBamSubset
Branch: master
Last Commit: 660e8d9
Last Changed Date: 2020-10-27 09:55:24 -0500 (Tue, 27 Oct 2020)
malbec2 Linux (Ubuntu 20.04.1 LTS) / x86_64  OK  OK  OK UNNEEDED, same version exists in internal repository
riesling1 Windows Server 2019 Standard / x64 [ OK ] OK  OK 

Summary

Package: pasillaBamSubset
Version: 0.29.0
Command: C:\cygwin\bin\curl.exe -O http://172.29.0.4/BBS/3.13/data-experiment/src/contrib/pasillaBamSubset_0.29.0.tar.gz && rm -rf pasillaBamSubset.buildbin-libdir && mkdir pasillaBamSubset.buildbin-libdir && D:\biocbuild\bbs-3.13-bioc\R\bin\R.exe CMD INSTALL --merge-multiarch --build --library=pasillaBamSubset.buildbin-libdir pasillaBamSubset_0.29.0.tar.gz && D:\biocbuild\bbs-3.13-bioc\R\bin\R.exe CMD INSTALL pasillaBamSubset_0.29.0.zip && rm pasillaBamSubset_0.29.0.tar.gz pasillaBamSubset_0.29.0.zip
StartedAt: 2021-01-11 09:48:48 -0500 (Mon, 11 Jan 2021)
EndedAt: 2021-01-11 09:49:02 -0500 (Mon, 11 Jan 2021)
EllapsedTime: 13.7 seconds
RetCode: 0
Status:  OK  

Command output

##############################################################################
##############################################################################
###
### Running command:
###
###   C:\cygwin\bin\curl.exe -O http://172.29.0.4/BBS/3.13/data-experiment/src/contrib/pasillaBamSubset_0.29.0.tar.gz && rm -rf pasillaBamSubset.buildbin-libdir && mkdir pasillaBamSubset.buildbin-libdir && D:\biocbuild\bbs-3.13-bioc\R\bin\R.exe CMD INSTALL --merge-multiarch --build --library=pasillaBamSubset.buildbin-libdir pasillaBamSubset_0.29.0.tar.gz && D:\biocbuild\bbs-3.13-bioc\R\bin\R.exe CMD INSTALL pasillaBamSubset_0.29.0.zip && rm pasillaBamSubset_0.29.0.tar.gz pasillaBamSubset_0.29.0.zip
###
##############################################################################
##############################################################################


  % Total    % Received % Xferd  Average Speed   Time    Time     Time  Current
                                 Dload  Upload   Total   Spent    Left  Speed

  0     0    0     0    0     0      0      0 --:--:-- --:--:-- --:--:--     0
  0     0    0     0    0     0      0      0 --:--:-- --:--:-- --:--:--     0
  6 15.0M    6  990k    0     0   889k      0  0:00:17  0:00:01  0:00:16  888k
 11 15.0M   11 1791k    0     0   856k      0  0:00:17  0:00:02  0:00:15  856k
 29 15.0M   29 4471k    0     0  1451k      0  0:00:10  0:00:03  0:00:07 1451k
100 15.0M  100 15.0M    0     0  4415k      0  0:00:03  0:00:03 --:--:-- 4415k

install for i386

* installing *source* package 'pasillaBamSubset' ...
** using staged installation
** R
** inst
** byte-compile and prepare package for lazy loading
** help
*** installing help indices
  converting help for package 'pasillaBamSubset'
    finding HTML links ... done
    pasillaBamSubset-package                html  
REDIRECT:topic	 pasillaBamSubset-package -> pasillaBamSubset-package.html [ SUCCESS ]
REDIRECT:topic	 pasillaBamSubset -> pasillaBamSubset-package.html [ SUCCESS ]
REDIRECT:topic	 untreated1_chr4 -> pasillaBamSubset-package.html [ SUCCESS ]
REDIRECT:topic	 untreated3_chr4 -> pasillaBamSubset-package.html [ SUCCESS ]
REDIRECT:topic	 dm3_chr4 -> pasillaBamSubset-package.html [ SUCCESS ]
** building package indices
** testing if installed package can be loaded from temporary location
** testing if installed package can be loaded from final location
** testing if installed package keeps a record of temporary installation path

install for x64

* installing *source* package 'pasillaBamSubset' ...
** testing if installed package can be loaded
* MD5 sums
packaged installation of 'pasillaBamSubset' as pasillaBamSubset_0.29.0.zip
* DONE (pasillaBamSubset)
* installing to library 'D:/biocbuild/bbs-3.13-bioc/R/library'
package 'pasillaBamSubset' successfully unpacked and MD5 sums checked