Back to Multiple platform build/check report for BioC 3.13 experimental data
ABCDEFGHIJKLMNO[P]QRSTUVWXYZ

CHECK report for pasillaBamSubset on riesling1

This page was generated on 2021-01-21 16:01:33 -0500 (Thu, 21 Jan 2021).

TO THE DEVELOPERS/MAINTAINERS OF THE pasillaBamSubset PACKAGE: Please make sure to use the following settings in order to reproduce any error or warning you see on this page.
Package 257/386HostnameOS / ArchINSTALLBUILDCHECK
pasillaBamSubset 0.29.0
Hervé Pagès
Snapshot Date: 2021-01-21 09:00:14 -0500 (Thu, 21 Jan 2021)
URL: https://git.bioconductor.org/packages/pasillaBamSubset
Branch: master
Last Commit: 660e8d9
Last Changed Date: 2020-10-27 09:55:24 -0500 (Tue, 27 Oct 2020)
malbec2 Linux (Ubuntu 20.04.1 LTS) / x86_64  OK  OK  OK UNNEEDED, same version exists in internal repository
riesling1 Windows Server 2019 Standard / x64  OK  OK [ OK ]

Summary

Package: pasillaBamSubset
Version: 0.29.0
Command: D:\biocbuild\bbs-3.13-bioc\R\bin\R.exe CMD check --force-multiarch --install=check:pasillaBamSubset.install-out.txt --library=D:\biocbuild\bbs-3.13-bioc\R\library --no-vignettes --timings pasillaBamSubset_0.29.0.tar.gz
StartedAt: 2021-01-21 11:38:42 -0500 (Thu, 21 Jan 2021)
EndedAt: 2021-01-21 11:39:01 -0500 (Thu, 21 Jan 2021)
EllapsedTime: 18.8 seconds
RetCode: 0
Status:  OK  
CheckDir: pasillaBamSubset.Rcheck
Warnings: 0

Command output

##############################################################################
##############################################################################
###
### Running command:
###
###   D:\biocbuild\bbs-3.13-bioc\R\bin\R.exe CMD check --force-multiarch --install=check:pasillaBamSubset.install-out.txt --library=D:\biocbuild\bbs-3.13-bioc\R\library --no-vignettes --timings pasillaBamSubset_0.29.0.tar.gz
###
##############################################################################
##############################################################################


* using log directory 'D:/biocbuild/bbs-3.13-data-experiment/meat/pasillaBamSubset.Rcheck'
* using R Under development (unstable) (2020-12-30 r79736)
* using platform: x86_64-w64-mingw32 (64-bit)
* using session charset: ISO8859-1
* using option '--no-vignettes'
* checking for file 'pasillaBamSubset/DESCRIPTION' ... OK
* this is package 'pasillaBamSubset' version '0.29.0'
* package encoding: UTF-8
* checking package namespace information ... OK
* checking package dependencies ... OK
* checking if this is a source package ... OK
* checking if there is a namespace ... OK
* checking for hidden files and directories ... OK
* checking for portable file names ... OK
* checking whether package 'pasillaBamSubset' can be installed ... OK
* checking installed package size ... NOTE
  installed size is 16.0Mb
  sub-directories of 1Mb or more:
    extdata  15.9Mb
* checking package directory ... OK
* checking DESCRIPTION meta-information ... OK
* checking top-level files ... OK
* checking for left-over files ... OK
* checking index information ... OK
* checking package subdirectories ... OK
* checking R files for non-ASCII characters ... OK
* checking R files for syntax errors ... OK
* loading checks for arch 'i386'
** checking whether the package can be loaded ... OK
** checking whether the package can be loaded with stated dependencies ... OK
** checking whether the package can be unloaded cleanly ... OK
** checking whether the namespace can be loaded with stated dependencies ... OK
** checking whether the namespace can be unloaded cleanly ... OK
* loading checks for arch 'x64'
** checking whether the package can be loaded ... OK
** checking whether the package can be loaded with stated dependencies ... OK
** checking whether the package can be unloaded cleanly ... OK
** checking whether the namespace can be loaded with stated dependencies ... OK
** checking whether the namespace can be unloaded cleanly ... OK
* checking dependencies in R code ... OK
* checking S3 generic/method consistency ... OK
* checking replacement functions ... OK
* checking foreign function calls ... OK
* checking R code for possible problems ... OK
* checking Rd files ... OK
* checking Rd metadata ... OK
* checking Rd cross-references ... OK
* checking for missing documentation entries ... OK
* checking for code/documentation mismatches ... OK
* checking Rd \usage sections ... OK
* checking Rd contents ... OK
* checking for unstated dependencies in examples ... OK
* checking examples ...
** running examples for arch 'i386' ... OK
** running examples for arch 'x64' ... OK
* checking PDF version of manual ... OK
* DONE

Status: 1 NOTE
See
  'D:/biocbuild/bbs-3.13-data-experiment/meat/pasillaBamSubset.Rcheck/00check.log'
for details.



Installation output

pasillaBamSubset.Rcheck/00install.out

##############################################################################
##############################################################################
###
### Running command:
###
###   C:\cygwin\bin\curl.exe -O http://172.29.0.4/BBS/3.13/data-experiment/src/contrib/pasillaBamSubset_0.29.0.tar.gz && rm -rf pasillaBamSubset.buildbin-libdir && mkdir pasillaBamSubset.buildbin-libdir && D:\biocbuild\bbs-3.13-bioc\R\bin\R.exe CMD INSTALL --merge-multiarch --build --library=pasillaBamSubset.buildbin-libdir pasillaBamSubset_0.29.0.tar.gz && D:\biocbuild\bbs-3.13-bioc\R\bin\R.exe CMD INSTALL pasillaBamSubset_0.29.0.zip && rm pasillaBamSubset_0.29.0.tar.gz pasillaBamSubset_0.29.0.zip
###
##############################################################################
##############################################################################


  % Total    % Received % Xferd  Average Speed   Time    Time     Time  Current
                                 Dload  Upload   Total   Spent    Left  Speed

  0     0    0     0    0     0      0      0 --:--:-- --:--:-- --:--:--     0
  0 15.0M    0  1214    0     0  10288      0  0:25:31 --:--:--  0:25:31 10288
 16 15.0M   16 2524k    0     0  2397k      0  0:00:06  0:00:01  0:00:05 2395k
100 15.0M  100 15.0M    0     0  10.3M      0  0:00:01  0:00:01 --:--:-- 10.3M

install for i386

* installing *source* package 'pasillaBamSubset' ...
** using staged installation
** R
** inst
** byte-compile and prepare package for lazy loading
** help
*** installing help indices
  converting help for package 'pasillaBamSubset'
    finding HTML links ... done
    pasillaBamSubset-package                html  
REDIRECT:topic	 pasillaBamSubset-package -> pasillaBamSubset-package.html [ SUCCESS ]
REDIRECT:topic	 pasillaBamSubset -> pasillaBamSubset-package.html [ SUCCESS ]
REDIRECT:topic	 untreated1_chr4 -> pasillaBamSubset-package.html [ SUCCESS ]
REDIRECT:topic	 untreated3_chr4 -> pasillaBamSubset-package.html [ SUCCESS ]
REDIRECT:topic	 dm3_chr4 -> pasillaBamSubset-package.html [ SUCCESS ]
** building package indices
** testing if installed package can be loaded from temporary location
** testing if installed package can be loaded from final location
** testing if installed package keeps a record of temporary installation path

install for x64

* installing *source* package 'pasillaBamSubset' ...
** testing if installed package can be loaded
* MD5 sums
packaged installation of 'pasillaBamSubset' as pasillaBamSubset_0.29.0.zip
* DONE (pasillaBamSubset)
* installing to library 'D:/biocbuild/bbs-3.13-bioc/R/library'
package 'pasillaBamSubset' successfully unpacked and MD5 sums checked

Tests output


Example timings

pasillaBamSubset.Rcheck/examples_i386/pasillaBamSubset-Ex.timings

nameusersystemelapsed
pasillaBamSubset-package000

pasillaBamSubset.Rcheck/examples_x64/pasillaBamSubset-Ex.timings

nameusersystemelapsed
pasillaBamSubset-package000