Back to Multiple platform build/check report for BioC 3.13 experimental data
ABCDEFGHIJKLMNO[P]QRSTUVWXYZ

BUILD report for pasillaBamSubset on riesling1

This page was generated on 2021-01-14 15:59:10 -0500 (Thu, 14 Jan 2021).

TO THE DEVELOPERS/MAINTAINERS OF THE pasillaBamSubset PACKAGE: Please make sure to use the following settings in order to reproduce any error or warning you see on this page.
Package 257/385HostnameOS / ArchINSTALLBUILDCHECK
pasillaBamSubset 0.29.0
Hervé Pagès
Snapshot Date: 2021-01-14 09:00:13 -0500 (Thu, 14 Jan 2021)
URL: https://git.bioconductor.org/packages/pasillaBamSubset
Branch: master
Last Commit: 660e8d9
Last Changed Date: 2020-10-27 09:55:24 -0500 (Tue, 27 Oct 2020)
malbec2 Linux (Ubuntu 20.04.1 LTS) / x86_64  OK  OK  OK UNNEEDED, same version exists in internal repository
riesling1 Windows Server 2019 Standard / x64  OK [ OK ] OK 

Summary

Package: pasillaBamSubset
Version: 0.29.0
Command: chmod a+r pasillaBamSubset -R && D:\biocbuild\bbs-3.13-bioc\R\bin\R.exe CMD build --keep-empty-dirs --no-resave-data pasillaBamSubset
StartedAt: 2021-01-14 10:48:59 -0500 (Thu, 14 Jan 2021)
EndedAt: 2021-01-14 10:49:03 -0500 (Thu, 14 Jan 2021)
EllapsedTime: 4.2 seconds
RetCode: 0
Status:  OK  
PackageFile: pasillaBamSubset_0.29.0.tar.gz
PackageFileSize: 15.01 MiB

Command output

##############################################################################
##############################################################################
###
### Running command:
###
###   chmod a+r pasillaBamSubset -R && D:\biocbuild\bbs-3.13-bioc\R\bin\R.exe CMD build --keep-empty-dirs --no-resave-data pasillaBamSubset
###
##############################################################################
##############################################################################


* checking for file 'pasillaBamSubset/DESCRIPTION' ... OK
* preparing 'pasillaBamSubset':
* checking DESCRIPTION meta-information ... OK
* checking for LF line-endings in source and make files and shell scripts
* checking for empty or unneeded directories
* building 'pasillaBamSubset_0.29.0.tar.gz'