Back to Multiple platform build/check report for BioC 3.13 experimental data
ABCDEFGHIJKLMNO[P]QRSTUVWXYZ

INSTALL report for pasilla on riesling1

This page was generated on 2021-01-18 15:58:49 -0500 (Mon, 18 Jan 2021).

TO THE DEVELOPERS/MAINTAINERS OF THE pasilla PACKAGE: Please make sure to use the following settings in order to reproduce any error or warning you see on this page.
Package 256/385HostnameOS / ArchINSTALLBUILDCHECK
pasilla 1.19.1
Alejandro Reyes
Snapshot Date: 2021-01-18 09:00:15 -0500 (Mon, 18 Jan 2021)
URL: https://git.bioconductor.org/packages/pasilla
Branch: master
Last Commit: d3b4885
Last Changed Date: 2020-12-23 13:08:31 -0500 (Wed, 23 Dec 2020)
malbec2 Linux (Ubuntu 20.04.1 LTS) / x86_64  OK  OK  WARNINGS UNNEEDED, same version exists in internal repository
riesling1 Windows Server 2019 Standard / x64 [ OK ] OK  WARNINGS 

Summary

Package: pasilla
Version: 1.19.1
Command: C:\cygwin\bin\curl.exe -O http://172.29.0.4/BBS/3.13/data-experiment/src/contrib/pasilla_1.19.1.tar.gz && rm -rf pasilla.buildbin-libdir && mkdir pasilla.buildbin-libdir && D:\biocbuild\bbs-3.13-bioc\R\bin\R.exe CMD INSTALL --merge-multiarch --build --library=pasilla.buildbin-libdir pasilla_1.19.1.tar.gz && D:\biocbuild\bbs-3.13-bioc\R\bin\R.exe CMD INSTALL pasilla_1.19.1.zip && rm pasilla_1.19.1.tar.gz pasilla_1.19.1.zip
StartedAt: 2021-01-18 09:48:40 -0500 (Mon, 18 Jan 2021)
EndedAt: 2021-01-18 09:48:56 -0500 (Mon, 18 Jan 2021)
EllapsedTime: 16.1 seconds
RetCode: 0
Status:  OK  

Command output

##############################################################################
##############################################################################
###
### Running command:
###
###   C:\cygwin\bin\curl.exe -O http://172.29.0.4/BBS/3.13/data-experiment/src/contrib/pasilla_1.19.1.tar.gz && rm -rf pasilla.buildbin-libdir && mkdir pasilla.buildbin-libdir && D:\biocbuild\bbs-3.13-bioc\R\bin\R.exe CMD INSTALL --merge-multiarch --build --library=pasilla.buildbin-libdir pasilla_1.19.1.tar.gz && D:\biocbuild\bbs-3.13-bioc\R\bin\R.exe CMD INSTALL pasilla_1.19.1.zip && rm pasilla_1.19.1.tar.gz pasilla_1.19.1.zip
###
##############################################################################
##############################################################################


  % Total    % Received % Xferd  Average Speed   Time    Time     Time  Current
                                 Dload  Upload   Total   Spent    Left  Speed

  0     0    0     0    0     0      0      0 --:--:-- --:--:-- --:--:--     0
  0     0    0     0    0     0      0      0 --:--:--  0:00:01 --:--:--     0
 38 3139k   38 1203k    0     0   471k      0  0:00:06  0:00:02  0:00:04  471k
 62 3139k   62 1957k    0     0   638k      0  0:00:04  0:00:03  0:00:01  638k
100 3139k  100 3139k    0     0   827k      0  0:00:03  0:00:03 --:--:--  827k

install for i386

* installing *source* package 'pasilla' ...
** using staged installation
** data
** inst
** help
*** installing help indices
  converting help for package 'pasilla'
    finding HTML links ... done
    pasillaExons                            html  
REDIRECT:topic	 pasillaDEXSeqDataSet -> pasillaExons.html [ SUCCESS ]
REDIRECT:file	 pasillaExons.html -> pasillaExons.html [ SUCCESS ]
** building package indices
** installing vignettes
** testing if installed package can be loaded from temporary location
** testing if installed package can be loaded from final location
** testing if installed package keeps a record of temporary installation path

install for x64

* installing *source* package 'pasilla' ...
** testing if installed package can be loaded
* MD5 sums
packaged installation of 'pasilla' as pasilla_1.19.1.zip
* DONE (pasilla)
* installing to library 'D:/biocbuild/bbs-3.13-bioc/R/library'
package 'pasilla' successfully unpacked and MD5 sums checked