Back to Multiple platform build/check report for BioC 3.13 experimental data
ABCDEFGHIJKLMNO[P]QRSTUVWXYZ

INSTALL report for parathyroidSE on riesling1

This page was generated on 2021-01-18 15:58:49 -0500 (Mon, 18 Jan 2021).

TO THE DEVELOPERS/MAINTAINERS OF THE parathyroidSE PACKAGE: Please make sure to use the following settings in order to reproduce any error or warning you see on this page.
Package 255/385HostnameOS / ArchINSTALLBUILDCHECK
parathyroidSE 1.29.0
Michael Love
Snapshot Date: 2021-01-18 09:00:15 -0500 (Mon, 18 Jan 2021)
URL: https://git.bioconductor.org/packages/parathyroidSE
Branch: master
Last Commit: 1681586
Last Changed Date: 2020-10-27 10:00:51 -0500 (Tue, 27 Oct 2020)
malbec2 Linux (Ubuntu 20.04.1 LTS) / x86_64  OK  OK  OK UNNEEDED, same version exists in internal repository
riesling1 Windows Server 2019 Standard / x64 [ OK ] OK  OK 

Summary

Package: parathyroidSE
Version: 1.29.0
Command: C:\cygwin\bin\curl.exe -O http://172.29.0.4/BBS/3.13/data-experiment/src/contrib/parathyroidSE_1.29.0.tar.gz && rm -rf parathyroidSE.buildbin-libdir && mkdir parathyroidSE.buildbin-libdir && D:\biocbuild\bbs-3.13-bioc\R\bin\R.exe CMD INSTALL --merge-multiarch --build --library=parathyroidSE.buildbin-libdir parathyroidSE_1.29.0.tar.gz && D:\biocbuild\bbs-3.13-bioc\R\bin\R.exe CMD INSTALL parathyroidSE_1.29.0.zip && rm parathyroidSE_1.29.0.tar.gz parathyroidSE_1.29.0.zip
StartedAt: 2021-01-18 10:08:45 -0500 (Mon, 18 Jan 2021)
EndedAt: 2021-01-18 10:09:06 -0500 (Mon, 18 Jan 2021)
EllapsedTime: 20.1 seconds
RetCode: 0
Status:  OK  

Command output

##############################################################################
##############################################################################
###
### Running command:
###
###   C:\cygwin\bin\curl.exe -O http://172.29.0.4/BBS/3.13/data-experiment/src/contrib/parathyroidSE_1.29.0.tar.gz && rm -rf parathyroidSE.buildbin-libdir && mkdir parathyroidSE.buildbin-libdir && D:\biocbuild\bbs-3.13-bioc\R\bin\R.exe CMD INSTALL --merge-multiarch --build --library=parathyroidSE.buildbin-libdir parathyroidSE_1.29.0.tar.gz && D:\biocbuild\bbs-3.13-bioc\R\bin\R.exe CMD INSTALL parathyroidSE_1.29.0.zip && rm parathyroidSE_1.29.0.tar.gz parathyroidSE_1.29.0.zip
###
##############################################################################
##############################################################################


  % Total    % Received % Xferd  Average Speed   Time    Time     Time  Current
                                 Dload  Upload   Total   Spent    Left  Speed

  0     0    0     0    0     0      0      0 --:--:-- --:--:-- --:--:--     0
100 21.0M  100 21.0M    0     0  89.2M      0 --:--:-- --:--:-- --:--:-- 89.2M

install for i386

* installing *source* package 'parathyroidSE' ...
** using staged installation
** data
** inst
** help
*** installing help indices
  converting help for package 'parathyroidSE'
    finding HTML links ... done
    exonsByGene                             html  
REDIRECT:topic	 exonsByGene -> exonsByGene.html [ SUCCESS ]
REDIRECT:topic	 exonicParts -> exonsByGene.html [ SUCCESS ]
    parathyroidGenesSE                      html  
REDIRECT:topic	 parathyroidGenesSE -> parathyroidGenesSE.html [ SUCCESS ]
REDIRECT:topic	 parathyroidExonsSE -> parathyroidGenesSE.html [ SUCCESS ]
    finding level-2 HTML links ... done

** building package indices
** installing vignettes
** testing if installed package can be loaded from temporary location
** testing if installed package can be loaded from final location
** testing if installed package keeps a record of temporary installation path

install for x64

* installing *source* package 'parathyroidSE' ...
** testing if installed package can be loaded
* MD5 sums
packaged installation of 'parathyroidSE' as parathyroidSE_1.29.0.zip
* DONE (parathyroidSE)
* installing to library 'D:/biocbuild/bbs-3.13-bioc/R/library'
package 'parathyroidSE' successfully unpacked and MD5 sums checked