Back to Multiple platform build/check report for BioC 3.13 experimental data
ABCDEFGHIJKLMNO[P]QRSTUVWXYZ

BUILD report for parathyroidSE on riesling1

This page was generated on 2021-01-21 16:01:33 -0500 (Thu, 21 Jan 2021).

TO THE DEVELOPERS/MAINTAINERS OF THE parathyroidSE PACKAGE: Please make sure to use the following settings in order to reproduce any error or warning you see on this page.
Package 255/386HostnameOS / ArchINSTALLBUILDCHECK
parathyroidSE 1.29.0
Michael Love
Snapshot Date: 2021-01-21 09:00:14 -0500 (Thu, 21 Jan 2021)
URL: https://git.bioconductor.org/packages/parathyroidSE
Branch: master
Last Commit: 1681586
Last Changed Date: 2020-10-27 10:00:51 -0500 (Tue, 27 Oct 2020)
malbec2 Linux (Ubuntu 20.04.1 LTS) / x86_64  OK  OK  OK UNNEEDED, same version exists in internal repository
riesling1 Windows Server 2019 Standard / x64  OK [ OK ] OK 

Summary

Package: parathyroidSE
Version: 1.29.0
Command: chmod a+r parathyroidSE -R && D:\biocbuild\bbs-3.13-bioc\R\bin\R.exe CMD build --keep-empty-dirs --no-resave-data parathyroidSE
StartedAt: 2021-01-21 10:52:50 -0500 (Thu, 21 Jan 2021)
EndedAt: 2021-01-21 10:53:38 -0500 (Thu, 21 Jan 2021)
EllapsedTime: 47.9 seconds
RetCode: 0
Status:  OK  
PackageFile: parathyroidSE_1.29.0.tar.gz
PackageFileSize: 21.24 MiB

Command output

##############################################################################
##############################################################################
###
### Running command:
###
###   chmod a+r parathyroidSE -R && D:\biocbuild\bbs-3.13-bioc\R\bin\R.exe CMD build --keep-empty-dirs --no-resave-data parathyroidSE
###
##############################################################################
##############################################################################


* checking for file 'parathyroidSE/DESCRIPTION' ... OK
* preparing 'parathyroidSE':
* checking DESCRIPTION meta-information ... OK
* installing the package to build vignettes
* creating vignettes ... OK
* checking for LF line-endings in source and make files and shell scripts
* checking for empty or unneeded directories
* looking to see if a 'data/datalist' file should be added
* building 'parathyroidSE_1.29.0.tar.gz'