Back to Multiple platform build/check report for BioC 3.13 experimental data |
|
This page was generated on 2021-01-21 16:01:33 -0500 (Thu, 21 Jan 2021).
TO THE DEVELOPERS/MAINTAINERS OF THE optimalFlowData PACKAGE: Please make sure to use the following settings in order to reproduce any error or warning you see on this page. |
Package 254/386 | Hostname | OS / Arch | INSTALL | BUILD | CHECK | ||||||
optimalFlowData 1.3.0 Hristo Inouzhe
| malbec2 | Linux (Ubuntu 20.04.1 LTS) / x86_64 | OK | OK | OK | ![]() | |||||
riesling1 | Windows Server 2019 Standard / x64 | OK | [ OK ] | OK |
Package: optimalFlowData |
Version: 1.3.0 |
Command: chmod a+r optimalFlowData -R && D:\biocbuild\bbs-3.13-bioc\R\bin\R.exe CMD build --keep-empty-dirs --no-resave-data optimalFlowData |
StartedAt: 2021-01-21 10:52:48 -0500 (Thu, 21 Jan 2021) |
EndedAt: 2021-01-21 10:54:02 -0500 (Thu, 21 Jan 2021) |
EllapsedTime: 74.0 seconds |
RetCode: 0 |
Status: OK |
PackageFile: optimalFlowData_1.3.0.tar.gz |
PackageFileSize: 75.61 MiB |
############################################################################## ############################################################################## ### ### Running command: ### ### chmod a+r optimalFlowData -R && D:\biocbuild\bbs-3.13-bioc\R\bin\R.exe CMD build --keep-empty-dirs --no-resave-data optimalFlowData ### ############################################################################## ############################################################################## * checking for file 'optimalFlowData/DESCRIPTION' ... OK * preparing 'optimalFlowData': * checking DESCRIPTION meta-information ... OK * installing the package to build vignettes * creating vignettes ... OK * checking for LF line-endings in source and make files and shell scripts * checking for empty or unneeded directories * building 'optimalFlowData_1.3.0.tar.gz'