Back to Multiple platform build/check report for BioC 3.13 experimental data
ABCDEFGHIJKLM[N]OPQRSTUVWXYZ

INSTALL report for nanotubes on riesling1

This page was generated on 2021-01-21 16:01:32 -0500 (Thu, 21 Jan 2021).

TO THE DEVELOPERS/MAINTAINERS OF THE nanotubes PACKAGE: Please make sure to use the following settings in order to reproduce any error or warning you see on this page.
Package 246/386HostnameOS / ArchINSTALLBUILDCHECK
nanotubes 1.7.0
Malte Thodberg
Snapshot Date: 2021-01-21 09:00:14 -0500 (Thu, 21 Jan 2021)
URL: https://git.bioconductor.org/packages/nanotubes
Branch: master
Last Commit: e9d6b69
Last Changed Date: 2020-10-27 10:29:55 -0500 (Tue, 27 Oct 2020)
malbec2 Linux (Ubuntu 20.04.1 LTS) / x86_64  OK  OK  OK UNNEEDED, same version exists in internal repository
riesling1 Windows Server 2019 Standard / x64 [ OK ] OK  OK 

Summary

Package: nanotubes
Version: 1.7.0
Command: C:\cygwin\bin\curl.exe -O http://172.29.0.4/BBS/3.13/data-experiment/src/contrib/nanotubes_1.7.0.tar.gz && rm -rf nanotubes.buildbin-libdir && mkdir nanotubes.buildbin-libdir && D:\biocbuild\bbs-3.13-bioc\R\bin\R.exe CMD INSTALL --merge-multiarch --build --library=nanotubes.buildbin-libdir nanotubes_1.7.0.tar.gz && D:\biocbuild\bbs-3.13-bioc\R\bin\R.exe CMD INSTALL nanotubes_1.7.0.zip && rm nanotubes_1.7.0.tar.gz nanotubes_1.7.0.zip
StartedAt: 2021-01-21 10:02:06 -0500 (Thu, 21 Jan 2021)
EndedAt: 2021-01-21 10:02:36 -0500 (Thu, 21 Jan 2021)
EllapsedTime: 29.7 seconds
RetCode: 0
Status:  OK  

Command output

##############################################################################
##############################################################################
###
### Running command:
###
###   C:\cygwin\bin\curl.exe -O http://172.29.0.4/BBS/3.13/data-experiment/src/contrib/nanotubes_1.7.0.tar.gz && rm -rf nanotubes.buildbin-libdir && mkdir nanotubes.buildbin-libdir && D:\biocbuild\bbs-3.13-bioc\R\bin\R.exe CMD INSTALL --merge-multiarch --build --library=nanotubes.buildbin-libdir nanotubes_1.7.0.tar.gz && D:\biocbuild\bbs-3.13-bioc\R\bin\R.exe CMD INSTALL nanotubes_1.7.0.zip && rm nanotubes_1.7.0.tar.gz nanotubes_1.7.0.zip
###
##############################################################################
##############################################################################


  % Total    % Received % Xferd  Average Speed   Time    Time     Time  Current
                                 Dload  Upload   Total   Spent    Left  Speed

  0     0    0     0    0     0      0      0 --:--:-- --:--:-- --:--:--     0
 13  117M   13 16.2M    0     0  54.5M      0  0:00:02 --:--:--  0:00:02 54.3M
100  117M  100  117M    0     0  98.4M      0  0:00:01  0:00:01 --:--:-- 98.4M

install for i386

* installing *source* package 'nanotubes' ...
** using staged installation
** R
** data
** inst
** byte-compile and prepare package for lazy loading
** help
*** installing help indices
  converting help for package 'nanotubes'
    finding HTML links ... done
    nanotubes                               html  
REDIRECT:topic	 nanotubes -> nanotubes.html [ SUCCESS ]
** building package indices
** installing vignettes
** testing if installed package can be loaded from temporary location
** testing if installed package can be loaded from final location
** testing if installed package keeps a record of temporary installation path

install for x64

* installing *source* package 'nanotubes' ...
** testing if installed package can be loaded
* MD5 sums
packaged installation of 'nanotubes' as nanotubes_1.7.0.zip
* DONE (nanotubes)
* installing to library 'D:/biocbuild/bbs-3.13-bioc/R/library'
package 'nanotubes' successfully unpacked and MD5 sums checked