Back to Multiple platform build/check report for BioC 3.13 experimental data
ABCDEFGHIJKL[M]NOPQRSTUVWXYZ

INSTALL report for mvoutData on riesling1

This page was generated on 2021-01-14 15:59:10 -0500 (Thu, 14 Jan 2021).

TO THE DEVELOPERS/MAINTAINERS OF THE mvoutData PACKAGE: Please make sure to use the following settings in order to reproduce any error or warning you see on this page.
Package 244/385HostnameOS / ArchINSTALLBUILDCHECK
mvoutData 1.27.0
VJ Carey
Snapshot Date: 2021-01-14 09:00:13 -0500 (Thu, 14 Jan 2021)
URL: https://git.bioconductor.org/packages/mvoutData
Branch: master
Last Commit: 7cfc3a6
Last Changed Date: 2020-10-27 09:51:01 -0500 (Tue, 27 Oct 2020)
malbec2 Linux (Ubuntu 20.04.1 LTS) / x86_64  OK  OK  OK UNNEEDED, same version exists in internal repository
riesling1 Windows Server 2019 Standard / x64 [ OK ] OK  OK 

Summary

Package: mvoutData
Version: 1.27.0
Command: C:\cygwin\bin\curl.exe -O http://172.29.0.4/BBS/3.13/data-experiment/src/contrib/mvoutData_1.27.0.tar.gz && rm -rf mvoutData.buildbin-libdir && mkdir mvoutData.buildbin-libdir && D:\biocbuild\bbs-3.13-bioc\R\bin\R.exe CMD INSTALL --merge-multiarch --build --library=mvoutData.buildbin-libdir mvoutData_1.27.0.tar.gz && D:\biocbuild\bbs-3.13-bioc\R\bin\R.exe CMD INSTALL mvoutData_1.27.0.zip && rm mvoutData_1.27.0.tar.gz mvoutData_1.27.0.zip
StartedAt: 2021-01-14 10:14:51 -0500 (Thu, 14 Jan 2021)
EndedAt: 2021-01-14 10:15:31 -0500 (Thu, 14 Jan 2021)
EllapsedTime: 39.7 seconds
RetCode: 0
Status:  OK  

Command output

##############################################################################
##############################################################################
###
### Running command:
###
###   C:\cygwin\bin\curl.exe -O http://172.29.0.4/BBS/3.13/data-experiment/src/contrib/mvoutData_1.27.0.tar.gz && rm -rf mvoutData.buildbin-libdir && mkdir mvoutData.buildbin-libdir && D:\biocbuild\bbs-3.13-bioc\R\bin\R.exe CMD INSTALL --merge-multiarch --build --library=mvoutData.buildbin-libdir mvoutData_1.27.0.tar.gz && D:\biocbuild\bbs-3.13-bioc\R\bin\R.exe CMD INSTALL mvoutData_1.27.0.zip && rm mvoutData_1.27.0.tar.gz mvoutData_1.27.0.zip
###
##############################################################################
##############################################################################


  % Total    % Received % Xferd  Average Speed   Time    Time     Time  Current
                                 Dload  Upload   Total   Spent    Left  Speed

  0     0    0     0    0     0      0      0 --:--:-- --:--:-- --:--:--     0
100 14.1M  100 14.1M    0     0  84.9M      0 --:--:-- --:--:-- --:--:-- 85.4M

install for i386

* installing *source* package 'mvoutData' ...
** using staged installation
** data
** help
*** installing help indices
  converting help for package 'mvoutData'
    finding HTML links ... done
    s12c                                    html  
REDIRECT:topic	 s12c -> s12c.html [ SUCCESS ]
REDIRECT:topic	 ILM1 -> s12c.html [ SUCCESS ]
** building package indices
** testing if installed package can be loaded from temporary location
No methods found in package 'RSQLite' for request: 'dbListFields' when loading 'lumi'
** testing if installed package can be loaded from final location
No methods found in package 'RSQLite' for request: 'dbListFields' when loading 'lumi'
** testing if installed package keeps a record of temporary installation path

install for x64

* installing *source* package 'mvoutData' ...
** testing if installed package can be loaded
No methods found in package 'RSQLite' for request: 'dbListFields' when loading 'lumi'
* MD5 sums
packaged installation of 'mvoutData' as mvoutData_1.27.0.zip
* DONE (mvoutData)
* installing to library 'D:/biocbuild/bbs-3.13-bioc/R/library'
package 'mvoutData' successfully unpacked and MD5 sums checked