Back to Multiple platform build/check report for BioC 3.13 experimental data
ABCDEFGHIJKL[M]NOPQRSTUVWXYZ

CHECK report for mvoutData on riesling1

This page was generated on 2021-01-21 16:01:32 -0500 (Thu, 21 Jan 2021).

TO THE DEVELOPERS/MAINTAINERS OF THE mvoutData PACKAGE: Please make sure to use the following settings in order to reproduce any error or warning you see on this page.
Package 244/386HostnameOS / ArchINSTALLBUILDCHECK
mvoutData 1.27.0
VJ Carey
Snapshot Date: 2021-01-21 09:00:14 -0500 (Thu, 21 Jan 2021)
URL: https://git.bioconductor.org/packages/mvoutData
Branch: master
Last Commit: 7cfc3a6
Last Changed Date: 2020-10-27 09:51:01 -0500 (Tue, 27 Oct 2020)
malbec2 Linux (Ubuntu 20.04.1 LTS) / x86_64  OK  OK  OK UNNEEDED, same version exists in internal repository
riesling1 Windows Server 2019 Standard / x64  OK  OK [ OK ]

Summary

Package: mvoutData
Version: 1.27.0
Command: D:\biocbuild\bbs-3.13-bioc\R\bin\R.exe CMD check --force-multiarch --install=check:mvoutData.install-out.txt --library=D:\biocbuild\bbs-3.13-bioc\R\library --no-vignettes --timings mvoutData_1.27.0.tar.gz
StartedAt: 2021-01-21 11:37:10 -0500 (Thu, 21 Jan 2021)
EndedAt: 2021-01-21 11:39:38 -0500 (Thu, 21 Jan 2021)
EllapsedTime: 147.9 seconds
RetCode: 0
Status:  OK  
CheckDir: mvoutData.Rcheck
Warnings: 0

Command output

##############################################################################
##############################################################################
###
### Running command:
###
###   D:\biocbuild\bbs-3.13-bioc\R\bin\R.exe CMD check --force-multiarch --install=check:mvoutData.install-out.txt --library=D:\biocbuild\bbs-3.13-bioc\R\library --no-vignettes --timings mvoutData_1.27.0.tar.gz
###
##############################################################################
##############################################################################


* using log directory 'D:/biocbuild/bbs-3.13-data-experiment/meat/mvoutData.Rcheck'
* using R Under development (unstable) (2020-12-30 r79736)
* using platform: x86_64-w64-mingw32 (64-bit)
* using session charset: ISO8859-1
* using option '--no-vignettes'
* checking for file 'mvoutData/DESCRIPTION' ... OK
* this is package 'mvoutData' version '1.27.0'
* checking package namespace information ... OK
* checking package dependencies ... OK
* checking if this is a source package ... OK
* checking if there is a namespace ... OK
* checking for hidden files and directories ... OK
* checking for portable file names ... OK
* checking whether package 'mvoutData' can be installed ... OK
* checking installed package size ... NOTE
  installed size is 14.2Mb
  sub-directories of 1Mb or more:
    data  14.2Mb
* checking package directory ... OK
* checking DESCRIPTION meta-information ... NOTE
Malformed Description field: should contain one or more complete sentences.
* checking top-level files ... OK
* checking for left-over files ... OK
* checking index information ... OK
* checking package subdirectories ... OK
* loading checks for arch 'i386'
** checking whether the package can be loaded ... OK
** checking whether the package can be loaded with stated dependencies ... OK
** checking whether the package can be unloaded cleanly ... OK
** checking whether the namespace can be loaded with stated dependencies ... OK
** checking whether the namespace can be unloaded cleanly ... OK
* loading checks for arch 'x64'
** checking whether the package can be loaded ... OK
** checking whether the package can be loaded with stated dependencies ... OK
** checking whether the package can be unloaded cleanly ... OK
** checking whether the namespace can be loaded with stated dependencies ... OK
** checking whether the namespace can be unloaded cleanly ... OK
* checking Rd files ... OK
* checking Rd metadata ... OK
* checking Rd cross-references ... OK
* checking for missing documentation entries ... OK
* checking for code/documentation mismatches ... OK
* checking Rd \usage sections ... OK
* checking Rd contents ... OK
* checking for unstated dependencies in examples ... OK
* checking contents of 'data' directory ... OK
* checking data for non-ASCII characters ... OK
* checking data for ASCII and uncompressed saves ... OK
* checking examples ...
** running examples for arch 'i386' ... OK
** running examples for arch 'x64' ... OK
* checking PDF version of manual ... OK
* DONE

Status: 2 NOTEs
See
  'D:/biocbuild/bbs-3.13-data-experiment/meat/mvoutData.Rcheck/00check.log'
for details.



Installation output

mvoutData.Rcheck/00install.out

##############################################################################
##############################################################################
###
### Running command:
###
###   C:\cygwin\bin\curl.exe -O http://172.29.0.4/BBS/3.13/data-experiment/src/contrib/mvoutData_1.27.0.tar.gz && rm -rf mvoutData.buildbin-libdir && mkdir mvoutData.buildbin-libdir && D:\biocbuild\bbs-3.13-bioc\R\bin\R.exe CMD INSTALL --merge-multiarch --build --library=mvoutData.buildbin-libdir mvoutData_1.27.0.tar.gz && D:\biocbuild\bbs-3.13-bioc\R\bin\R.exe CMD INSTALL mvoutData_1.27.0.zip && rm mvoutData_1.27.0.tar.gz mvoutData_1.27.0.zip
###
##############################################################################
##############################################################################


  % Total    % Received % Xferd  Average Speed   Time    Time     Time  Current
                                 Dload  Upload   Total   Spent    Left  Speed

  0     0    0     0    0     0      0      0 --:--:-- --:--:-- --:--:--     0
100 14.1M  100 14.1M    0     0  66.2M      0 --:--:-- --:--:-- --:--:-- 66.2M

install for i386

* installing *source* package 'mvoutData' ...
** using staged installation
** data
** help
*** installing help indices
  converting help for package 'mvoutData'
    finding HTML links ... done
    s12c                                    html  
REDIRECT:topic	 s12c -> s12c.html [ SUCCESS ]
REDIRECT:topic	 ILM1 -> s12c.html [ SUCCESS ]
** building package indices
** testing if installed package can be loaded from temporary location
No methods found in package 'RSQLite' for request: 'dbListFields' when loading 'lumi'
** testing if installed package can be loaded from final location
No methods found in package 'RSQLite' for request: 'dbListFields' when loading 'lumi'
** testing if installed package keeps a record of temporary installation path

install for x64

* installing *source* package 'mvoutData' ...
** testing if installed package can be loaded
No methods found in package 'RSQLite' for request: 'dbListFields' when loading 'lumi'
* MD5 sums
packaged installation of 'mvoutData' as mvoutData_1.27.0.zip
* DONE (mvoutData)
* installing to library 'D:/biocbuild/bbs-3.13-bioc/R/library'
package 'mvoutData' successfully unpacked and MD5 sums checked

Tests output


Example timings

mvoutData.Rcheck/examples_i386/mvoutData-Ex.timings

nameusersystemelapsed
s12c1.940.052.01

mvoutData.Rcheck/examples_x64/mvoutData-Ex.timings

nameusersystemelapsed
s12c1.680.091.78