Back to Multiple platform build/check report for BioC 3.13 experimental data
ABCDEFGHIJKL[M]NOPQRSTUVWXYZ

INSTALL report for mtbls2 on riesling1

This page was generated on 2021-01-14 15:59:10 -0500 (Thu, 14 Jan 2021).

TO THE DEVELOPERS/MAINTAINERS OF THE mtbls2 PACKAGE: Please make sure to use the following settings in order to reproduce any error or warning you see on this page.
Package 241/385HostnameOS / ArchINSTALLBUILDCHECK
mtbls2 1.21.1
Steffen Neumann
Snapshot Date: 2021-01-14 09:00:13 -0500 (Thu, 14 Jan 2021)
URL: https://git.bioconductor.org/packages/mtbls2
Branch: master
Last Commit: 967fb7f
Last Changed Date: 2020-11-25 14:40:58 -0500 (Wed, 25 Nov 2020)
malbec2 Linux (Ubuntu 20.04.1 LTS) / x86_64  OK  OK  OK UNNEEDED, same version exists in internal repository
riesling1 Windows Server 2019 Standard / x64 [ OK ] OK  OK 

Summary

Package: mtbls2
Version: 1.21.1
Command: C:\cygwin\bin\curl.exe -O http://172.29.0.4/BBS/3.13/data-experiment/src/contrib/mtbls2_1.21.1.tar.gz && rm -rf mtbls2.buildbin-libdir && mkdir mtbls2.buildbin-libdir && D:\biocbuild\bbs-3.13-bioc\R\bin\R.exe CMD INSTALL --merge-multiarch --build --library=mtbls2.buildbin-libdir mtbls2_1.21.1.tar.gz && D:\biocbuild\bbs-3.13-bioc\R\bin\R.exe CMD INSTALL mtbls2_1.21.1.zip && rm mtbls2_1.21.1.tar.gz mtbls2_1.21.1.zip
StartedAt: 2021-01-14 09:57:45 -0500 (Thu, 14 Jan 2021)
EndedAt: 2021-01-14 10:00:24 -0500 (Thu, 14 Jan 2021)
EllapsedTime: 159.1 seconds
RetCode: 0
Status:  OK  

Command output

##############################################################################
##############################################################################
###
### Running command:
###
###   C:\cygwin\bin\curl.exe -O http://172.29.0.4/BBS/3.13/data-experiment/src/contrib/mtbls2_1.21.1.tar.gz && rm -rf mtbls2.buildbin-libdir && mkdir mtbls2.buildbin-libdir && D:\biocbuild\bbs-3.13-bioc\R\bin\R.exe CMD INSTALL --merge-multiarch --build --library=mtbls2.buildbin-libdir mtbls2_1.21.1.tar.gz && D:\biocbuild\bbs-3.13-bioc\R\bin\R.exe CMD INSTALL mtbls2_1.21.1.zip && rm mtbls2_1.21.1.tar.gz mtbls2_1.21.1.zip
###
##############################################################################
##############################################################################


  % Total    % Received % Xferd  Average Speed   Time    Time     Time  Current
                                 Dload  Upload   Total   Spent    Left  Speed

  0     0    0     0    0     0      0      0 --:--:-- --:--:-- --:--:--     0
 44 90.1M   44 40.0M    0     0  95.6M      0 --:--:-- --:--:-- --:--:-- 95.4M
100 90.1M  100 90.1M    0     0   104M      0 --:--:-- --:--:-- --:--:--  104M

install for i386

* installing *source* package 'mtbls2' ...
** using staged installation
** R
** data
** inst
** byte-compile and prepare package for lazy loading
** help
*** installing help indices
  converting help for package 'mtbls2'
    finding HTML links ... done
    mtbls2                                  html  
REDIRECT:topic	 mtbls2Set -> mtbls2.html [ SUCCESS ]
REDIRECT:topic	 mtbls2 -> mtbls2.html [ SUCCESS ]
** building package indices
** installing vignettes
** testing if installed package can be loaded from temporary location
** testing if installed package can be loaded from final location
** testing if installed package keeps a record of temporary installation path

install for x64

* installing *source* package 'mtbls2' ...
** testing if installed package can be loaded
* MD5 sums
packaged installation of 'mtbls2' as mtbls2_1.21.1.zip
* DONE (mtbls2)
* installing to library 'D:/biocbuild/bbs-3.13-bioc/R/library'
package 'mtbls2' successfully unpacked and MD5 sums checked