Back to Multiple platform build/check report for BioC 3.13 experimental data
ABCDEFGHIJKL[M]NOPQRSTUVWXYZ

CHECK report for mtbls2 on riesling1

This page was generated on 2021-01-11 15:59:32 -0500 (Mon, 11 Jan 2021).

TO THE DEVELOPERS/MAINTAINERS OF THE mtbls2 PACKAGE: Please make sure to use the following settings in order to reproduce any error or warning you see on this page.
Package 241/385HostnameOS / ArchINSTALLBUILDCHECK
mtbls2 1.21.1
Steffen Neumann
Snapshot Date: 2021-01-11 09:00:09 -0500 (Mon, 11 Jan 2021)
URL: https://git.bioconductor.org/packages/mtbls2
Branch: master
Last Commit: 967fb7f
Last Changed Date: 2020-11-25 14:40:58 -0500 (Wed, 25 Nov 2020)
malbec2 Linux (Ubuntu 20.04.1 LTS) / x86_64  OK  OK  OK UNNEEDED, same version exists in internal repository
riesling1 Windows Server 2019 Standard / x64  OK  OK [ OK ]

Summary

Package: mtbls2
Version: 1.21.1
Command: D:\biocbuild\bbs-3.13-bioc\R\bin\R.exe CMD check --force-multiarch --install=check:mtbls2.install-out.txt --library=D:\biocbuild\bbs-3.13-bioc\R\library --no-vignettes --timings mtbls2_1.21.1.tar.gz
StartedAt: 2021-01-11 11:37:03 -0500 (Mon, 11 Jan 2021)
EndedAt: 2021-01-11 11:39:42 -0500 (Mon, 11 Jan 2021)
EllapsedTime: 159.5 seconds
RetCode: 0
Status:  OK  
CheckDir: mtbls2.Rcheck
Warnings: 0

Command output

##############################################################################
##############################################################################
###
### Running command:
###
###   D:\biocbuild\bbs-3.13-bioc\R\bin\R.exe CMD check --force-multiarch --install=check:mtbls2.install-out.txt --library=D:\biocbuild\bbs-3.13-bioc\R\library --no-vignettes --timings mtbls2_1.21.1.tar.gz
###
##############################################################################
##############################################################################


* using log directory 'D:/biocbuild/bbs-3.13-data-experiment/meat/mtbls2.Rcheck'
* using R Under development (unstable) (2020-12-30 r79736)
* using platform: x86_64-w64-mingw32 (64-bit)
* using session charset: ISO8859-1
* using option '--no-vignettes'
* checking for file 'mtbls2/DESCRIPTION' ... OK
* this is package 'mtbls2' version '1.21.1'
* package encoding: UTF-8
* checking package namespace information ... OK
* checking package dependencies ... OK
* checking if this is a source package ... OK
* checking if there is a namespace ... OK
* checking for hidden files and directories ... OK
* checking for portable file names ... OK
* checking whether package 'mtbls2' can be installed ... OK
* checking installed package size ... NOTE
  installed size is 197.3Mb
  sub-directories of 1Mb or more:
    R         4.6Mb
    data      3.0Mb
    mzData  185.6Mb
* checking package directory ... OK
* checking 'build' directory ... OK
* checking DESCRIPTION meta-information ... OK
* checking top-level files ... OK
* checking for left-over files ... OK
* checking index information ... OK
* checking package subdirectories ... OK
* checking R files for non-ASCII characters ... OK
* checking R files for syntax errors ... OK
* loading checks for arch 'i386'
** checking whether the package can be loaded ... OK
** checking whether the package can be loaded with stated dependencies ... OK
** checking whether the package can be unloaded cleanly ... OK
** checking whether the namespace can be loaded with stated dependencies ... OK
** checking whether the namespace can be unloaded cleanly ... OK
* loading checks for arch 'x64'
** checking whether the package can be loaded ... OK
** checking whether the package can be loaded with stated dependencies ... OK
** checking whether the package can be unloaded cleanly ... OK
** checking whether the namespace can be loaded with stated dependencies ... OK
** checking whether the namespace can be unloaded cleanly ... OK
* checking dependencies in R code ... OK
* checking S3 generic/method consistency ... OK
* checking replacement functions ... OK
* checking foreign function calls ... OK
* checking R code for possible problems ... OK
* checking Rd files ... OK
* checking Rd metadata ... OK
* checking Rd cross-references ... OK
* checking for missing documentation entries ... OK
* checking for code/documentation mismatches ... OK
* checking Rd \usage sections ... OK
* checking Rd contents ... OK
* checking for unstated dependencies in examples ... OK
* checking contents of 'data' directory ... OK
* checking data for non-ASCII characters ... OK
* checking data for ASCII and uncompressed saves ... OK
* checking files in 'vignettes' ... OK
* checking examples ...
** running examples for arch 'i386' ... OK
** running examples for arch 'x64' ... OK
* checking for unstated dependencies in vignettes ... OK
* checking package vignettes in 'inst/doc' ... OK
* checking running R code from vignettes ... SKIPPED
* checking re-building of vignette outputs ... SKIPPED
* checking PDF version of manual ... OK
* DONE

Status: 1 NOTE
See
  'D:/biocbuild/bbs-3.13-data-experiment/meat/mtbls2.Rcheck/00check.log'
for details.



Installation output

mtbls2.Rcheck/00install.out

##############################################################################
##############################################################################
###
### Running command:
###
###   C:\cygwin\bin\curl.exe -O http://172.29.0.4/BBS/3.13/data-experiment/src/contrib/mtbls2_1.21.1.tar.gz && rm -rf mtbls2.buildbin-libdir && mkdir mtbls2.buildbin-libdir && D:\biocbuild\bbs-3.13-bioc\R\bin\R.exe CMD INSTALL --merge-multiarch --build --library=mtbls2.buildbin-libdir mtbls2_1.21.1.tar.gz && D:\biocbuild\bbs-3.13-bioc\R\bin\R.exe CMD INSTALL mtbls2_1.21.1.zip && rm mtbls2_1.21.1.tar.gz mtbls2_1.21.1.zip
###
##############################################################################
##############################################################################


  % Total    % Received % Xferd  Average Speed   Time    Time     Time  Current
                                 Dload  Upload   Total   Spent    Left  Speed

  0     0    0     0    0     0      0      0 --:--:-- --:--:-- --:--:--     0
 37 90.1M   37 34.0M    0     0  91.1M      0 --:--:-- --:--:-- --:--:-- 90.9M
100 90.1M  100 90.1M    0     0   103M      0 --:--:-- --:--:-- --:--:--  103M

install for i386

* installing *source* package 'mtbls2' ...
** using staged installation
** R
** data
** inst
** byte-compile and prepare package for lazy loading
** help
*** installing help indices
  converting help for package 'mtbls2'
    finding HTML links ... done
    mtbls2                                  html  
REDIRECT:topic	 mtbls2Set -> mtbls2.html [ SUCCESS ]
REDIRECT:topic	 mtbls2 -> mtbls2.html [ SUCCESS ]
** building package indices
** installing vignettes
** testing if installed package can be loaded from temporary location
** testing if installed package can be loaded from final location
** testing if installed package keeps a record of temporary installation path

install for x64

* installing *source* package 'mtbls2' ...
** testing if installed package can be loaded
* MD5 sums
packaged installation of 'mtbls2' as mtbls2_1.21.1.zip
* DONE (mtbls2)
* installing to library 'D:/biocbuild/bbs-3.13-bioc/R/library'
package 'mtbls2' successfully unpacked and MD5 sums checked

Tests output


Example timings

mtbls2.Rcheck/examples_i386/mtbls2-Ex.timings

nameusersystemelapsed
mtbls20.410.000.41

mtbls2.Rcheck/examples_x64/mtbls2-Ex.timings

nameusersystemelapsed
mtbls20.330.030.36