Back to Multiple platform build/check report for BioC 3.13 experimental data |
|
This page was generated on 2021-01-21 16:01:32 -0500 (Thu, 21 Jan 2021).
TO THE DEVELOPERS/MAINTAINERS OF THE msqc1 PACKAGE: Please make sure to use the following settings in order to reproduce any error or warning you see on this page. |
Package 239/386 | Hostname | OS / Arch | INSTALL | BUILD | CHECK | ||||||
msqc1 1.19.0 Christian Panse
| malbec2 | Linux (Ubuntu 20.04.1 LTS) / x86_64 | OK | OK | OK | ![]() | |||||
riesling1 | Windows Server 2019 Standard / x64 | [ OK ] | OK | OK |
Package: msqc1 |
Version: 1.19.0 |
Command: C:\cygwin\bin\curl.exe -O http://172.29.0.4/BBS/3.13/data-experiment/src/contrib/msqc1_1.19.0.tar.gz && rm -rf msqc1.buildbin-libdir && mkdir msqc1.buildbin-libdir && D:\biocbuild\bbs-3.13-bioc\R\bin\R.exe CMD INSTALL --merge-multiarch --build --library=msqc1.buildbin-libdir msqc1_1.19.0.tar.gz && D:\biocbuild\bbs-3.13-bioc\R\bin\R.exe CMD INSTALL msqc1_1.19.0.zip && rm msqc1_1.19.0.tar.gz msqc1_1.19.0.zip |
StartedAt: 2021-01-21 10:04:52 -0500 (Thu, 21 Jan 2021) |
EndedAt: 2021-01-21 10:05:49 -0500 (Thu, 21 Jan 2021) |
EllapsedTime: 56.2 seconds |
RetCode: 0 |
Status: OK |
############################################################################## ############################################################################## ### ### Running command: ### ### C:\cygwin\bin\curl.exe -O http://172.29.0.4/BBS/3.13/data-experiment/src/contrib/msqc1_1.19.0.tar.gz && rm -rf msqc1.buildbin-libdir && mkdir msqc1.buildbin-libdir && D:\biocbuild\bbs-3.13-bioc\R\bin\R.exe CMD INSTALL --merge-multiarch --build --library=msqc1.buildbin-libdir msqc1_1.19.0.tar.gz && D:\biocbuild\bbs-3.13-bioc\R\bin\R.exe CMD INSTALL msqc1_1.19.0.zip && rm msqc1_1.19.0.tar.gz msqc1_1.19.0.zip ### ############################################################################## ############################################################################## % Total % Received % Xferd Average Speed Time Time Time Current Dload Upload Total Spent Left Speed 0 0 0 0 0 0 0 0 --:--:-- --:--:-- --:--:-- 0 100 887k 100 887k 0 0 32.0M 0 --:--:-- --:--:-- --:--:-- 32.0M install for i386 * installing *source* package 'msqc1' ... ** using staged installation ** R ** data *** moving datasets to lazyload DB ** inst ** byte-compile and prepare package for lazy loading ** help *** installing help indices converting help for package 'msqc1' finding HTML links ... done msqc1-package html REDIRECT:topic msqc1-package -> msqc1-package.html [ SUCCESS ] REDIRECT:topic msqc1 -> msqc1-package.html [ SUCCESS ] msqc1_8rep html REDIRECT:topic msqc1_8rep -> msqc1_8rep.html [ SUCCESS ] msqc1_8rep_QEXACTIVEHF_assayDevel html REDIRECT:topic msqc1_8rep_QEXACTIVEHF_assayDevel -> msqc1_8rep_QEXACTIVEHF_assayDevel.html [ SUCCESS ] msqc1_8rep_tripleTOF5600_assayDevel html REDIRECT:topic msqc1_8rep_tripleTOF5600_assayDevel -> msqc1_8rep_tripleTOF5600_assayDevel.html [ SUCCESS ] msqc1_dil html REDIRECT:topic msqc1_dil -> msqc1_dil.html [ SUCCESS ] msqc1_userstudy html REDIRECT:topic msqc1_userstudy -> msqc1_userstudy.html [ SUCCESS ] peptides html REDIRECT:topic peptides -> peptides.html [ SUCCESS ] ** building package indices ** installing vignettes ** testing if installed package can be loaded from temporary location ** testing if installed package can be loaded from final location ** testing if installed package keeps a record of temporary installation path install for x64 * installing *source* package 'msqc1' ... ** testing if installed package can be loaded * MD5 sums packaged installation of 'msqc1' as msqc1_1.19.0.zip * DONE (msqc1) * installing to library 'D:/biocbuild/bbs-3.13-bioc/R/library' package 'msqc1' successfully unpacked and MD5 sums checked