Back to Multiple platform build/check report for BioC 3.13 experimental data
ABCDEFGHIJKL[M]NOPQRSTUVWXYZ

INSTALL report for msdata on riesling1

This page was generated on 2021-01-21 16:01:31 -0500 (Thu, 21 Jan 2021).

TO THE DEVELOPERS/MAINTAINERS OF THE msdata PACKAGE: Please make sure to use the following settings in order to reproduce any error or warning you see on this page.
Package 236/386HostnameOS / ArchINSTALLBUILDCHECK
msdata 0.31.1
Steffen Neumann , Laurent Gatto
Snapshot Date: 2021-01-21 09:00:14 -0500 (Thu, 21 Jan 2021)
URL: https://git.bioconductor.org/packages/msdata
Branch: master
Last Commit: d1cc52d
Last Changed Date: 2020-12-29 12:36:57 -0500 (Tue, 29 Dec 2020)
malbec2 Linux (Ubuntu 20.04.1 LTS) / x86_64  OK  OK  OK UNNEEDED, same version exists in internal repository
riesling1 Windows Server 2019 Standard / x64 [ OK ] OK  OK 

Summary

Package: msdata
Version: 0.31.1
Command: C:\cygwin\bin\curl.exe -O http://172.29.0.4/BBS/3.13/data-experiment/src/contrib/msdata_0.31.1.tar.gz && rm -rf msdata.buildbin-libdir && mkdir msdata.buildbin-libdir && D:\biocbuild\bbs-3.13-bioc\R\bin\R.exe CMD INSTALL --merge-multiarch --build --library=msdata.buildbin-libdir msdata_0.31.1.tar.gz && D:\biocbuild\bbs-3.13-bioc\R\bin\R.exe CMD INSTALL msdata_0.31.1.zip && rm msdata_0.31.1.tar.gz msdata_0.31.1.zip
StartedAt: 2021-01-21 09:51:40 -0500 (Thu, 21 Jan 2021)
EndedAt: 2021-01-21 09:58:11 -0500 (Thu, 21 Jan 2021)
EllapsedTime: 391.5 seconds
RetCode: 0
Status:  OK  

Command output

##############################################################################
##############################################################################
###
### Running command:
###
###   C:\cygwin\bin\curl.exe -O http://172.29.0.4/BBS/3.13/data-experiment/src/contrib/msdata_0.31.1.tar.gz && rm -rf msdata.buildbin-libdir && mkdir msdata.buildbin-libdir && D:\biocbuild\bbs-3.13-bioc\R\bin\R.exe CMD INSTALL --merge-multiarch --build --library=msdata.buildbin-libdir msdata_0.31.1.tar.gz && D:\biocbuild\bbs-3.13-bioc\R\bin\R.exe CMD INSTALL msdata_0.31.1.zip && rm msdata_0.31.1.tar.gz msdata_0.31.1.zip
###
##############################################################################
##############################################################################


  % Total    % Received % Xferd  Average Speed   Time    Time     Time  Current
                                 Dload  Upload   Total   Spent    Left  Speed

  0     0    0     0    0     0      0      0 --:--:-- --:--:-- --:--:--     0
  0  425M    0  792k    0     0   793k      0  0:09:09 --:--:--  0:09:09  792k
  0  425M    0 3703k    0     0  2032k      0  0:03:34  0:00:01  0:03:33 2031k
  1  425M    1 4821k    0     0  1536k      0  0:04:43  0:00:03  0:04:40 1536k
  5  425M    5 24.9M    0     0  6766k      0  0:01:04  0:00:03  0:01:01 6764k
  7  425M    7 31.3M    0     0  6667k      0  0:01:05  0:00:04  0:01:01 6667k
 11  425M   11 47.3M    0     0  8375k      0  0:00:52  0:00:05  0:00:47 9955k
 18  425M   18 77.1M    0     0  11.0M      0  0:00:38  0:00:07  0:00:31 14.1M
 18  425M   18 78.7M    0     0  10.1M      0  0:00:42  0:00:07  0:00:35 15.9M
 19  425M   19 81.8M    0     0  9522k      0  0:00:45  0:00:08  0:00:37 11.3M
 19  425M   19 84.8M    0     0  8879k      0  0:00:49  0:00:09  0:00:40 10.7M
 20  425M   20 88.0M    0     0  8323k      0  0:00:52  0:00:10  0:00:42 8266k
 22  425M   22 94.6M    0     0  7836k      0  0:00:55  0:00:12  0:00:43 3346k
 22  425M   22 96.1M    0     0  7268k      0  0:01:00  0:00:13  0:00:47 3097k
 22  425M   22 96.1M    0     0  7125k      0  0:01:01  0:00:13  0:00:48 2919k
 23  425M   23 99.4M    0     0  6691k      0  0:01:05  0:00:15  0:00:50 2749k
 30  425M   30  128M    0     0  8361k      0  0:00:52  0:00:15  0:00:37 8444k
 40  425M   40  172M    0     0  10.2M      0  0:00:41  0:00:16  0:00:25 17.6M
 46  425M   46  197M    0     0  10.6M      0  0:00:39  0:00:18  0:00:21 20.6M
 47  425M   47  200M    0     0  10.6M      0  0:00:40  0:00:18  0:00:22 20.6M
 58  425M   58  247M    0     0  12.5M      0  0:00:34  0:00:19  0:00:15 32.5M
 61  425M   61  262M    0     0  12.6M      0  0:00:33  0:00:20  0:00:13 26.4M
 62  425M   62  265M    0     0  12.2M      0  0:00:34  0:00:21  0:00:13 18.6M
 62  425M   62  267M    0     0  11.7M      0  0:00:36  0:00:22  0:00:14 16.2M
 63  425M   63  270M    0     0  11.3M      0  0:00:37  0:00:23  0:00:14 14.2M
 64  425M   64  276M    0     0  11.1M      0  0:00:38  0:00:24  0:00:14 5853k
 65  425M   65  280M    0     0  10.7M      0  0:00:39  0:00:26  0:00:13 3386k
 68  425M   68  293M    0     0  10.6M      0  0:00:39  0:00:27  0:00:12 5025k
 68  425M   68  293M    0     0  10.5M      0  0:00:40  0:00:27  0:00:13 5314k
 69  425M   69  297M    0     0  10.1M      0  0:00:41  0:00:29  0:00:12 4957k
 70  425M   70  298M    0     0  10.0M      0  0:00:42  0:00:29  0:00:13 4510k
 76  425M   76  324M    0     0  10.5M      0  0:00:40  0:00:30  0:00:10 9750k
 93  425M   93  397M    0     0  12.5M      0  0:00:34  0:00:31  0:00:03 24.0M
100  425M  100  425M    0     0  13.2M      0  0:00:32  0:00:32 --:--:-- 29.4M

install for i386

* installing *source* package 'msdata' ...
** using staged installation
** R
** data
** inst
** byte-compile and prepare package for lazy loading
** help
*** installing help indices
  converting help for package 'msdata'
    finding HTML links ... done
    msdata                                  html  
REDIRECT:topic	 msdata -> msdata.html [ SUCCESS ]
REDIRECT:topic	 xs -> msdata.html [ SUCCESS ]
REDIRECT:topic	 x -> msdata.html [ SUCCESS ]
    proteomics                              html  
REDIRECT:topic	 proteomics -> proteomics.html [ SUCCESS ]
REDIRECT:topic	 ident -> proteomics.html [ SUCCESS ]
REDIRECT:topic	 quant -> proteomics.html [ SUCCESS ]
REDIRECT:topic	 fdms3tmt11 -> proteomics.html [ SUCCESS ]
    sciexdata                               html  
REDIRECT:topic	 sciexdata -> sciexdata.html [ SUCCESS ]
** building package indices
** testing if installed package can be loaded from temporary location
** testing if installed package can be loaded from final location
** testing if installed package keeps a record of temporary installation path

install for x64

* installing *source* package 'msdata' ...
** testing if installed package can be loaded
* MD5 sums
packaged installation of 'msdata' as msdata_0.31.1.zip
* DONE (msdata)
* installing to library 'D:/biocbuild/bbs-3.13-bioc/R/library'
package 'msdata' successfully unpacked and MD5 sums checked