Back to Multiple platform build/check report for BioC 3.13 experimental data
ABCDEFGHIJKL[M]NOPQRSTUVWXYZ

INSTALL report for msd16s on riesling1

This page was generated on 2021-01-21 16:01:31 -0500 (Thu, 21 Jan 2021).

TO THE DEVELOPERS/MAINTAINERS OF THE msd16s PACKAGE: Please make sure to use the following settings in order to reproduce any error or warning you see on this page.
Package 235/386HostnameOS / ArchINSTALLBUILDCHECK
msd16s 1.11.0
Joseph N. Paulson
Snapshot Date: 2021-01-21 09:00:14 -0500 (Thu, 21 Jan 2021)
URL: https://git.bioconductor.org/packages/msd16s
Branch: master
Last Commit: b9470df
Last Changed Date: 2020-10-27 10:09:17 -0500 (Tue, 27 Oct 2020)
malbec2 Linux (Ubuntu 20.04.1 LTS) / x86_64  OK  OK  OK UNNEEDED, same version exists in internal repository
riesling1 Windows Server 2019 Standard / x64 [ OK ] OK  OK 

Summary

Package: msd16s
Version: 1.11.0
Command: C:\cygwin\bin\curl.exe -O http://172.29.0.4/BBS/3.13/data-experiment/src/contrib/msd16s_1.11.0.tar.gz && rm -rf msd16s.buildbin-libdir && mkdir msd16s.buildbin-libdir && D:\biocbuild\bbs-3.13-bioc\R\bin\R.exe CMD INSTALL --merge-multiarch --build --library=msd16s.buildbin-libdir msd16s_1.11.0.tar.gz && D:\biocbuild\bbs-3.13-bioc\R\bin\R.exe CMD INSTALL msd16s_1.11.0.zip && rm msd16s_1.11.0.tar.gz msd16s_1.11.0.zip
StartedAt: 2021-01-21 10:09:53 -0500 (Thu, 21 Jan 2021)
EndedAt: 2021-01-21 10:10:07 -0500 (Thu, 21 Jan 2021)
EllapsedTime: 14.5 seconds
RetCode: 0
Status:  OK  

Command output

##############################################################################
##############################################################################
###
### Running command:
###
###   C:\cygwin\bin\curl.exe -O http://172.29.0.4/BBS/3.13/data-experiment/src/contrib/msd16s_1.11.0.tar.gz && rm -rf msd16s.buildbin-libdir && mkdir msd16s.buildbin-libdir && D:\biocbuild\bbs-3.13-bioc\R\bin\R.exe CMD INSTALL --merge-multiarch --build --library=msd16s.buildbin-libdir msd16s_1.11.0.tar.gz && D:\biocbuild\bbs-3.13-bioc\R\bin\R.exe CMD INSTALL msd16s_1.11.0.zip && rm msd16s_1.11.0.tar.gz msd16s_1.11.0.zip
###
##############################################################################
##############################################################################


  % Total    % Received % Xferd  Average Speed   Time    Time     Time  Current
                                 Dload  Upload   Total   Spent    Left  Speed

  0     0    0     0    0     0      0      0 --:--:-- --:--:-- --:--:--     0
100 1728k  100 1728k    0     0  4388k      0 --:--:-- --:--:-- --:--:-- 4388k

install for i386

* installing *source* package 'msd16s' ...
** using staged installation
** data
*** moving datasets to lazyload DB
** inst
** help
*** installing help indices
  converting help for package 'msd16s'
    finding HTML links ... done
    msd16s-package                          html  
REDIRECT:topic	 msd16s-package -> msd16s-package.html [ SUCCESS ]
    msd16s                                  html  
REDIRECT:topic	 msd16s -> msd16s.html [ SUCCESS ]
    finding level-2 HTML links ... done

** building package indices
** installing vignettes
** testing if installed package can be loaded from temporary location
** testing if installed package can be loaded from final location
** testing if installed package keeps a record of temporary installation path

install for x64

* installing *source* package 'msd16s' ...
** testing if installed package can be loaded
* MD5 sums
packaged installation of 'msd16s' as msd16s_1.11.0.zip
* DONE (msd16s)
* installing to library 'D:/biocbuild/bbs-3.13-bioc/R/library'
package 'msd16s' successfully unpacked and MD5 sums checked