Back to Multiple platform build/check report for BioC 3.13 experimental data |
|
This page was generated on 2021-01-14 15:59:09 -0500 (Thu, 14 Jan 2021).
TO THE DEVELOPERS/MAINTAINERS OF THE mouse4302barcodevecs PACKAGE: Please make sure to use the following settings in order to reproduce any error or warning you see on this page. |
Package 233/385 | Hostname | OS / Arch | INSTALL | BUILD | CHECK | ||||||
mouse4302barcodevecs 1.29.0 Matthew N. McCall
| malbec2 | Linux (Ubuntu 20.04.1 LTS) / x86_64 | OK | OK | OK | ![]() | |||||
riesling1 | Windows Server 2019 Standard / x64 | OK | [ OK ] | OK |
Package: mouse4302barcodevecs |
Version: 1.29.0 |
Command: chmod a+r mouse4302barcodevecs -R && D:\biocbuild\bbs-3.13-bioc\R\bin\R.exe CMD build --keep-empty-dirs --no-resave-data mouse4302barcodevecs |
StartedAt: 2021-01-14 10:45:56 -0500 (Thu, 14 Jan 2021) |
EndedAt: 2021-01-14 10:45:58 -0500 (Thu, 14 Jan 2021) |
EllapsedTime: 2.2 seconds |
RetCode: 0 |
Status: OK |
PackageFile: mouse4302barcodevecs_1.29.0.tar.gz |
PackageFileSize: 1021 KiB |
############################################################################## ############################################################################## ### ### Running command: ### ### chmod a+r mouse4302barcodevecs -R && D:\biocbuild\bbs-3.13-bioc\R\bin\R.exe CMD build --keep-empty-dirs --no-resave-data mouse4302barcodevecs ### ############################################################################## ############################################################################## * checking for file 'mouse4302barcodevecs/DESCRIPTION' ... OK * preparing 'mouse4302barcodevecs': * checking DESCRIPTION meta-information ... OK * checking for LF line-endings in source and make files and shell scripts * checking for empty or unneeded directories * looking to see if a 'data/datalist' file should be added * building 'mouse4302barcodevecs_1.29.0.tar.gz'