Back to Multiple platform build/check report for BioC 3.13 experimental data
ABCDEFGHIJKL[M]NOPQRSTUVWXYZ

INSTALL report for minionSummaryData on riesling1

This page was generated on 2021-01-11 15:59:32 -0500 (Mon, 11 Jan 2021).

TO THE DEVELOPERS/MAINTAINERS OF THE minionSummaryData PACKAGE: Please make sure to use the following settings in order to reproduce any error or warning you see on this page.
Package 226/385HostnameOS / ArchINSTALLBUILDCHECK
minionSummaryData 1.21.0
Mike Smith
Snapshot Date: 2021-01-11 09:00:09 -0500 (Mon, 11 Jan 2021)
URL: https://git.bioconductor.org/packages/minionSummaryData
Branch: master
Last Commit: 83f642b
Last Changed Date: 2020-10-27 10:13:32 -0500 (Tue, 27 Oct 2020)
malbec2 Linux (Ubuntu 20.04.1 LTS) / x86_64  OK  OK  OK UNNEEDED, same version exists in internal repository
riesling1 Windows Server 2019 Standard / x64 [ OK ] OK  OK 

Summary

Package: minionSummaryData
Version: 1.21.0
Command: C:\cygwin\bin\curl.exe -O http://172.29.0.4/BBS/3.13/data-experiment/src/contrib/minionSummaryData_1.21.0.tar.gz && rm -rf minionSummaryData.buildbin-libdir && mkdir minionSummaryData.buildbin-libdir && D:\biocbuild\bbs-3.13-bioc\R\bin\R.exe CMD INSTALL --merge-multiarch --build --library=minionSummaryData.buildbin-libdir minionSummaryData_1.21.0.tar.gz && D:\biocbuild\bbs-3.13-bioc\R\bin\R.exe CMD INSTALL minionSummaryData_1.21.0.zip && rm minionSummaryData_1.21.0.tar.gz minionSummaryData_1.21.0.zip
StartedAt: 2021-01-11 09:51:21 -0500 (Mon, 11 Jan 2021)
EndedAt: 2021-01-11 09:51:44 -0500 (Mon, 11 Jan 2021)
EllapsedTime: 23.2 seconds
RetCode: 0
Status:  OK  

Command output

##############################################################################
##############################################################################
###
### Running command:
###
###   C:\cygwin\bin\curl.exe -O http://172.29.0.4/BBS/3.13/data-experiment/src/contrib/minionSummaryData_1.21.0.tar.gz && rm -rf minionSummaryData.buildbin-libdir && mkdir minionSummaryData.buildbin-libdir && D:\biocbuild\bbs-3.13-bioc\R\bin\R.exe CMD INSTALL --merge-multiarch --build --library=minionSummaryData.buildbin-libdir minionSummaryData_1.21.0.tar.gz && D:\biocbuild\bbs-3.13-bioc\R\bin\R.exe CMD INSTALL minionSummaryData_1.21.0.zip && rm minionSummaryData_1.21.0.tar.gz minionSummaryData_1.21.0.zip
###
##############################################################################
##############################################################################


  % Total    % Received % Xferd  Average Speed   Time    Time     Time  Current
                                 Dload  Upload   Total   Spent    Left  Speed

  0     0    0     0    0     0      0      0 --:--:-- --:--:-- --:--:--     0
  2  134M    2 2762k    0     0  2716k      0  0:00:50  0:00:01  0:00:49 2716k
  5  134M    5 6978k    0     0  3307k      0  0:00:41  0:00:02  0:00:39 3309k
 16  134M   16 22.1M    0     0  7589k      0  0:00:18  0:00:02  0:00:16 7587k
 56  134M   56 75.7M    0     0  18.4M      0  0:00:07  0:00:04  0:00:03 18.4M
 78  134M   78  105M    0     0  20.7M      0  0:00:06  0:00:05  0:00:01 20.8M
100  134M  100  134M    0     0  23.6M      0  0:00:05  0:00:05 --:--:-- 28.2M

install for i386

* installing *source* package 'minionSummaryData' ...
** using staged installation
** data
** help
*** installing help indices
  converting help for package 'minionSummaryData'
    finding HTML links ... done
    minionSummaryData                       html  
REDIRECT:topic	 s.typhi.rep1 -> minionSummaryData.html [ SUCCESS ]
REDIRECT:topic	 s.typhi.rep2 -> minionSummaryData.html [ SUCCESS ]
REDIRECT:topic	 s.typhi.rep3 -> minionSummaryData.html [ SUCCESS ]
REDIRECT:file	 minionSummaryData.html -> minionSummaryData.html [ SUCCESS ]
** building package indices
** installing vignettes
** testing if installed package can be loaded from temporary location
** testing if installed package can be loaded from final location
** testing if installed package keeps a record of temporary installation path

install for x64

* installing *source* package 'minionSummaryData' ...
** testing if installed package can be loaded
* MD5 sums
packaged installation of 'minionSummaryData' as minionSummaryData_1.21.0.zip
* DONE (minionSummaryData)
* installing to library 'D:/biocbuild/bbs-3.13-bioc/R/library'
package 'minionSummaryData' successfully unpacked and MD5 sums checked