Back to Multiple platform build/check report for BioC 3.13 experimental data
ABCDEFGHIJKL[M]NOPQRSTUVWXYZ

BUILD report for minionSummaryData on riesling1

This page was generated on 2021-01-11 15:59:32 -0500 (Mon, 11 Jan 2021).

TO THE DEVELOPERS/MAINTAINERS OF THE minionSummaryData PACKAGE: Please make sure to use the following settings in order to reproduce any error or warning you see on this page.
Package 226/385HostnameOS / ArchINSTALLBUILDCHECK
minionSummaryData 1.21.0
Mike Smith
Snapshot Date: 2021-01-11 09:00:09 -0500 (Mon, 11 Jan 2021)
URL: https://git.bioconductor.org/packages/minionSummaryData
Branch: master
Last Commit: 83f642b
Last Changed Date: 2020-10-27 10:13:32 -0500 (Tue, 27 Oct 2020)
malbec2 Linux (Ubuntu 20.04.1 LTS) / x86_64  OK  OK  OK UNNEEDED, same version exists in internal repository
riesling1 Windows Server 2019 Standard / x64  OK [ OK ] OK 

Summary

Package: minionSummaryData
Version: 1.21.0
Command: chmod a+r minionSummaryData -R && D:\biocbuild\bbs-3.13-bioc\R\bin\R.exe CMD build --keep-empty-dirs --no-resave-data minionSummaryData
StartedAt: 2021-01-11 10:52:05 -0500 (Mon, 11 Jan 2021)
EndedAt: 2021-01-11 10:52:24 -0500 (Mon, 11 Jan 2021)
EllapsedTime: 19.6 seconds
RetCode: 0
Status:  OK  
PackageFile: minionSummaryData_1.21.0.tar.gz
PackageFileSize: 134.7 MiB

Command output

##############################################################################
##############################################################################
###
### Running command:
###
###   chmod a+r minionSummaryData -R && D:\biocbuild\bbs-3.13-bioc\R\bin\R.exe CMD build --keep-empty-dirs --no-resave-data minionSummaryData
###
##############################################################################
##############################################################################


* checking for file 'minionSummaryData/DESCRIPTION' ... OK
* preparing 'minionSummaryData':
* checking DESCRIPTION meta-information ... OK
* installing the package to build vignettes
* creating vignettes ... OK
* checking for LF line-endings in source and make files and shell scripts
* checking for empty or unneeded directories
* looking to see if a 'data/datalist' file should be added
* building 'minionSummaryData_1.21.0.tar.gz'