Back to Multiple platform build/check report for BioC 3.13 experimental data
ABCDEFGHIJKL[M]NOPQRSTUVWXYZ

INSTALL report for minfiDataEPIC on riesling1

This page was generated on 2021-01-14 15:59:09 -0500 (Thu, 14 Jan 2021).

TO THE DEVELOPERS/MAINTAINERS OF THE minfiDataEPIC PACKAGE: Please make sure to use the following settings in order to reproduce any error or warning you see on this page.
Package 225/385HostnameOS / ArchINSTALLBUILDCHECK
minfiDataEPIC 1.17.0
Kasper Daniel Hansen
Snapshot Date: 2021-01-14 09:00:13 -0500 (Thu, 14 Jan 2021)
URL: https://git.bioconductor.org/packages/minfiDataEPIC
Branch: master
Last Commit: a24474c
Last Changed Date: 2020-10-27 10:20:06 -0500 (Tue, 27 Oct 2020)
malbec2 Linux (Ubuntu 20.04.1 LTS) / x86_64  OK  OK  OK UNNEEDED, same version exists in internal repository
riesling1 Windows Server 2019 Standard / x64 [ OK ] OK  OK 

Summary

Package: minfiDataEPIC
Version: 1.17.0
Command: C:\cygwin\bin\curl.exe -O http://172.29.0.4/BBS/3.13/data-experiment/src/contrib/minfiDataEPIC_1.17.0.tar.gz && rm -rf minfiDataEPIC.buildbin-libdir && mkdir minfiDataEPIC.buildbin-libdir && D:\biocbuild\bbs-3.13-bioc\R\bin\R.exe CMD INSTALL --merge-multiarch --build --library=minfiDataEPIC.buildbin-libdir minfiDataEPIC_1.17.0.tar.gz && D:\biocbuild\bbs-3.13-bioc\R\bin\R.exe CMD INSTALL minfiDataEPIC_1.17.0.zip && rm minfiDataEPIC_1.17.0.tar.gz minfiDataEPIC_1.17.0.zip
StartedAt: 2021-01-14 10:12:24 -0500 (Thu, 14 Jan 2021)
EndedAt: 2021-01-14 10:14:08 -0500 (Thu, 14 Jan 2021)
EllapsedTime: 104.0 seconds
RetCode: 0
Status:  OK  

Command output

##############################################################################
##############################################################################
###
### Running command:
###
###   C:\cygwin\bin\curl.exe -O http://172.29.0.4/BBS/3.13/data-experiment/src/contrib/minfiDataEPIC_1.17.0.tar.gz && rm -rf minfiDataEPIC.buildbin-libdir && mkdir minfiDataEPIC.buildbin-libdir && D:\biocbuild\bbs-3.13-bioc\R\bin\R.exe CMD INSTALL --merge-multiarch --build --library=minfiDataEPIC.buildbin-libdir minfiDataEPIC_1.17.0.tar.gz && D:\biocbuild\bbs-3.13-bioc\R\bin\R.exe CMD INSTALL minfiDataEPIC_1.17.0.zip && rm minfiDataEPIC_1.17.0.tar.gz minfiDataEPIC_1.17.0.zip
###
##############################################################################
##############################################################################


  % Total    % Received % Xferd  Average Speed   Time    Time     Time  Current
                                 Dload  Upload   Total   Spent    Left  Speed

  0     0    0     0    0     0      0      0 --:--:-- --:--:-- --:--:--     0
  0     0    0     0    0     0      0      0 --:--:-- --:--:-- --:--:--     0
100 69.1M  100 69.1M    0     0  63.0M      0  0:00:01  0:00:01 --:--:-- 63.0M

install for i386

* installing *source* package 'minfiDataEPIC' ...
** using staged installation
** data
*** moving datasets to lazyload DB
** inst
** help
*** installing help indices
  converting help for package 'minfiDataEPIC'
    finding HTML links ... done
    MsetEPIC                                html  
REDIRECT:topic	 MsetEPIC -> MsetEPIC.html [ SUCCESS ]
    RGsetEPIC                               html  
REDIRECT:topic	 RGsetEPIC -> RGsetEPIC.html [ SUCCESS ]
** building package indices
** testing if installed package can be loaded from temporary location
** testing if installed package can be loaded from final location
** testing if installed package keeps a record of temporary installation path

install for x64

* installing *source* package 'minfiDataEPIC' ...
** testing if installed package can be loaded
* MD5 sums
packaged installation of 'minfiDataEPIC' as minfiDataEPIC_1.17.0.zip
* DONE (minfiDataEPIC)
* installing to library 'D:/biocbuild/bbs-3.13-bioc/R/library'
package 'minfiDataEPIC' successfully unpacked and MD5 sums checked