Back to Multiple platform build/check report for BioC 3.13 experimental data
ABCDEFGHIJKL[M]NOPQRSTUVWXYZ

BUILD report for minfiDataEPIC on riesling1

This page was generated on 2021-01-14 15:59:09 -0500 (Thu, 14 Jan 2021).

TO THE DEVELOPERS/MAINTAINERS OF THE minfiDataEPIC PACKAGE: Please make sure to use the following settings in order to reproduce any error or warning you see on this page.
Package 225/385HostnameOS / ArchINSTALLBUILDCHECK
minfiDataEPIC 1.17.0
Kasper Daniel Hansen
Snapshot Date: 2021-01-14 09:00:13 -0500 (Thu, 14 Jan 2021)
URL: https://git.bioconductor.org/packages/minfiDataEPIC
Branch: master
Last Commit: a24474c
Last Changed Date: 2020-10-27 10:20:06 -0500 (Tue, 27 Oct 2020)
malbec2 Linux (Ubuntu 20.04.1 LTS) / x86_64  OK  OK  OK UNNEEDED, same version exists in internal repository
riesling1 Windows Server 2019 Standard / x64  OK [ OK ] OK 

Summary

Package: minfiDataEPIC
Version: 1.17.0
Command: chmod a+r minfiDataEPIC -R && D:\biocbuild\bbs-3.13-bioc\R\bin\R.exe CMD build --keep-empty-dirs --no-resave-data minfiDataEPIC
StartedAt: 2021-01-14 10:45:31 -0500 (Thu, 14 Jan 2021)
EndedAt: 2021-01-14 10:45:42 -0500 (Thu, 14 Jan 2021)
EllapsedTime: 11.1 seconds
RetCode: 0
Status:  OK  
PackageFile: minfiDataEPIC_1.17.0.tar.gz
PackageFileSize: 69.1 MiB

Command output

##############################################################################
##############################################################################
###
### Running command:
###
###   chmod a+r minfiDataEPIC -R && D:\biocbuild\bbs-3.13-bioc\R\bin\R.exe CMD build --keep-empty-dirs --no-resave-data minfiDataEPIC
###
##############################################################################
##############################################################################


* checking for file 'minfiDataEPIC/DESCRIPTION' ... OK
* preparing 'minfiDataEPIC':
* checking DESCRIPTION meta-information ... OK
* checking for LF line-endings in source and make files and shell scripts
* checking for empty or unneeded directories
* building 'minfiDataEPIC_1.17.0.tar.gz'