Back to Multiple platform build/check report for BioC 3.13 experimental data
ABCDEFGHIJKL[M]NOPQRSTUVWXYZ

CHECK report for minfiData on riesling1

This page was generated on 2021-01-14 15:59:09 -0500 (Thu, 14 Jan 2021).

TO THE DEVELOPERS/MAINTAINERS OF THE minfiData PACKAGE: Please make sure to use the following settings in order to reproduce any error or warning you see on this page.
Package 224/385HostnameOS / ArchINSTALLBUILDCHECK
minfiData 0.37.0
Kasper Daniel Hansen
Snapshot Date: 2021-01-14 09:00:13 -0500 (Thu, 14 Jan 2021)
URL: https://git.bioconductor.org/packages/minfiData
Branch: master
Last Commit: ea43cdf
Last Changed Date: 2020-10-27 09:53:44 -0500 (Tue, 27 Oct 2020)
malbec2 Linux (Ubuntu 20.04.1 LTS) / x86_64  OK  OK  OK UNNEEDED, same version exists in internal repository
riesling1 Windows Server 2019 Standard / x64  OK  OK [ OK ]

Summary

Package: minfiData
Version: 0.37.0
Command: D:\biocbuild\bbs-3.13-bioc\R\bin\R.exe CMD check --force-multiarch --install=check:minfiData.install-out.txt --library=D:\biocbuild\bbs-3.13-bioc\R\library --no-vignettes --timings minfiData_0.37.0.tar.gz
StartedAt: 2021-01-14 11:28:23 -0500 (Thu, 14 Jan 2021)
EndedAt: 2021-01-14 11:32:34 -0500 (Thu, 14 Jan 2021)
EllapsedTime: 251.1 seconds
RetCode: 0
Status:  OK  
CheckDir: minfiData.Rcheck
Warnings: 0

Command output

##############################################################################
##############################################################################
###
### Running command:
###
###   D:\biocbuild\bbs-3.13-bioc\R\bin\R.exe CMD check --force-multiarch --install=check:minfiData.install-out.txt --library=D:\biocbuild\bbs-3.13-bioc\R\library --no-vignettes --timings minfiData_0.37.0.tar.gz
###
##############################################################################
##############################################################################


* using log directory 'D:/biocbuild/bbs-3.13-data-experiment/meat/minfiData.Rcheck'
* using R Under development (unstable) (2020-12-30 r79736)
* using platform: x86_64-w64-mingw32 (64-bit)
* using session charset: ISO8859-1
* using option '--no-vignettes'
* checking for file 'minfiData/DESCRIPTION' ... OK
* this is package 'minfiData' version '0.37.0'
* checking package namespace information ... OK
* checking package dependencies ... OK
* checking if this is a source package ... OK
* checking if there is a namespace ... OK
* checking for hidden files and directories ... OK
* checking for portable file names ... OK
* checking whether package 'minfiData' can be installed ... OK
* checking installed package size ... NOTE
  installed size is 174.1Mb
  sub-directories of 1Mb or more:
    data     81.4Mb
    extdata  92.6Mb
* checking package directory ... OK
* checking DESCRIPTION meta-information ... OK
* checking top-level files ... OK
* checking for left-over files ... OK
* checking index information ... OK
* checking package subdirectories ... OK
* loading checks for arch 'i386'
** checking whether the package can be loaded ... OK
** checking whether the package can be loaded with stated dependencies ... OK
** checking whether the package can be unloaded cleanly ... OK
** checking whether the namespace can be loaded with stated dependencies ... OK
** checking whether the namespace can be unloaded cleanly ... OK
* loading checks for arch 'x64'
** checking whether the package can be loaded ... OK
** checking whether the package can be loaded with stated dependencies ... OK
** checking whether the package can be unloaded cleanly ... OK
** checking whether the namespace can be loaded with stated dependencies ... OK
** checking whether the namespace can be unloaded cleanly ... OK
* checking Rd files ... OK
* checking Rd metadata ... OK
* checking Rd cross-references ... OK
* checking for missing documentation entries ... OK
* checking for code/documentation mismatches ... OK
* checking Rd \usage sections ... OK
* checking Rd contents ... OK
* checking for unstated dependencies in examples ... OK
* checking contents of 'data' directory ... OK
* checking data for non-ASCII characters ... OK
* checking data for ASCII and uncompressed saves ... OK
* checking examples ...
** running examples for arch 'i386' ... OK
** running examples for arch 'x64' ... OK
* checking PDF version of manual ... OK
* DONE

Status: 1 NOTE
See
  'D:/biocbuild/bbs-3.13-data-experiment/meat/minfiData.Rcheck/00check.log'
for details.



Installation output

minfiData.Rcheck/00install.out

##############################################################################
##############################################################################
###
### Running command:
###
###   C:\cygwin\bin\curl.exe -O http://172.29.0.4/BBS/3.13/data-experiment/src/contrib/minfiData_0.37.0.tar.gz && rm -rf minfiData.buildbin-libdir && mkdir minfiData.buildbin-libdir && D:\biocbuild\bbs-3.13-bioc\R\bin\R.exe CMD INSTALL --merge-multiarch --build --library=minfiData.buildbin-libdir minfiData_0.37.0.tar.gz && D:\biocbuild\bbs-3.13-bioc\R\bin\R.exe CMD INSTALL minfiData_0.37.0.zip && rm minfiData_0.37.0.tar.gz minfiData_0.37.0.zip
###
##############################################################################
##############################################################################


  % Total    % Received % Xferd  Average Speed   Time    Time     Time  Current
                                 Dload  Upload   Total   Spent    Left  Speed

  0     0    0     0    0     0      0      0 --:--:-- --:--:-- --:--:--     0
 25 74.6M   25 19.1M    0     0  44.2M      0  0:00:01 --:--:--  0:00:01 44.1M
100 74.6M  100 74.6M    0     0  62.3M      0  0:00:01  0:00:01 --:--:-- 62.3M

install for i386

* installing *source* package 'minfiData' ...
** using staged installation
** data
*** moving datasets to lazyload DB
** inst
** help
*** installing help indices
  converting help for package 'minfiData'
    finding HTML links ... done
    MsetEx                                  html  
REDIRECT:topic	 MsetEx -> MsetEx.html [ SUCCESS ]
REDIRECT:topic	 MsetEx.sub -> MsetEx.html [ SUCCESS ]
    RGsetEx                                 html  
REDIRECT:topic	 RGsetEx -> RGsetEx.html [ SUCCESS ]
REDIRECT:topic	 RGsetEx.sub -> RGsetEx.html [ SUCCESS ]
** building package indices
** testing if installed package can be loaded from temporary location
** testing if installed package can be loaded from final location
** testing if installed package keeps a record of temporary installation path

install for x64

* installing *source* package 'minfiData' ...
** testing if installed package can be loaded
* MD5 sums
packaged installation of 'minfiData' as minfiData_0.37.0.zip
* DONE (minfiData)
* installing to library 'D:/biocbuild/bbs-3.13-bioc/R/library'
package 'minfiData' successfully unpacked and MD5 sums checked

Tests output


Example timings

minfiData.Rcheck/examples_i386/minfiData-Ex.timings

nameusersystemelapsed
MsetEx3.250.123.38
RGsetEx1.690.131.82

minfiData.Rcheck/examples_x64/minfiData-Ex.timings

nameusersystemelapsed
MsetEx3.620.133.75
RGsetEx1.280.081.36