Back to Multiple platform build/check report for BioC 3.13 experimental data
ABCDEFGHIJKL[M]NOPQRSTUVWXYZ

BUILD report for minfiData on riesling1

This page was generated on 2021-01-21 16:01:31 -0500 (Thu, 21 Jan 2021).

TO THE DEVELOPERS/MAINTAINERS OF THE minfiData PACKAGE: Please make sure to use the following settings in order to reproduce any error or warning you see on this page.
Package 224/386HostnameOS / ArchINSTALLBUILDCHECK
minfiData 0.37.0
Kasper Daniel Hansen
Snapshot Date: 2021-01-21 09:00:14 -0500 (Thu, 21 Jan 2021)
URL: https://git.bioconductor.org/packages/minfiData
Branch: master
Last Commit: ea43cdf
Last Changed Date: 2020-10-27 09:53:44 -0500 (Tue, 27 Oct 2020)
malbec2 Linux (Ubuntu 20.04.1 LTS) / x86_64  OK  OK  OK UNNEEDED, same version exists in internal repository
riesling1 Windows Server 2019 Standard / x64  OK [ OK ] OK 

Summary

Package: minfiData
Version: 0.37.0
Command: chmod a+r minfiData -R && D:\biocbuild\bbs-3.13-bioc\R\bin\R.exe CMD build --keep-empty-dirs --no-resave-data minfiData
StartedAt: 2021-01-21 10:50:51 -0500 (Thu, 21 Jan 2021)
EndedAt: 2021-01-21 10:51:07 -0500 (Thu, 21 Jan 2021)
EllapsedTime: 16.0 seconds
RetCode: 0
Status:  OK  
PackageFile: minfiData_0.37.0.tar.gz
PackageFileSize: 74.62 MiB

Command output

##############################################################################
##############################################################################
###
### Running command:
###
###   chmod a+r minfiData -R && D:\biocbuild\bbs-3.13-bioc\R\bin\R.exe CMD build --keep-empty-dirs --no-resave-data minfiData
###
##############################################################################
##############################################################################


* checking for file 'minfiData/DESCRIPTION' ... OK
* preparing 'minfiData':
* checking DESCRIPTION meta-information ... OK
* checking for LF line-endings in source and make files and shell scripts
* checking for empty or unneeded directories
* building 'minfiData_0.37.0.tar.gz'