Back to Multiple platform build/check report for BioC 3.13 experimental data |
|
This page was generated on 2021-01-21 16:01:31 -0500 (Thu, 21 Jan 2021).
TO THE DEVELOPERS/MAINTAINERS OF THE microRNAome PACKAGE: Please make sure to use the following settings in order to reproduce any error or warning you see on this page. |
Package 222/386 | Hostname | OS / Arch | INSTALL | BUILD | CHECK | ||||||
microRNAome 1.13.0 Matthew N. McCall
| malbec2 | Linux (Ubuntu 20.04.1 LTS) / x86_64 | OK | OK | OK | ![]() | |||||
riesling1 | Windows Server 2019 Standard / x64 | [ OK ] | OK | OK |
Package: microRNAome |
Version: 1.13.0 |
Command: C:\cygwin\bin\curl.exe -O http://172.29.0.4/BBS/3.13/data-experiment/src/contrib/microRNAome_1.13.0.tar.gz && rm -rf microRNAome.buildbin-libdir && mkdir microRNAome.buildbin-libdir && D:\biocbuild\bbs-3.13-bioc\R\bin\R.exe CMD INSTALL --merge-multiarch --build --library=microRNAome.buildbin-libdir microRNAome_1.13.0.tar.gz && D:\biocbuild\bbs-3.13-bioc\R\bin\R.exe CMD INSTALL microRNAome_1.13.0.zip && rm microRNAome_1.13.0.tar.gz microRNAome_1.13.0.zip |
StartedAt: 2021-01-21 10:07:48 -0500 (Thu, 21 Jan 2021) |
EndedAt: 2021-01-21 10:08:18 -0500 (Thu, 21 Jan 2021) |
EllapsedTime: 30.0 seconds |
RetCode: 0 |
Status: OK |
############################################################################## ############################################################################## ### ### Running command: ### ### C:\cygwin\bin\curl.exe -O http://172.29.0.4/BBS/3.13/data-experiment/src/contrib/microRNAome_1.13.0.tar.gz && rm -rf microRNAome.buildbin-libdir && mkdir microRNAome.buildbin-libdir && D:\biocbuild\bbs-3.13-bioc\R\bin\R.exe CMD INSTALL --merge-multiarch --build --library=microRNAome.buildbin-libdir microRNAome_1.13.0.tar.gz && D:\biocbuild\bbs-3.13-bioc\R\bin\R.exe CMD INSTALL microRNAome_1.13.0.zip && rm microRNAome_1.13.0.tar.gz microRNAome_1.13.0.zip ### ############################################################################## ############################################################################## % Total % Received % Xferd Average Speed Time Time Time Current Dload Upload Total Spent Left Speed 0 0 0 0 0 0 0 0 --:--:-- --:--:-- --:--:-- 0 100 1241k 100 1241k 0 0 39.1M 0 --:--:-- --:--:-- --:--:-- 39.1M install for i386 * installing *source* package 'microRNAome' ... ** using staged installation ** data ** inst ** help *** installing help indices converting help for package 'microRNAome' finding HTML links ... done microRNAome html REDIRECT:topic microRNAome -> microRNAome.html [ SUCCESS ] ** building package indices ** testing if installed package can be loaded from temporary location ** testing if installed package can be loaded from final location ** testing if installed package keeps a record of temporary installation path install for x64 * installing *source* package 'microRNAome' ... ** testing if installed package can be loaded * MD5 sums packaged installation of 'microRNAome' as microRNAome_1.13.0.zip * DONE (microRNAome) * installing to library 'D:/biocbuild/bbs-3.13-bioc/R/library' package 'microRNAome' successfully unpacked and MD5 sums checked