Back to Multiple platform build/check report for BioC 3.13 experimental data |
|
This page was generated on 2021-01-14 15:59:09 -0500 (Thu, 14 Jan 2021).
TO THE DEVELOPERS/MAINTAINERS OF THE miRcompData PACKAGE: Please make sure to use the following settings in order to reproduce any error or warning you see on this page. |
Package 227/385 | Hostname | OS / Arch | INSTALL | BUILD | CHECK | ||||||
miRcompData 1.21.0 Matthew N. McCall
| malbec2 | Linux (Ubuntu 20.04.1 LTS) / x86_64 | OK | OK | OK | ![]() | |||||
riesling1 | Windows Server 2019 Standard / x64 | [ OK ] | OK | OK |
Package: miRcompData |
Version: 1.21.0 |
Command: C:\cygwin\bin\curl.exe -O http://172.29.0.4/BBS/3.13/data-experiment/src/contrib/miRcompData_1.21.0.tar.gz && rm -rf miRcompData.buildbin-libdir && mkdir miRcompData.buildbin-libdir && D:\biocbuild\bbs-3.13-bioc\R\bin\R.exe CMD INSTALL --merge-multiarch --build --library=miRcompData.buildbin-libdir miRcompData_1.21.0.tar.gz && D:\biocbuild\bbs-3.13-bioc\R\bin\R.exe CMD INSTALL miRcompData_1.21.0.zip && rm miRcompData_1.21.0.tar.gz miRcompData_1.21.0.zip |
StartedAt: 2021-01-14 10:01:34 -0500 (Thu, 14 Jan 2021) |
EndedAt: 2021-01-14 10:01:51 -0500 (Thu, 14 Jan 2021) |
EllapsedTime: 16.9 seconds |
RetCode: 0 |
Status: OK |
############################################################################## ############################################################################## ### ### Running command: ### ### C:\cygwin\bin\curl.exe -O http://172.29.0.4/BBS/3.13/data-experiment/src/contrib/miRcompData_1.21.0.tar.gz && rm -rf miRcompData.buildbin-libdir && mkdir miRcompData.buildbin-libdir && D:\biocbuild\bbs-3.13-bioc\R\bin\R.exe CMD INSTALL --merge-multiarch --build --library=miRcompData.buildbin-libdir miRcompData_1.21.0.tar.gz && D:\biocbuild\bbs-3.13-bioc\R\bin\R.exe CMD INSTALL miRcompData_1.21.0.zip && rm miRcompData_1.21.0.tar.gz miRcompData_1.21.0.zip ### ############################################################################## ############################################################################## % Total % Received % Xferd Average Speed Time Time Time Current Dload Upload Total Spent Left Speed 0 0 0 0 0 0 0 0 --:--:-- --:--:-- --:--:-- 0 100 8860k 100 8860k 0 0 75.2M 0 --:--:-- --:--:-- --:--:-- 75.2M install for i386 * installing *source* package 'miRcompData' ... ** using staged installation ** data ** help *** installing help indices converting help for package 'miRcompData' finding HTML links ... done miRcompData html REDIRECT:topic miRcompData -> miRcompData.html [ SUCCESS ] ** building package indices ** testing if installed package can be loaded from temporary location ** testing if installed package can be loaded from final location ** testing if installed package keeps a record of temporary installation path install for x64 * installing *source* package 'miRcompData' ... ** testing if installed package can be loaded * MD5 sums packaged installation of 'miRcompData' as miRcompData_1.21.0.zip * DONE (miRcompData) * installing to library 'D:/biocbuild/bbs-3.13-bioc/R/library' package 'miRcompData' successfully unpacked and MD5 sums checked