Back to Multiple platform build/check report for BioC 3.13 experimental data
ABCDEFGHIJKL[M]NOPQRSTUVWXYZ

BUILD report for miRcompData on riesling1

This page was generated on 2021-01-18 15:58:48 -0500 (Mon, 18 Jan 2021).

TO THE DEVELOPERS/MAINTAINERS OF THE miRcompData PACKAGE: Please make sure to use the following settings in order to reproduce any error or warning you see on this page.
Package 227/385HostnameOS / ArchINSTALLBUILDCHECK
miRcompData 1.21.0
Matthew N. McCall
Snapshot Date: 2021-01-18 09:00:15 -0500 (Mon, 18 Jan 2021)
URL: https://git.bioconductor.org/packages/miRcompData
Branch: master
Last Commit: 5e07723
Last Changed Date: 2020-10-27 10:14:55 -0500 (Tue, 27 Oct 2020)
malbec2 Linux (Ubuntu 20.04.1 LTS) / x86_64  OK  OK  OK UNNEEDED, same version exists in internal repository
riesling1 Windows Server 2019 Standard / x64  OK [ OK ] OK 

Summary

Package: miRcompData
Version: 1.21.0
Command: chmod a+r miRcompData -R && D:\biocbuild\bbs-3.13-bioc\R\bin\R.exe CMD build --keep-empty-dirs --no-resave-data miRcompData
StartedAt: 2021-01-18 10:50:42 -0500 (Mon, 18 Jan 2021)
EndedAt: 2021-01-18 10:50:44 -0500 (Mon, 18 Jan 2021)
EllapsedTime: 1.5 seconds
RetCode: 0
Status:  OK  
PackageFile: miRcompData_1.21.0.tar.gz
PackageFileSize: 8.654 MiB

Command output

##############################################################################
##############################################################################
###
### Running command:
###
###   chmod a+r miRcompData -R && D:\biocbuild\bbs-3.13-bioc\R\bin\R.exe CMD build --keep-empty-dirs --no-resave-data miRcompData
###
##############################################################################
##############################################################################


* checking for file 'miRcompData/DESCRIPTION' ... OK
* preparing 'miRcompData':
* checking DESCRIPTION meta-information ... OK
* checking for LF line-endings in source and make files and shell scripts
* checking for empty or unneeded directories
* looking to see if a 'data/datalist' file should be added
* building 'miRcompData_1.21.0.tar.gz'