Name | Last modified | Size | Description | |
---|---|---|---|---|
Parent Directory | - | |||
buildsrc-out.txt | 17-Oct-2021 04:58 | 813 | ||
buildsrc-summary.dcf | 17-Oct-2021 04:58 | 428 | ||
checksrc-out.txt | 17-Oct-2021 04:58 | 2.8K | ||
checksrc-summary.dcf | 17-Oct-2021 04:58 | 439 | ||
install-out.txt | 17-Oct-2021 04:58 | 877 | ||
install-summary.dcf | 17-Oct-2021 04:58 | 266 | ||