Back to Multiple platform build/check report for BioC 3.13 experimental data
ABCDEFGHIJKL[M]NOPQRSTUVWXYZ

CHECK report for miRNATarget on riesling1

This page was generated on 2021-01-18 15:58:48 -0500 (Mon, 18 Jan 2021).

TO THE DEVELOPERS/MAINTAINERS OF THE miRNATarget PACKAGE: Please make sure to use the following settings in order to reproduce any error or warning you see on this page.
Package 228/385HostnameOS / ArchINSTALLBUILDCHECK
miRNATarget 1.29.0
Y-h. Taguchi
Snapshot Date: 2021-01-18 09:00:15 -0500 (Mon, 18 Jan 2021)
URL: https://git.bioconductor.org/packages/miRNATarget
Branch: master
Last Commit: a1cadec
Last Changed Date: 2020-10-27 09:55:35 -0500 (Tue, 27 Oct 2020)
malbec2 Linux (Ubuntu 20.04.1 LTS) / x86_64  OK  OK  OK UNNEEDED, same version exists in internal repository
riesling1 Windows Server 2019 Standard / x64  OK  OK [ OK ]

Summary

Package: miRNATarget
Version: 1.29.0
Command: D:\biocbuild\bbs-3.13-bioc\R\bin\R.exe CMD check --force-multiarch --install=check:miRNATarget.install-out.txt --library=D:\biocbuild\bbs-3.13-bioc\R\library --no-vignettes --timings miRNATarget_1.29.0.tar.gz
StartedAt: 2021-01-18 11:32:35 -0500 (Mon, 18 Jan 2021)
EndedAt: 2021-01-18 11:34:58 -0500 (Mon, 18 Jan 2021)
EllapsedTime: 143.5 seconds
RetCode: 0
Status:  OK  
CheckDir: miRNATarget.Rcheck
Warnings: 0

Command output

##############################################################################
##############################################################################
###
### Running command:
###
###   D:\biocbuild\bbs-3.13-bioc\R\bin\R.exe CMD check --force-multiarch --install=check:miRNATarget.install-out.txt --library=D:\biocbuild\bbs-3.13-bioc\R\library --no-vignettes --timings miRNATarget_1.29.0.tar.gz
###
##############################################################################
##############################################################################


* using log directory 'D:/biocbuild/bbs-3.13-data-experiment/meat/miRNATarget.Rcheck'
* using R Under development (unstable) (2020-12-30 r79736)
* using platform: x86_64-w64-mingw32 (64-bit)
* using session charset: ISO8859-1
* using option '--no-vignettes'
* checking for file 'miRNATarget/DESCRIPTION' ... OK
* this is package 'miRNATarget' version '1.29.0'
* checking package namespace information ... OK
* checking package dependencies ... OK
* checking if this is a source package ... OK
* checking if there is a namespace ... OK
* checking for hidden files and directories ... NOTE
Found the following hidden files and directories:
  vignettes/.goutputstream-8N717W
These were most likely included in error. See section 'Package
structure' in the 'Writing R Extensions' manual.
* checking for portable file names ... OK
* checking whether package 'miRNATarget' can be installed ... OK
* checking installed package size ... NOTE
  installed size is 60.3Mb
  sub-directories of 1Mb or more:
    data  59.3Mb
* checking package directory ... OK
* checking 'build' directory ... OK
* checking DESCRIPTION meta-information ... NOTE
Malformed Description field: should contain one or more complete sentences.
* checking top-level files ... OK
* checking for left-over files ... OK
* checking index information ... OK
* checking package subdirectories ... OK
* loading checks for arch 'i386'
** checking whether the package can be loaded ... OK
** checking whether the package can be loaded with stated dependencies ... OK
** checking whether the package can be unloaded cleanly ... OK
** checking whether the namespace can be loaded with stated dependencies ... OK
** checking whether the namespace can be unloaded cleanly ... OK
* loading checks for arch 'x64'
** checking whether the package can be loaded ... OK
** checking whether the package can be loaded with stated dependencies ... OK
** checking whether the package can be unloaded cleanly ... OK
** checking whether the namespace can be loaded with stated dependencies ... OK
** checking whether the namespace can be unloaded cleanly ... OK
* checking Rd files ... OK
* checking Rd metadata ... OK
* checking Rd cross-references ... OK
* checking for missing documentation entries ... OK
* checking for code/documentation mismatches ... OK
* checking Rd \usage sections ... OK
* checking Rd contents ... OK
* checking for unstated dependencies in examples ... OK
* checking contents of 'data' directory ... OK
* checking data for non-ASCII characters ... OK
* checking data for ASCII and uncompressed saves ... OK
* checking files in 'vignettes' ... OK
* checking examples ...
** running examples for arch 'i386' ... OK
** running examples for arch 'x64' ... OK
* checking for unstated dependencies in vignettes ... OK
* checking package vignettes in 'inst/doc' ... OK
* checking running R code from vignettes ... SKIPPED
* checking re-building of vignette outputs ... SKIPPED
* checking PDF version of manual ... OK
* DONE

Status: 3 NOTEs
See
  'D:/biocbuild/bbs-3.13-data-experiment/meat/miRNATarget.Rcheck/00check.log'
for details.



Installation output

miRNATarget.Rcheck/00install.out

##############################################################################
##############################################################################
###
### Running command:
###
###   C:\cygwin\bin\curl.exe -O http://172.29.0.4/BBS/3.13/data-experiment/src/contrib/miRNATarget_1.29.0.tar.gz && rm -rf miRNATarget.buildbin-libdir && mkdir miRNATarget.buildbin-libdir && D:\biocbuild\bbs-3.13-bioc\R\bin\R.exe CMD INSTALL --merge-multiarch --build --library=miRNATarget.buildbin-libdir miRNATarget_1.29.0.tar.gz && D:\biocbuild\bbs-3.13-bioc\R\bin\R.exe CMD INSTALL miRNATarget_1.29.0.zip && rm miRNATarget_1.29.0.tar.gz miRNATarget_1.29.0.zip
###
##############################################################################
##############################################################################


  % Total    % Received % Xferd  Average Speed   Time    Time     Time  Current
                                 Dload  Upload   Total   Spent    Left  Speed

  0     0    0     0    0     0      0      0 --:--:-- --:--:-- --:--:--     0
 81 51.8M   81 42.1M    0     0  85.9M      0 --:--:-- --:--:-- --:--:-- 85.7M
100 51.8M  100 51.8M    0     0  78.0M      0 --:--:-- --:--:-- --:--:-- 77.9M

install for i386

* installing *source* package 'miRNATarget' ...
** using staged installation
** data
** help
*** installing help indices
  converting help for package 'miRNATarget'
    finding HTML links ... done
    HS_conv_id                              html  
REDIRECT:topic	 HS_conv_id -> HS_conv_id.html [ SUCCESS ]
    HS_refseq_to_affy_hc_g110               html  
REDIRECT:topic	 HS_refseq_to_affy_hc_g110 -> HS_refseq_to_affy_hc_g110.html [ SUCCESS ]
    HS_refseq_to_affy_hg_focus              html  
REDIRECT:topic	 HS_refseq_to_affy_hg_focus -> HS_refseq_to_affy_hg_focus.html [ SUCCESS ]
    HS_refseq_to_affy_hg_u133_plus_2        html  
REDIRECT:topic	 HS_refseq_to_affy_hg_u133_plus_2 -> HS_refseq_to_affy_hg_u133_plus_2.html [ SUCCESS ]
    HS_refseq_to_affy_hg_u133a              html  
REDIRECT:topic	 HS_refseq_to_affy_hg_u133a -> HS_refseq_to_affy_hg_u133a.html [ SUCCESS ]
    HS_refseq_to_affy_hg_u133a_2            html  
REDIRECT:topic	 HS_refseq_to_affy_hg_u133a_2 -> HS_refseq_to_affy_hg_u133a_2.html [ SUCCESS ]
    HS_refseq_to_affy_hg_u133b              html  
REDIRECT:topic	 HS_refseq_to_affy_hg_u133b -> HS_refseq_to_affy_hg_u133b.html [ SUCCESS ]
    HS_refseq_to_affy_hg_u95a               html  
REDIRECT:topic	 HS_refseq_to_affy_hg_u95a -> HS_refseq_to_affy_hg_u95a.html [ SUCCESS ]
    HS_refseq_to_affy_hg_u95av2             html  
REDIRECT:topic	 HS_refseq_to_affy_hg_u95av2 -> HS_refseq_to_affy_hg_u95av2.html [ SUCCESS ]
    HS_refseq_to_affy_hg_u95b               html  
REDIRECT:topic	 HS_refseq_to_affy_hg_u95b -> HS_refseq_to_affy_hg_u95b.html [ SUCCESS ]
    HS_refseq_to_affy_hg_u95c               html  
REDIRECT:topic	 HS_refseq_to_affy_hg_u95c -> HS_refseq_to_affy_hg_u95c.html [ SUCCESS ]
    HS_refseq_to_affy_hg_u95d               html  
REDIRECT:topic	 HS_refseq_to_affy_hg_u95d -> HS_refseq_to_affy_hg_u95d.html [ SUCCESS ]
    HS_refseq_to_affy_hg_u95e               html  
REDIRECT:topic	 HS_refseq_to_affy_hg_u95e -> HS_refseq_to_affy_hg_u95e.html [ SUCCESS ]
    HS_refseq_to_affy_huex_1_0_st_v2        html  
REDIRECT:topic	 HS_refseq_to_affy_huex_1_0_st_v2 -> HS_refseq_to_affy_huex_1_0_st_v2.html [ SUCCESS ]
    HS_refseq_to_affy_hugene_1_0_st_v1      html  
REDIRECT:topic	 HS_refseq_to_affy_hugene_1_0_st_v1 -> HS_refseq_to_affy_hugene_1_0_st_v1.html [ SUCCESS ]
    HS_refseq_to_affy_hugenefl              html  
REDIRECT:topic	 HS_refseq_to_affy_hugenefl -> HS_refseq_to_affy_hugenefl.html [ SUCCESS ]
    HS_refseq_to_affy_u133_x3p              html  
REDIRECT:topic	 HS_refseq_to_affy_u133_x3p -> HS_refseq_to_affy_u133_x3p.html [ SUCCESS ]
    HS_refseq_to_agilent_cgh_44b            html  
REDIRECT:topic	 HS_refseq_to_agilent_cgh_44b -> HS_refseq_to_agilent_cgh_44b.html [ SUCCESS ]
    HS_refseq_to_agilent_wholegenome        html  
REDIRECT:topic	 HS_refseq_to_agilent_wholegenome -> HS_refseq_to_agilent_wholegenome.html [ SUCCESS ]
    HS_refseq_to_canonical_transcript_stable_id
                                            html  
REDIRECT:topic	 HS_refseq_to_canonical_transcript_stable_id -> HS_refseq_to_canonical_transcript_stable_id.html [ SUCCESS ]
    HS_refseq_to_ccds                       html  
REDIRECT:topic	 HS_refseq_to_ccds -> HS_refseq_to_ccds.html [ SUCCESS ]
    HS_refseq_to_codelink                   html  
REDIRECT:topic	 HS_refseq_to_codelink -> HS_refseq_to_codelink.html [ SUCCESS ]
    HS_refseq_to_efg_agilent_sureprint_g3_ge_8x60k
                                            html  
REDIRECT:topic	 HS_refseq_to_HS_refseq_to_efg_agilent_sureprint_g3_ge_8x60k -> HS_refseq_to_efg_agilent_sureprint_g3_ge_8x60k.html [ SUCCESS ]
REDIRECT:file	 HS_refseq_to_efg_agilent_sureprint_g3_ge_8x60k.html -> HS_refseq_to_efg_agilent_sureprint_g3_ge_8x60k.html [ SUCCESS ]
    HS_refseq_to_efg_agilent_wholegenome_4x44k_v1
                                            html  
REDIRECT:topic	 HS_refseq_to_HS_refseq_to_efg_agilent_wholegenome_4x44k_v1 -> HS_refseq_to_efg_agilent_wholegenome_4x44k_v1.html [ SUCCESS ]
REDIRECT:file	 HS_refseq_to_efg_agilent_wholegenome_4x44k_v1.html -> HS_refseq_to_efg_agilent_wholegenome_4x44k_v1.html [ SUCCESS ]
    HS_refseq_to_efg_agilent_wholegenome_4x44k_v2
                                            html  
REDIRECT:topic	 HS_refseq_to_HS_refseq_to_efg_agilent_wholegenome_4x44k_v2 -> HS_refseq_to_efg_agilent_wholegenome_4x44k_v2.html [ SUCCESS ]
REDIRECT:file	 HS_refseq_to_efg_agilent_wholegenome_4x44k_v2.html -> HS_refseq_to_efg_agilent_wholegenome_4x44k_v2.html [ SUCCESS ]
    HS_refseq_to_embl                       html  
REDIRECT:topic	 HS_refseq_to_embl -> HS_refseq_to_embl.html [ SUCCESS ]
    HS_refseq_to_ensembl_exon_id            html  
REDIRECT:topic	 HS_refseq_to_HS_refseq_to_ensembl_exon_id -> HS_refseq_to_ensembl_exon_id.html [ SUCCESS ]
REDIRECT:file	 HS_refseq_to_ensembl_exon_id.html -> HS_refseq_to_ensembl_exon_id.html [ SUCCESS ]
    HS_refseq_to_ensembl_gene_id            html  
REDIRECT:topic	 HS_refseq_to_ensembl_gene_id -> HS_refseq_to_ensembl_gene_id.html [ SUCCESS ]
    HS_refseq_to_ensembl_peptide_id         html  
REDIRECT:topic	 HS_refseq_to_ensembl_peptide_id -> HS_refseq_to_ensembl_peptide_id.html [ SUCCESS ]
    HS_refseq_to_ensembl_transcript_id      html  
REDIRECT:topic	 HS_refseq_to_ensembl_transcript_id -> HS_refseq_to_ensembl_transcript_id.html [ SUCCESS ]
    HS_refseq_to_entrezgene                 html  
REDIRECT:topic	 HS_refseq_to_entrezgene -> HS_refseq_to_entrezgene.html [ SUCCESS ]
    HS_refseq_to_hgnc_id                    html  
REDIRECT:topic	 HS_refseq_to_hgnc_id -> HS_refseq_to_hgnc_id.html [ SUCCESS ]
    HS_refseq_to_hgnc_symbol                html  
REDIRECT:topic	 HS_refseq_to_hgnc_symbol -> HS_refseq_to_hgnc_symbol.html [ SUCCESS ]
    HS_refseq_to_hgnc_transcript_name       html  
REDIRECT:topic	 HS_refseq_to_hgnc_transcript_name -> HS_refseq_to_hgnc_transcript_name.html [ SUCCESS ]
    HS_refseq_to_illumina_humanht_12        html  
REDIRECT:topic	 HS_refseq_to_illumina_humanht_12 -> HS_refseq_to_illumina_humanht_12.html [ SUCCESS ]
    HS_refseq_to_illumina_humanwg_6_v1      html  
REDIRECT:topic	 HS_refseq_to_illumina_humanwg_6_v1 -> HS_refseq_to_illumina_humanwg_6_v1.html [ SUCCESS ]
    HS_refseq_to_illumina_humanwg_6_v2      html  
REDIRECT:topic	 HS_refseq_to_illumina_humanwg_6_v2 -> HS_refseq_to_illumina_humanwg_6_v2.html [ SUCCESS ]
    HS_refseq_to_illumina_humanwg_6_v3      html  
REDIRECT:topic	 HS_refseq_to_illumina_humanwg_6_v3 -> HS_refseq_to_illumina_humanwg_6_v3.html [ SUCCESS ]
    HS_refseq_to_interpro                   html  
REDIRECT:topic	 HS_refseq_to_interpro -> HS_refseq_to_interpro.html [ SUCCESS ]
    HS_refseq_to_ipi                        html  
REDIRECT:topic	 HS_refseq_to_ipi -> HS_refseq_to_ipi.html [ SUCCESS ]
    HS_refseq_to_merops                     html  
REDIRECT:topic	 HS_refseq_to_merops -> HS_refseq_to_merops.html [ SUCCESS ]
    HS_refseq_to_pdb                        html  
REDIRECT:topic	 HS_refseq_to_pdb -> HS_refseq_to_pdb.html [ SUCCESS ]
    HS_refseq_to_pfam                       html  
REDIRECT:topic	 HS_refseq_to_pfam -> HS_refseq_to_pfam.html [ SUCCESS ]
    HS_refseq_to_phalanx_onearray           html  
REDIRECT:topic	 HS_refseq_to_phalanx_onearray -> HS_refseq_to_phalanx_onearray.html [ SUCCESS ]
    HS_refseq_to_protein_id                 html  
REDIRECT:topic	 HS_refseq_to_protein_id -> HS_refseq_to_protein_id.html [ SUCCESS ]
    HS_refseq_to_refseq_dna                 html  
REDIRECT:topic	 HS_refseq_to_refseq_dna -> HS_refseq_to_refseq_dna.html [ SUCCESS ]
    HS_refseq_to_refseq_genomic             html  
REDIRECT:topic	 HS_refseq_to_refseq_genomic -> HS_refseq_to_refseq_genomic.html [ SUCCESS ]
    HS_refseq_to_refseq_peptide             html  
REDIRECT:topic	 HS_refseq_to_refseq_peptide -> HS_refseq_to_refseq_peptide.html [ SUCCESS ]
    HS_refseq_to_rfam                       html  
REDIRECT:topic	 HS_refseq_to_rfam -> HS_refseq_to_rfam.html [ SUCCESS ]
    HS_refseq_to_rfam_gene_name             html  
REDIRECT:topic	 HS_refseq_to_rfam_gene_name -> HS_refseq_to_rfam_gene_name.html [ SUCCESS ]
    HS_refseq_to_rfam_transcript_name       html  
REDIRECT:topic	 HS_refseq_to_rfam_transcript_name -> HS_refseq_to_rfam_transcript_name.html [ SUCCESS ]
    HS_refseq_to_smart                      html  
REDIRECT:topic	 HS_refseq_to_smart -> HS_refseq_to_smart.html [ SUCCESS ]
    HS_refseq_to_tigrfam                    html  
REDIRECT:topic	 HS_refseq_to_tigrfam -> HS_refseq_to_tigrfam.html [ SUCCESS ]
    HS_refseq_to_ucsc                       html  
REDIRECT:topic	 HS_refseq_to_ucsc -> HS_refseq_to_ucsc.html [ SUCCESS ]
    HS_refseq_to_unigene                    html  
REDIRECT:topic	 HS_refseq_to_unigene -> HS_refseq_to_unigene.html [ SUCCESS ]
    HS_refseq_to_uniprot_genename           html  
REDIRECT:topic	 HS_refseq_to_uniprot_genename -> HS_refseq_to_uniprot_genename.html [ SUCCESS ]
    HS_refseq_to_uniprot_genename_transcript_name
                                            html  
REDIRECT:topic	 HS_refseq_to_HS_refseq_to_uniprot_genename_transcript_name -> HS_refseq_to_uniprot_genename_transcript_name.html [ SUCCESS ]
REDIRECT:file	 HS_refseq_to_uniprot_genename_transcript_name.html -> HS_refseq_to_uniprot_genename_transcript_name.html [ SUCCESS ]
    HS_refseq_to_uniprot_sptrembl           html  
REDIRECT:topic	 HS_refseq_to_HS_refseq_to_uniprot_sptrembl -> HS_refseq_to_uniprot_sptrembl.html [ SUCCESS ]
REDIRECT:file	 HS_refseq_to_uniprot_sptrembl.html -> HS_refseq_to_uniprot_sptrembl.html [ SUCCESS ]
    HS_refseq_to_uniprot_swissprot          html  
REDIRECT:topic	 HS_refseq_to_HS_refseq_to_uniprot_swissprot -> HS_refseq_to_uniprot_swissprot.html [ SUCCESS ]
REDIRECT:file	 HS_refseq_to_uniprot_swissprot.html -> HS_refseq_to_uniprot_swissprot.html [ SUCCESS ]
    HS_refseq_to_uniprot_swissprot_accession
                                            html  
REDIRECT:topic	 HS_refseq_to_HS_refseq_to_uniprot_swissprot_accession -> HS_refseq_to_uniprot_swissprot_accession.html [ SUCCESS ]
REDIRECT:file	 HS_refseq_to_uniprot_swissprot_accession.html -> HS_refseq_to_uniprot_swissprot_accession.html [ SUCCESS ]
    HS_refseq_to_wikigene_id                html  
REDIRECT:topic	 HS_refseq_to_HS_refseq_to_wikigene_id -> HS_refseq_to_wikigene_id.html [ SUCCESS ]
REDIRECT:file	 HS_refseq_to_wikigene_id.html -> HS_refseq_to_wikigene_id.html [ SUCCESS ]
    HS_refseq_to_wikigene_name              html  
REDIRECT:topic	 HS_refseq_to_wikigene_name -> HS_refseq_to_wikigene_name.html [ SUCCESS ]
    MM_conv_id                              html  
REDIRECT:topic	 MM_conv_id -> MM_conv_id.html [ SUCCESS ]
    MM_refseq_to_affy_mg_u74a               html  
REDIRECT:topic	 MM_refseq_to_affy_mg_u74a -> MM_refseq_to_affy_mg_u74a.html [ SUCCESS ]
    MM_refseq_to_affy_mg_u74av2             html  
REDIRECT:topic	 MM_refseq_to_affy_mg_u74av2 -> MM_refseq_to_affy_mg_u74av2.html [ SUCCESS ]
    MM_refseq_to_affy_mg_u74b               html  
REDIRECT:topic	 MM_refseq_to_affy_mg_u74b -> MM_refseq_to_affy_mg_u74b.html [ SUCCESS ]
    MM_refseq_to_affy_mg_u74bv2             html  
REDIRECT:topic	 MM_refseq_to_affy_mg_u74bv2 -> MM_refseq_to_affy_mg_u74bv2.html [ SUCCESS ]
    MM_refseq_to_affy_mg_u74c               html  
REDIRECT:topic	 MM_refseq_to_affy_mg_u74c -> MM_refseq_to_affy_mg_u74c.html [ SUCCESS ]
    MM_refseq_to_affy_mg_u74cv2             html  
REDIRECT:topic	 MM_refseq_to_affy_mg_u74cv2 -> MM_refseq_to_affy_mg_u74cv2.html [ SUCCESS ]
    MM_refseq_to_affy_moe430a               html  
REDIRECT:topic	 MM_refseq_to_affy_moe430a -> MM_refseq_to_affy_moe430a.html [ SUCCESS ]
    MM_refseq_to_affy_moe430b               html  
REDIRECT:topic	 MM_refseq_to_affy_moe430b -> MM_refseq_to_affy_moe430b.html [ SUCCESS ]
    MM_refseq_to_affy_moex_1_0_st_v1        html  
REDIRECT:topic	 MM_refseq_to_affy_moex_1_0_st_v1 -> MM_refseq_to_affy_moex_1_0_st_v1.html [ SUCCESS ]
    MM_refseq_to_affy_mogene_1_0_st_v1      html  
REDIRECT:topic	 MM_refseq_to_affy_mogene_1_0_st_v1 -> MM_refseq_to_affy_mogene_1_0_st_v1.html [ SUCCESS ]
    MM_refseq_to_affy_mouse430_2            html  
REDIRECT:topic	 MM_refseq_to_affy_mouse430_2 -> MM_refseq_to_affy_mouse430_2.html [ SUCCESS ]
    MM_refseq_to_affy_mouse430a_2           html  
REDIRECT:topic	 MM_refseq_to_affy_mouse430a_2 -> MM_refseq_to_affy_mouse430a_2.html [ SUCCESS ]
    MM_refseq_to_affy_mu11ksuba             html  
REDIRECT:topic	 MM_refseq_to_affy_mu11ksuba -> MM_refseq_to_affy_mu11ksuba.html [ SUCCESS ]
    MM_refseq_to_affy_mu11ksubb             html  
REDIRECT:topic	 MM_refseq_to_affy_mu11ksubb -> MM_refseq_to_affy_mu11ksubb.html [ SUCCESS ]
    MM_refseq_to_agilent_wholegenome        html  
REDIRECT:topic	 MM_refseq_to_agilent_wholegenome -> MM_refseq_to_agilent_wholegenome.html [ SUCCESS ]
    MM_refseq_to_canonical_transcript_stable_id
                                            html  
REDIRECT:topic	 MM_refseq_to_canonical_transcript_stable_id -> MM_refseq_to_canonical_transcript_stable_id.html [ SUCCESS ]
    MM_refseq_to_ccds                       html  
REDIRECT:topic	 MM_refseq_to_ccds -> MM_refseq_to_ccds.html [ SUCCESS ]
    MM_refseq_to_codelink                   html  
REDIRECT:topic	 MM_refseq_to_codelink -> MM_refseq_to_codelink.html [ SUCCESS ]
    MM_refseq_to_efg_agilent_sureprint_g3_ge_8x60k
                                            html  
REDIRECT:topic	 MM_refseq_to_MM_refseq_to_efg_agilent_sureprint_g3_ge_8x60k -> MM_refseq_to_efg_agilent_sureprint_g3_ge_8x60k.html [ SUCCESS ]
REDIRECT:file	 MM_refseq_to_efg_agilent_sureprint_g3_ge_8x60k.html -> MM_refseq_to_efg_agilent_sureprint_g3_ge_8x60k.html [ SUCCESS ]
    MM_refseq_to_efg_agilent_wholegenome_4x44k_v1
                                            html  
REDIRECT:topic	 MM_refseq_to_MM_refseq_to_efg_agilent_wholegenome_4x44k_v1 -> MM_refseq_to_efg_agilent_wholegenome_4x44k_v1.html [ SUCCESS ]
REDIRECT:file	 MM_refseq_to_efg_agilent_wholegenome_4x44k_v1.html -> MM_refseq_to_efg_agilent_wholegenome_4x44k_v1.html [ SUCCESS ]
    MM_refseq_to_efg_agilent_wholegenome_4x44k_v2
                                            html  
REDIRECT:topic	 MM_refseq_to_MM_refseq_to_efg_agilent_wholegenome_4x44k_v2 -> MM_refseq_to_efg_agilent_wholegenome_4x44k_v2.html [ SUCCESS ]
REDIRECT:file	 MM_refseq_to_efg_agilent_wholegenome_4x44k_v2.html -> MM_refseq_to_efg_agilent_wholegenome_4x44k_v2.html [ SUCCESS ]
    MM_refseq_to_embl                       html  
REDIRECT:topic	 MM_refseq_to_embl -> MM_refseq_to_embl.html [ SUCCESS ]
    MM_refseq_to_ensembl_exon_id            html  
REDIRECT:topic	 MM_refseq_to_MM_refseq_to_ensembl_exon_id -> MM_refseq_to_ensembl_exon_id.html [ SUCCESS ]
REDIRECT:file	 MM_refseq_to_ensembl_exon_id.html -> MM_refseq_to_ensembl_exon_id.html [ SUCCESS ]
    MM_refseq_to_ensembl_gene_id            html  
REDIRECT:topic	 MM_refseq_to_ensembl_gene_id -> MM_refseq_to_ensembl_gene_id.html [ SUCCESS ]
    MM_refseq_to_ensembl_peptide_id         html  
REDIRECT:topic	 MM_refseq_to_ensembl_peptide_id -> MM_refseq_to_ensembl_peptide_id.html [ SUCCESS ]
    MM_refseq_to_ensembl_transcript_id      html  
REDIRECT:topic	 MM_refseq_to_ensembl_transcript_id -> MM_refseq_to_ensembl_transcript_id.html [ SUCCESS ]
    MM_refseq_to_entrezgene                 html  
REDIRECT:topic	 MM_refseq_to_entrezgene -> MM_refseq_to_entrezgene.html [ SUCCESS ]
    MM_refseq_to_fantom                     html  
REDIRECT:topic	 MM_refseq_to_fantom -> MM_refseq_to_fantom.html [ SUCCESS ]
    MM_refseq_to_illumina_mousewg_6_v1      html  
REDIRECT:topic	 MM_refseq_to_illumina_mousewg_6_v1 -> MM_refseq_to_illumina_mousewg_6_v1.html [ SUCCESS ]
    MM_refseq_to_illumina_mousewg_6_v2      html  
REDIRECT:topic	 MM_refseq_to_illumina_mousewg_6_v2 -> MM_refseq_to_illumina_mousewg_6_v2.html [ SUCCESS ]
    MM_refseq_to_interpro                   html  
REDIRECT:topic	 MM_refseq_to_interpro -> MM_refseq_to_interpro.html [ SUCCESS ]
    MM_refseq_to_ipi                        html  
REDIRECT:topic	 MM_refseq_to_ipi -> MM_refseq_to_ipi.html [ SUCCESS ]
    MM_refseq_to_merops                     html  
REDIRECT:topic	 MM_refseq_to_merops -> MM_refseq_to_merops.html [ SUCCESS ]
    MM_refseq_to_mgi_id                     html  
REDIRECT:topic	 MM_refseq_to_mgi_id -> MM_refseq_to_mgi_id.html [ SUCCESS ]
    MM_refseq_to_mgi_symbol                 html  
REDIRECT:topic	 MM_refseq_to_mgi_symbol -> MM_refseq_to_mgi_symbol.html [ SUCCESS ]
    MM_refseq_to_mgi_transcript_name        html  
REDIRECT:topic	 MM_refseq_to_mgi_transcript_name -> MM_refseq_to_mgi_transcript_name.html [ SUCCESS ]
    MM_refseq_to_pdb                        html  
REDIRECT:topic	 MM_refseq_to_pdb -> MM_refseq_to_pdb.html [ SUCCESS ]
    MM_refseq_to_pfam                       html  
REDIRECT:topic	 MM_refseq_to_pfam -> MM_refseq_to_pfam.html [ SUCCESS ]
    MM_refseq_to_phalanx_onearray           html  
REDIRECT:topic	 MM_refseq_to_phalanx_onearray -> MM_refseq_to_phalanx_onearray.html [ SUCCESS ]
    MM_refseq_to_protein_id                 html  
REDIRECT:topic	 MM_refseq_to_protein_id -> MM_refseq_to_protein_id.html [ SUCCESS ]
    MM_refseq_to_refseq_dna                 html  
REDIRECT:topic	 MM_refseq_to_refseq_dna -> MM_refseq_to_refseq_dna.html [ SUCCESS ]
    MM_refseq_to_refseq_peptide             html  
REDIRECT:topic	 MM_refseq_to_refseq_peptide -> MM_refseq_to_refseq_peptide.html [ SUCCESS ]
    MM_refseq_to_rfam                       html  
REDIRECT:topic	 MM_refseq_to_rfam -> MM_refseq_to_rfam.html [ SUCCESS ]
    MM_refseq_to_rfam_gene_name             html  
REDIRECT:topic	 MM_refseq_to_rfam_gene_name -> MM_refseq_to_rfam_gene_name.html [ SUCCESS ]
    MM_refseq_to_rfam_transcript_name       html  
REDIRECT:topic	 MM_refseq_to_rfam_transcript_name -> MM_refseq_to_rfam_transcript_name.html [ SUCCESS ]
    MM_refseq_to_smart                      html  
REDIRECT:topic	 MM_refseq_to_smart -> MM_refseq_to_smart.html [ SUCCESS ]
    MM_refseq_to_tigrfam                    html  
REDIRECT:topic	 MM_refseq_to_tigrfam -> MM_refseq_to_tigrfam.html [ SUCCESS ]
    MM_refseq_to_ucsc                       html  
REDIRECT:topic	 MM_refseq_to_ucsc -> MM_refseq_to_ucsc.html [ SUCCESS ]
    MM_refseq_to_unigene                    html  
REDIRECT:topic	 MM_refseq_to_unigene -> MM_refseq_to_unigene.html [ SUCCESS ]
    MM_refseq_to_uniprot_genename           html  
REDIRECT:topic	 MM_refseq_to_uniprot_genename -> MM_refseq_to_uniprot_genename.html [ SUCCESS ]
    MM_refseq_to_uniprot_genename_transcript_name
                                            html  
REDIRECT:topic	 MM_refseq_to_MM_refseq_to_uniprot_genename_transcript_name -> MM_refseq_to_uniprot_genename_transcript_name.html [ SUCCESS ]
REDIRECT:file	 MM_refseq_to_uniprot_genename_transcript_name.html -> MM_refseq_to_uniprot_genename_transcript_name.html [ SUCCESS ]
    MM_refseq_to_uniprot_sptrembl           html  
REDIRECT:topic	 MM_refseq_to_MM_refseq_to_uniprot_sptrembl -> MM_refseq_to_uniprot_sptrembl.html [ SUCCESS ]
REDIRECT:file	 MM_refseq_to_uniprot_sptrembl.html -> MM_refseq_to_uniprot_sptrembl.html [ SUCCESS ]
    MM_refseq_to_uniprot_swissprot          html  
REDIRECT:topic	 MM_refseq_to_MM_refseq_to_uniprot_swissprot -> MM_refseq_to_uniprot_swissprot.html [ SUCCESS ]
REDIRECT:file	 MM_refseq_to_uniprot_swissprot.html -> MM_refseq_to_uniprot_swissprot.html [ SUCCESS ]
    MM_refseq_to_uniprot_swissprot_accession
                                            html  
REDIRECT:topic	 MM_refseq_to_MM_refseq_to_uniprot_swissprot_accession -> MM_refseq_to_uniprot_swissprot_accession.html [ SUCCESS ]
REDIRECT:file	 MM_refseq_to_uniprot_swissprot_accession.html -> MM_refseq_to_uniprot_swissprot_accession.html [ SUCCESS ]
    MM_refseq_to_wikigene_id                html  
REDIRECT:topic	 MM_refseq_to_MM_refseq_to_wikigene_id -> MM_refseq_to_wikigene_id.html [ SUCCESS ]
REDIRECT:file	 MM_refseq_to_wikigene_id.html -> MM_refseq_to_wikigene_id.html [ SUCCESS ]
    MM_refseq_to_wikigene_name              html  
REDIRECT:topic	 MM_refseq_to_wikigene_name -> MM_refseq_to_wikigene_name.html [ SUCCESS ]
    TBL2                                    html  
REDIRECT:topic	 TBL2 -> TBL2.html [ SUCCESS ]
    TBL2_HS                                 html  
REDIRECT:topic	 TBL2_HS -> TBL2_HS.html [ SUCCESS ]
    TBL2_MM                                 html  
REDIRECT:topic	 TBL2_MM -> TBL2_MM.html [ SUCCESS ]
    conv_id                                 html  
REDIRECT:topic	 conv_id -> conv_id.html [ SUCCESS ]
    id_conv                                 html  
REDIRECT:topic	 id_conv -> id_conv.html [ SUCCESS ]
** building package indices
** installing vignettes
** testing if installed package can be loaded from temporary location
** testing if installed package can be loaded from final location
** testing if installed package keeps a record of temporary installation path

install for x64

* installing *source* package 'miRNATarget' ...
** testing if installed package can be loaded
* MD5 sums
packaged installation of 'miRNATarget' as miRNATarget_1.29.0.zip
* DONE (miRNATarget)
* installing to library 'D:/biocbuild/bbs-3.13-bioc/R/library'
package 'miRNATarget' successfully unpacked and MD5 sums checked

Tests output


Example timings

miRNATarget.Rcheck/examples_i386/miRNATarget-Ex.timings

nameusersystemelapsed
HS_conv_id000
HS_refseq_to_affy_hc_g110000
HS_refseq_to_affy_hg_focus0.020.000.01
HS_refseq_to_affy_hg_u133_plus_20.030.010.05
HS_refseq_to_affy_hg_u133a0.010.000.02
HS_refseq_to_affy_hg_u133a_20.030.000.03
HS_refseq_to_affy_hg_u133b0.020.000.01
HS_refseq_to_affy_hg_u95a0.010.000.02
HS_refseq_to_affy_hg_u95av20.020.000.02
HS_refseq_to_affy_hg_u95b0.010.000.02
HS_refseq_to_affy_hg_u95c0.020.000.01
HS_refseq_to_affy_hg_u95d000
HS_refseq_to_affy_hg_u95e000
HS_refseq_to_affy_huex_1_0_st_v20.640.020.65
HS_refseq_to_affy_hugene_1_0_st_v10.040.000.05
HS_refseq_to_affy_hugenefl0.020.000.02
HS_refseq_to_affy_u133_x3p0.060.000.06
HS_refseq_to_agilent_cgh_44b0.020.000.02
HS_refseq_to_agilent_wholegenome0.060.000.06
HS_refseq_to_canonical_transcript_stable_id0.050.010.06
HS_refseq_to_ccds0.030.000.03
HS_refseq_to_codelink0.030.000.03
HS_refseq_to_efg_agilent_sureprint_g3_ge_8x60k0.020.000.01
HS_refseq_to_efg_agilent_wholegenome_4x44k_v1000
HS_refseq_to_efg_agilent_wholegenome_4x44k_v2000
HS_refseq_to_embl0.480.000.48
HS_refseq_to_ensembl_exon_id000
HS_refseq_to_ensembl_gene_id0.050.000.05
HS_refseq_to_ensembl_peptide_id0.030.000.03
HS_refseq_to_ensembl_transcript_id0.050.000.05
HS_refseq_to_entrezgene0.030.000.03
HS_refseq_to_hgnc_id0.030.000.03
HS_refseq_to_hgnc_symbol0.030.020.05
HS_refseq_to_hgnc_transcript_name0.050.000.04
HS_refseq_to_illumina_humanht_120.040.000.05
HS_refseq_to_illumina_humanwg_6_v10.030.000.03
HS_refseq_to_illumina_humanwg_6_v20.040.000.03
HS_refseq_to_illumina_humanwg_6_v30.030.000.03
HS_refseq_to_interpro0.070.020.09
HS_refseq_to_ipi0.100.000.09
HS_refseq_to_merops000
HS_refseq_to_pdb0.080.000.08
HS_refseq_to_pfam0.050.000.04
HS_refseq_to_phalanx_onearray0.030.000.03
HS_refseq_to_protein_id0.580.000.58
HS_refseq_to_refseq_dna0.050.000.05
HS_refseq_to_refseq_genomic000
HS_refseq_to_refseq_peptide0.060.000.06
HS_refseq_to_rfam000
HS_refseq_to_rfam_gene_name000
HS_refseq_to_rfam_transcript_name000
HS_refseq_to_smart0.030.000.03
HS_refseq_to_tigrfam0.000.010.02
HS_refseq_to_ucsc0.050.000.04
HS_refseq_to_unigene0.050.000.05
HS_refseq_to_uniprot_genename0.030.000.03
HS_refseq_to_uniprot_genename_transcript_name000
HS_refseq_to_uniprot_sptrembl000
HS_refseq_to_uniprot_swissprot000
HS_refseq_to_uniprot_swissprot_accession000
HS_refseq_to_wikigene_id000
HS_refseq_to_wikigene_name0.030.000.04
MM_conv_id0.000.020.01
MM_refseq_to_affy_mg_u74a0.010.000.02
MM_refseq_to_affy_mg_u74av20.020.000.01
MM_refseq_to_affy_mg_u74b0.010.000.02
MM_refseq_to_affy_mg_u74bv20.020.000.01
MM_refseq_to_affy_mg_u74c0.010.000.02
MM_refseq_to_affy_mg_u74cv2000
MM_refseq_to_affy_moe430a0.020.000.02
MM_refseq_to_affy_moe430b000
MM_refseq_to_affy_moex_1_0_st_v10.270.020.28
MM_refseq_to_affy_mogene_1_0_st_v10.010.010.03
MM_refseq_to_affy_mouse430_20.030.000.03
MM_refseq_to_affy_mouse430a_20.020.020.03
MM_refseq_to_affy_mu11ksuba0.010.000.02
MM_refseq_to_affy_mu11ksubb0.020.000.01
MM_refseq_to_agilent_wholegenome0.050.000.05
MM_refseq_to_canonical_transcript_stable_id0.040.000.04
MM_refseq_to_ccds0.020.000.01
MM_refseq_to_codelink0.010.000.02
MM_refseq_to_efg_agilent_sureprint_g3_ge_8x60k000
MM_refseq_to_efg_agilent_wholegenome_4x44k_v1000
MM_refseq_to_efg_agilent_wholegenome_4x44k_v2000
MM_refseq_to_embl0.350.000.34
MM_refseq_to_ensembl_exon_id000
MM_refseq_to_ensembl_gene_id0.010.020.03
MM_refseq_to_ensembl_peptide_id0.040.000.03
MM_refseq_to_ensembl_transcript_id0.030.000.03
MM_refseq_to_entrezgene0.010.010.03
MM_refseq_to_fantom0.080.000.08
MM_refseq_to_illumina_mousewg_6_v10.200.000.21
MM_refseq_to_illumina_mousewg_6_v20.030.000.03
MM_refseq_to_interpro0.080.000.08
MM_refseq_to_ipi000
MM_refseq_to_merops000
MM_refseq_to_mgi_id0.030.000.03
MM_refseq_to_mgi_symbol0.040.000.03
MM_refseq_to_mgi_transcript_name0.030.000.03
MM_refseq_to_pdb000
MM_refseq_to_pfam0.030.000.03
MM_refseq_to_phalanx_onearray0.010.000.02
MM_refseq_to_protein_id0.190.000.19
MM_refseq_to_refseq_dna0.030.020.05
MM_refseq_to_refseq_peptide0.060.000.06
MM_refseq_to_rfam000
MM_refseq_to_rfam_gene_name000
MM_refseq_to_rfam_transcript_name000
MM_refseq_to_smart0.020.010.04
MM_refseq_to_tigrfam0.010.000.01
MM_refseq_to_ucsc0.030.000.03
MM_refseq_to_unigene0.050.000.05
MM_refseq_to_uniprot_genename0.030.000.03
MM_refseq_to_uniprot_genename_transcript_name000
MM_refseq_to_uniprot_sptrembl000
MM_refseq_to_uniprot_swissprot000
MM_refseq_to_uniprot_swissprot_accession000
MM_refseq_to_wikigene_id000
MM_refseq_to_wikigene_name0.020.020.03
TBL20.860.030.89
TBL2_HS0.930.111.05
TBL2_MM0.530.110.64
conv_id000
id_conv0.020.010.03

miRNATarget.Rcheck/examples_x64/miRNATarget-Ex.timings

nameusersystemelapsed
HS_conv_id0.020.000.01
HS_refseq_to_affy_hc_g110000
HS_refseq_to_affy_hg_focus0.010.000.02
HS_refseq_to_affy_hg_u133_plus_20.050.000.05
HS_refseq_to_affy_hg_u133a0.030.000.03
HS_refseq_to_affy_hg_u133a_20.030.000.03
HS_refseq_to_affy_hg_u133b0.020.000.01
HS_refseq_to_affy_hg_u95a0.010.000.02
HS_refseq_to_affy_hg_u95av20.020.000.01
HS_refseq_to_affy_hg_u95b0.020.000.02
HS_refseq_to_affy_hg_u95c0.010.000.01
HS_refseq_to_affy_hg_u95d000
HS_refseq_to_affy_hg_u95e0.000.010.02
HS_refseq_to_affy_huex_1_0_st_v20.670.030.70
HS_refseq_to_affy_hugene_1_0_st_v10.030.000.03
HS_refseq_to_affy_hugenefl0.000.020.01
HS_refseq_to_affy_u133_x3p0.050.000.05
HS_refseq_to_agilent_cgh_44b0.020.000.01
HS_refseq_to_agilent_wholegenome0.060.000.06
HS_refseq_to_canonical_transcript_stable_id0.060.000.07
HS_refseq_to_ccds0.030.000.03
HS_refseq_to_codelink0.030.000.03
HS_refseq_to_efg_agilent_sureprint_g3_ge_8x60k000
HS_refseq_to_efg_agilent_wholegenome_4x44k_v1000
HS_refseq_to_efg_agilent_wholegenome_4x44k_v2000
HS_refseq_to_embl0.580.000.58
HS_refseq_to_ensembl_exon_id000
HS_refseq_to_ensembl_gene_id0.030.000.04
HS_refseq_to_ensembl_peptide_id0.030.000.03
HS_refseq_to_ensembl_transcript_id0.050.000.05
HS_refseq_to_entrezgene0.050.000.05
HS_refseq_to_hgnc_id0.150.000.15
HS_refseq_to_hgnc_symbol0.040.000.03
HS_refseq_to_hgnc_transcript_name0.030.000.03
HS_refseq_to_illumina_humanht_120.030.000.03
HS_refseq_to_illumina_humanwg_6_v10.030.010.04
HS_refseq_to_illumina_humanwg_6_v20.030.000.04
HS_refseq_to_illumina_humanwg_6_v30.030.000.03
HS_refseq_to_interpro0.080.000.08
HS_refseq_to_ipi0.080.000.08
HS_refseq_to_merops000
HS_refseq_to_pdb0.050.010.07
HS_refseq_to_pfam0.040.000.05
HS_refseq_to_phalanx_onearray0.030.000.03
HS_refseq_to_protein_id0.880.040.91
HS_refseq_to_refseq_dna0.030.000.03
HS_refseq_to_refseq_genomic000
HS_refseq_to_refseq_peptide0.060.010.08
HS_refseq_to_rfam000
HS_refseq_to_rfam_gene_name000
HS_refseq_to_rfam_transcript_name000
HS_refseq_to_smart0.030.000.03
HS_refseq_to_tigrfam000
HS_refseq_to_ucsc0.050.000.05
HS_refseq_to_unigene0.040.000.04
HS_refseq_to_uniprot_genename0.030.000.03
HS_refseq_to_uniprot_genename_transcript_name000
HS_refseq_to_uniprot_sptrembl000
HS_refseq_to_uniprot_swissprot000
HS_refseq_to_uniprot_swissprot_accession0.020.000.01
HS_refseq_to_wikigene_id000
HS_refseq_to_wikigene_name0.050.000.05
MM_conv_id000
MM_refseq_to_affy_mg_u74a0.000.020.01
MM_refseq_to_affy_mg_u74av2000
MM_refseq_to_affy_mg_u74b000
MM_refseq_to_affy_mg_u74bv2000
MM_refseq_to_affy_mg_u74c000
MM_refseq_to_affy_mg_u74cv20.010.000.01
MM_refseq_to_affy_moe430a0.020.000.02
MM_refseq_to_affy_moe430b000
MM_refseq_to_affy_moex_1_0_st_v10.250.000.25
MM_refseq_to_affy_mogene_1_0_st_v10.010.000.01
MM_refseq_to_affy_mouse430_20.030.000.03
MM_refseq_to_affy_mouse430a_20.040.000.03
MM_refseq_to_affy_mu11ksuba0.010.000.01
MM_refseq_to_affy_mu11ksubb000
MM_refseq_to_agilent_wholegenome0.050.000.05
MM_refseq_to_canonical_transcript_stable_id0.050.000.04
MM_refseq_to_ccds0.030.000.04
MM_refseq_to_codelink0.030.000.03
MM_refseq_to_efg_agilent_sureprint_g3_ge_8x60k000
MM_refseq_to_efg_agilent_wholegenome_4x44k_v1000
MM_refseq_to_efg_agilent_wholegenome_4x44k_v2000
MM_refseq_to_embl0.200.010.22
MM_refseq_to_ensembl_exon_id000
MM_refseq_to_ensembl_gene_id0.140.000.14
MM_refseq_to_ensembl_peptide_id0.030.000.03
MM_refseq_to_ensembl_transcript_id0.030.000.03
MM_refseq_to_entrezgene0.040.000.03
MM_refseq_to_fantom0.070.000.08
MM_refseq_to_illumina_mousewg_6_v10.030.000.03
MM_refseq_to_illumina_mousewg_6_v20.040.000.03
MM_refseq_to_interpro0.060.000.07
MM_refseq_to_ipi0.010.000.01
MM_refseq_to_merops000
MM_refseq_to_mgi_id0.040.000.03
MM_refseq_to_mgi_symbol0.010.000.01
MM_refseq_to_mgi_transcript_name0.030.000.03
MM_refseq_to_pdb0.020.000.02
MM_refseq_to_pfam0.040.000.04
MM_refseq_to_phalanx_onearray0.040.000.03
MM_refseq_to_protein_id0.200.000.21
MM_refseq_to_refseq_dna0.030.020.04
MM_refseq_to_refseq_peptide0.050.000.05
MM_refseq_to_rfam000
MM_refseq_to_rfam_gene_name000
MM_refseq_to_rfam_transcript_name000
MM_refseq_to_smart0.030.000.03
MM_refseq_to_tigrfam000
MM_refseq_to_ucsc0.030.020.05
MM_refseq_to_unigene0.030.000.03
MM_refseq_to_uniprot_genename0.030.000.03
MM_refseq_to_uniprot_genename_transcript_name000
MM_refseq_to_uniprot_sptrembl0.000.010.01
MM_refseq_to_uniprot_swissprot000
MM_refseq_to_uniprot_swissprot_accession000
MM_refseq_to_wikigene_id000
MM_refseq_to_wikigene_name0.030.000.03
TBL20.990.021.00
TBL2_HS0.890.070.97
TBL2_MM0.510.080.59
conv_id0.020.000.01
id_conv0.020.000.02