Back to Multiple platform build/check report for BioC 3.13 experimental data
ABCDEFGHIJKL[M]NOPQRSTUVWXYZ

BUILD report for miRNATarget on riesling1

This page was generated on 2021-01-14 15:59:09 -0500 (Thu, 14 Jan 2021).

TO THE DEVELOPERS/MAINTAINERS OF THE miRNATarget PACKAGE: Please make sure to use the following settings in order to reproduce any error or warning you see on this page.
Package 228/385HostnameOS / ArchINSTALLBUILDCHECK
miRNATarget 1.29.0
Y-h. Taguchi
Snapshot Date: 2021-01-14 09:00:13 -0500 (Thu, 14 Jan 2021)
URL: https://git.bioconductor.org/packages/miRNATarget
Branch: master
Last Commit: a1cadec
Last Changed Date: 2020-10-27 09:55:35 -0500 (Tue, 27 Oct 2020)
malbec2 Linux (Ubuntu 20.04.1 LTS) / x86_64  OK  OK  OK UNNEEDED, same version exists in internal repository
riesling1 Windows Server 2019 Standard / x64  OK [ OK ] OK 

Summary

Package: miRNATarget
Version: 1.29.0
Command: chmod a+r miRNATarget -R && D:\biocbuild\bbs-3.13-bioc\R\bin\R.exe CMD build --keep-empty-dirs --no-resave-data miRNATarget
StartedAt: 2021-01-14 10:45:44 -0500 (Thu, 14 Jan 2021)
EndedAt: 2021-01-14 10:46:05 -0500 (Thu, 14 Jan 2021)
EllapsedTime: 20.6 seconds
RetCode: 0
Status:  OK  
PackageFile: miRNATarget_1.29.0.tar.gz
PackageFileSize: 51.87 MiB

Command output

##############################################################################
##############################################################################
###
### Running command:
###
###   chmod a+r miRNATarget -R && D:\biocbuild\bbs-3.13-bioc\R\bin\R.exe CMD build --keep-empty-dirs --no-resave-data miRNATarget
###
##############################################################################
##############################################################################


* checking for file 'miRNATarget/DESCRIPTION' ... OK
* preparing 'miRNATarget':
* checking DESCRIPTION meta-information ... OK
* installing the package to build vignettes
* creating vignettes ... OK
* checking for LF line-endings in source and make files and shell scripts
* checking for empty or unneeded directories
* looking to see if a 'data/datalist' file should be added
* building 'miRNATarget_1.29.0.tar.gz'