Back to Multiple platform build/check report for BioC 3.13 experimental data
ABCDEFGHIJKL[M]NOPQRSTUVWXYZ

INSTALL report for metaMSdata on riesling1

This page was generated on 2021-01-21 16:01:31 -0500 (Thu, 21 Jan 2021).

TO THE DEVELOPERS/MAINTAINERS OF THE metaMSdata PACKAGE: Please make sure to use the following settings in order to reproduce any error or warning you see on this page.
Package 219/386HostnameOS / ArchINSTALLBUILDCHECK
metaMSdata 1.27.0
Yann Guitton
Snapshot Date: 2021-01-21 09:00:14 -0500 (Thu, 21 Jan 2021)
URL: https://git.bioconductor.org/packages/metaMSdata
Branch: master
Last Commit: 589e2fb
Last Changed Date: 2020-10-27 10:08:44 -0500 (Tue, 27 Oct 2020)
malbec2 Linux (Ubuntu 20.04.1 LTS) / x86_64  OK  OK  OK UNNEEDED, same version exists in internal repository
riesling1 Windows Server 2019 Standard / x64 [ OK ] OK  OK 

Summary

Package: metaMSdata
Version: 1.27.0
Command: C:\cygwin\bin\curl.exe -O http://172.29.0.4/BBS/3.13/data-experiment/src/contrib/metaMSdata_1.27.0.tar.gz && rm -rf metaMSdata.buildbin-libdir && mkdir metaMSdata.buildbin-libdir && D:\biocbuild\bbs-3.13-bioc\R\bin\R.exe CMD INSTALL --merge-multiarch --build --library=metaMSdata.buildbin-libdir metaMSdata_1.27.0.tar.gz && D:\biocbuild\bbs-3.13-bioc\R\bin\R.exe CMD INSTALL metaMSdata_1.27.0.zip && rm metaMSdata_1.27.0.tar.gz metaMSdata_1.27.0.zip
StartedAt: 2021-01-21 09:51:01 -0500 (Thu, 21 Jan 2021)
EndedAt: 2021-01-21 09:58:13 -0500 (Thu, 21 Jan 2021)
EllapsedTime: 432.3 seconds
RetCode: 0
Status:  OK  

Command output

##############################################################################
##############################################################################
###
### Running command:
###
###   C:\cygwin\bin\curl.exe -O http://172.29.0.4/BBS/3.13/data-experiment/src/contrib/metaMSdata_1.27.0.tar.gz && rm -rf metaMSdata.buildbin-libdir && mkdir metaMSdata.buildbin-libdir && D:\biocbuild\bbs-3.13-bioc\R\bin\R.exe CMD INSTALL --merge-multiarch --build --library=metaMSdata.buildbin-libdir metaMSdata_1.27.0.tar.gz && D:\biocbuild\bbs-3.13-bioc\R\bin\R.exe CMD INSTALL metaMSdata_1.27.0.zip && rm metaMSdata_1.27.0.tar.gz metaMSdata_1.27.0.zip
###
##############################################################################
##############################################################################


  % Total    % Received % Xferd  Average Speed   Time    Time     Time  Current
                                 Dload  Upload   Total   Spent    Left  Speed

  0     0    0     0    0     0      0      0 --:--:-- --:--:-- --:--:--     0
  0  124M    0  254k    0     0   354k      0  0:06:00 --:--:--  0:06:00  353k
  1  124M    1 1789k    0     0  1046k      0  0:02:02  0:00:01  0:02:01 1046k
  2  124M    2 3337k    0     0  1239k      0  0:01:43  0:00:02  0:01:41 1238k
  3  124M    3 4941k    0     0  1319k      0  0:01:36  0:00:03  0:01:33 1318k
  5  124M    5 7138k    0     0  1517k      0  0:01:24  0:00:04  0:01:20 1516k
  7  124M    7 9670k    0     0  1600k      0  0:01:19  0:00:06  0:01:13 1768k
  9  124M    9 11.8M    0     0  1810k      0  0:01:10  0:00:06  0:01:04 2072k
 18  124M   18 23.1M    0     0  2846k      0  0:00:44  0:00:08  0:00:36 3613k
 24  124M   24 30.9M    0     0  3656k      0  0:00:34  0:00:08  0:00:26 5429k
 43  124M   43 54.6M    0     0  5391k      0  0:00:23  0:00:10  0:00:13 8602k
 52  124M   52 65.3M    0     0  6267k      0  0:00:20  0:00:10  0:00:10 12.0M
 65  124M   65 82.3M    0     0  7216k      0  0:00:17  0:00:11  0:00:06 14.0M
 75  124M   75 94.7M    0     0  7565k      0  0:00:16  0:00:12  0:00:04 15.9M
 78  124M   78 98.2M    0     0  7160k      0  0:00:17  0:00:14  0:00:03 12.5M
 80  124M   80  100M    0     0  6851k      0  0:00:18  0:00:14  0:00:04  9.9M
 81  124M   81  101M    0     0  6543k      0  0:00:19  0:00:15  0:00:04 7108k
 87  124M   87  109M    0     0  6692k      0  0:00:19  0:00:16  0:00:03 5470k
 90  124M   90  112M    0     0  6499k      0  0:00:19  0:00:17  0:00:02 3705k
 95  124M   95  119M    0     0  6467k      0  0:00:19  0:00:18  0:00:01 4438k
100  124M  100  124M    0     0  6549k      0  0:00:19  0:00:19 --:--:-- 5562k

install for i386

* installing *source* package 'metaMSdata' ...
** using staged installation
** inst
** help
*** installing help indices
  converting help for package 'metaMSdata'
    finding HTML links ... done
    metaMSdata-package                      html  
REDIRECT:topic	 metaMSdata-package -> metaMSdata-package.html [ SUCCESS ]
REDIRECT:topic	 metaMSdata -> metaMSdata-package.html [ SUCCESS ]
** building package indices
** testing if installed package can be loaded from temporary location
** testing if installed package can be loaded from final location
** testing if installed package keeps a record of temporary installation path

install for x64

* installing *source* package 'metaMSdata' ...
** testing if installed package can be loaded
* MD5 sums
packaged installation of 'metaMSdata' as metaMSdata_1.27.0.zip
* DONE (metaMSdata)
* installing to library 'D:/biocbuild/bbs-3.13-bioc/R/library'
package 'metaMSdata' successfully unpacked and MD5 sums checked