Back to Multiple platform build/check report for BioC 3.13 experimental data
ABCDEFGHIJKL[M]NOPQRSTUVWXYZ

INSTALL report for mcsurvdata on riesling1

This page was generated on 2021-03-01 15:56:10 -0500 (Mon, 01 Mar 2021).

To the developers/maintainers of the mcsurvdata package:
Please make sure to use the following settings in order to reproduce any error or warning you see on this page.
Package 215/391HostnameOS / ArchINSTALLBUILDCHECK
mcsurvdata 1.9.0
Adria Caballe Mestres
Snapshot Date: 2021-03-01 09:00:05 -0500 (Mon, 01 Mar 2021)
URL: https://git.bioconductor.org/packages/mcsurvdata
Branch: master
Last Commit: 5869dff
Last Changed Date: 2020-10-27 10:27:31 -0500 (Tue, 27 Oct 2020)
rex3Linux (Ubuntu 20.04.2 LTS) / x86_64  OK    OK    OK  UNNEEDED, same version exists in internal repository
riesling1Windows Server 2019 Standard / x64  OK    OK    OK  

Summary

Package: mcsurvdata
Version: 1.9.0
Command: C:\cygwin\bin\curl.exe -O http://155.52.173.35/BBS/3.13/data-experiment/src/contrib/mcsurvdata_1.9.0.tar.gz && rm -rf mcsurvdata.buildbin-libdir && mkdir mcsurvdata.buildbin-libdir && D:\biocbuild\bbs-3.13-bioc\R\bin\R.exe CMD INSTALL --merge-multiarch --build --library=mcsurvdata.buildbin-libdir mcsurvdata_1.9.0.tar.gz && D:\biocbuild\bbs-3.13-bioc\R\bin\R.exe CMD INSTALL mcsurvdata_1.9.0.zip && rm mcsurvdata_1.9.0.tar.gz mcsurvdata_1.9.0.zip
StartedAt: 2021-03-01 10:19:09 -0500 (Mon, 01 Mar 2021)
EndedAt: 2021-03-01 10:20:35 -0500 (Mon, 01 Mar 2021)
EllapsedTime: 85.8 seconds
RetCode: 0
Status:   OK   

Command output

##############################################################################
##############################################################################
###
### Running command:
###
###   C:\cygwin\bin\curl.exe -O http://155.52.173.35/BBS/3.13/data-experiment/src/contrib/mcsurvdata_1.9.0.tar.gz && rm -rf mcsurvdata.buildbin-libdir && mkdir mcsurvdata.buildbin-libdir && D:\biocbuild\bbs-3.13-bioc\R\bin\R.exe CMD INSTALL --merge-multiarch --build --library=mcsurvdata.buildbin-libdir mcsurvdata_1.9.0.tar.gz && D:\biocbuild\bbs-3.13-bioc\R\bin\R.exe CMD INSTALL mcsurvdata_1.9.0.zip && rm mcsurvdata_1.9.0.tar.gz mcsurvdata_1.9.0.zip
###
##############################################################################
##############################################################################


  % Total    % Received % Xferd  Average Speed   Time    Time     Time  Current
                                 Dload  Upload   Total   Spent    Left  Speed

  0     0    0     0    0     0      0      0 --:--:-- --:--:-- --:--:--     0
100  8692  100  8692    0     0   180k      0 --:--:-- --:--:-- --:--:--  184k

install for i386

* installing *source* package 'mcsurvdata' ...
** using staged installation
** inst
** help
*** installing help indices
  converting help for package 'mcsurvdata'
    finding HTML links ... done
    mcsurvdata                              html  
REDIRECT:topic	 mcsurvdata-package -> mcsurvdata.html [ SUCCESS ]
REDIRECT:file	 mcsurvdata.html -> mcsurvdata.html [ SUCCESS ]
    nda.brca                                html  
REDIRECT:topic	 nda.brca -> nda.brca.html [ SUCCESS ]
    nda.crc                                 html  
REDIRECT:topic	 nda.crc -> nda.crc.html [ SUCCESS ]
** building package indices
** installing vignettes
** testing if installed package can be loaded from temporary location
** testing if installed package can be loaded from final location
** testing if installed package keeps a record of temporary installation path

install for x64

* installing *source* package 'mcsurvdata' ...
** testing if installed package can be loaded
* MD5 sums
packaged installation of 'mcsurvdata' as mcsurvdata_1.9.0.zip
* DONE (mcsurvdata)
* installing to library 'D:/biocbuild/bbs-3.13-bioc/R/library'
package 'mcsurvdata' successfully unpacked and MD5 sums checked