Back to Multiple platform build/check report for BioC 3.13 experimental data |
|
This page was generated on 2021-01-14 15:59:09 -0500 (Thu, 14 Jan 2021).
TO THE DEVELOPERS/MAINTAINERS OF THE mcsurvdata PACKAGE: Please make sure to use the following settings in order to reproduce any error or warning you see on this page. |
Package 213/385 | Hostname | OS / Arch | INSTALL | BUILD | CHECK | ||||||
mcsurvdata 1.9.0 Adria Caballe Mestres
| malbec2 | Linux (Ubuntu 20.04.1 LTS) / x86_64 | OK | OK | OK | ![]() | |||||
riesling1 | Windows Server 2019 Standard / x64 | OK | OK | [ OK ] |
Package: mcsurvdata |
Version: 1.9.0 |
Command: D:\biocbuild\bbs-3.13-bioc\R\bin\R.exe CMD check --force-multiarch --install=check:mcsurvdata.install-out.txt --library=D:\biocbuild\bbs-3.13-bioc\R\library --no-vignettes --timings mcsurvdata_1.9.0.tar.gz |
StartedAt: 2021-01-14 11:27:01 -0500 (Thu, 14 Jan 2021) |
EndedAt: 2021-01-14 11:28:40 -0500 (Thu, 14 Jan 2021) |
EllapsedTime: 98.7 seconds |
RetCode: 0 |
Status: OK |
CheckDir: mcsurvdata.Rcheck |
Warnings: 0 |
############################################################################## ############################################################################## ### ### Running command: ### ### D:\biocbuild\bbs-3.13-bioc\R\bin\R.exe CMD check --force-multiarch --install=check:mcsurvdata.install-out.txt --library=D:\biocbuild\bbs-3.13-bioc\R\library --no-vignettes --timings mcsurvdata_1.9.0.tar.gz ### ############################################################################## ############################################################################## * using log directory 'D:/biocbuild/bbs-3.13-data-experiment/meat/mcsurvdata.Rcheck' * using R Under development (unstable) (2020-12-30 r79736) * using platform: x86_64-w64-mingw32 (64-bit) * using session charset: ISO8859-1 * using option '--no-vignettes' * checking for file 'mcsurvdata/DESCRIPTION' ... OK * checking extension type ... Package * this is package 'mcsurvdata' version '1.9.0' * checking package namespace information ... OK * checking package dependencies ... OK * checking if this is a source package ... OK * checking if there is a namespace ... OK * checking for hidden files and directories ... OK * checking for portable file names ... OK * checking whether package 'mcsurvdata' can be installed ... OK * checking installed package size ... OK * checking package directory ... OK * checking 'build' directory ... OK * checking DESCRIPTION meta-information ... OK * checking top-level files ... OK * checking for left-over files ... OK * checking index information ... OK * checking package subdirectories ... OK * loading checks for arch 'i386' ** checking whether the package can be loaded ... OK ** checking whether the package can be loaded with stated dependencies ... OK ** checking whether the package can be unloaded cleanly ... OK ** checking whether the namespace can be loaded with stated dependencies ... OK ** checking whether the namespace can be unloaded cleanly ... OK * loading checks for arch 'x64' ** checking whether the package can be loaded ... OK ** checking whether the package can be loaded with stated dependencies ... OK ** checking whether the package can be unloaded cleanly ... OK ** checking whether the namespace can be loaded with stated dependencies ... OK ** checking whether the namespace can be unloaded cleanly ... OK * checking Rd files ... OK * checking Rd metadata ... OK * checking Rd cross-references ... OK * checking for code/documentation mismatches ... OK * checking Rd \usage sections ... OK * checking Rd contents ... OK * checking for unstated dependencies in examples ... OK * checking files in 'vignettes' ... OK * checking examples ... ** running examples for arch 'i386' ... OK Examples with CPU (user + system) or elapsed time > 5s user system elapsed mcsurvdata 12.91 0.94 14.67 nda.crc 6.28 0.24 6.83 nda.brca 6.03 0.26 6.68 ** running examples for arch 'x64' ... OK Examples with CPU (user + system) or elapsed time > 5s user system elapsed mcsurvdata 10.85 1.10 13.12 nda.crc 5.29 0.30 6.23 nda.brca 4.78 0.39 5.63 * checking for unstated dependencies in vignettes ... OK * checking package vignettes in 'inst/doc' ... OK * checking running R code from vignettes ... SKIPPED * checking re-building of vignette outputs ... SKIPPED * checking PDF version of manual ... OK * DONE Status: OK
mcsurvdata.Rcheck/00install.out
############################################################################## ############################################################################## ### ### Running command: ### ### C:\cygwin\bin\curl.exe -O http://172.29.0.4/BBS/3.13/data-experiment/src/contrib/mcsurvdata_1.9.0.tar.gz && rm -rf mcsurvdata.buildbin-libdir && mkdir mcsurvdata.buildbin-libdir && D:\biocbuild\bbs-3.13-bioc\R\bin\R.exe CMD INSTALL --merge-multiarch --build --library=mcsurvdata.buildbin-libdir mcsurvdata_1.9.0.tar.gz && D:\biocbuild\bbs-3.13-bioc\R\bin\R.exe CMD INSTALL mcsurvdata_1.9.0.zip && rm mcsurvdata_1.9.0.tar.gz mcsurvdata_1.9.0.zip ### ############################################################################## ############################################################################## % Total % Received % Xferd Average Speed Time Time Time Current Dload Upload Total Spent Left Speed 0 0 0 0 0 0 0 0 --:--:-- --:--:-- --:--:-- 0 100 8930 100 8930 0 0 74416 0 --:--:-- --:--:-- --:--:-- 74416 install for i386 * installing *source* package 'mcsurvdata' ... ** using staged installation ** inst ** help *** installing help indices converting help for package 'mcsurvdata' finding HTML links ... done mcsurvdata html REDIRECT:topic mcsurvdata-package -> mcsurvdata.html [ SUCCESS ] REDIRECT:file mcsurvdata.html -> mcsurvdata.html [ SUCCESS ] nda.brca html REDIRECT:topic nda.brca -> nda.brca.html [ SUCCESS ] nda.crc html REDIRECT:topic nda.crc -> nda.crc.html [ SUCCESS ] ** building package indices ** installing vignettes ** testing if installed package can be loaded from temporary location ** testing if installed package can be loaded from final location ** testing if installed package keeps a record of temporary installation path install for x64 * installing *source* package 'mcsurvdata' ... ** testing if installed package can be loaded * MD5 sums packaged installation of 'mcsurvdata' as mcsurvdata_1.9.0.zip * DONE (mcsurvdata) * installing to library 'D:/biocbuild/bbs-3.13-bioc/R/library' package 'mcsurvdata' successfully unpacked and MD5 sums checked
mcsurvdata.Rcheck/examples_i386/mcsurvdata-Ex.timings
|
mcsurvdata.Rcheck/examples_x64/mcsurvdata-Ex.timings
|