Back to Multiple platform build/check report for BioC 3.13 experimental data
ABCDEFGHIJKL[M]NOPQRSTUVWXYZ

INSTALL report for mammaPrintData on riesling1

This page was generated on 2021-01-11 15:59:31 -0500 (Mon, 11 Jan 2021).

TO THE DEVELOPERS/MAINTAINERS OF THE mammaPrintData PACKAGE: Please make sure to use the following settings in order to reproduce any error or warning you see on this page.
Package 206/385HostnameOS / ArchINSTALLBUILDCHECK
mammaPrintData 1.27.0
Luigi Marchionni
Snapshot Date: 2021-01-11 09:00:09 -0500 (Mon, 11 Jan 2021)
URL: https://git.bioconductor.org/packages/mammaPrintData
Branch: master
Last Commit: c46fc03
Last Changed Date: 2020-10-27 10:02:43 -0500 (Tue, 27 Oct 2020)
malbec2 Linux (Ubuntu 20.04.1 LTS) / x86_64  OK  OK  OK UNNEEDED, same version exists in internal repository
riesling1 Windows Server 2019 Standard / x64 [ OK ] OK  OK 

Summary

Package: mammaPrintData
Version: 1.27.0
Command: C:\cygwin\bin\curl.exe -O http://172.29.0.4/BBS/3.13/data-experiment/src/contrib/mammaPrintData_1.27.0.tar.gz && rm -rf mammaPrintData.buildbin-libdir && mkdir mammaPrintData.buildbin-libdir && D:\biocbuild\bbs-3.13-bioc\R\bin\R.exe CMD INSTALL --merge-multiarch --build --library=mammaPrintData.buildbin-libdir mammaPrintData_1.27.0.tar.gz && D:\biocbuild\bbs-3.13-bioc\R\bin\R.exe CMD INSTALL mammaPrintData_1.27.0.zip && rm mammaPrintData_1.27.0.tar.gz mammaPrintData_1.27.0.zip
StartedAt: 2021-01-11 09:58:08 -0500 (Mon, 11 Jan 2021)
EndedAt: 2021-01-11 10:01:37 -0500 (Mon, 11 Jan 2021)
EllapsedTime: 208.9 seconds
RetCode: 0
Status:  OK  

Command output

##############################################################################
##############################################################################
###
### Running command:
###
###   C:\cygwin\bin\curl.exe -O http://172.29.0.4/BBS/3.13/data-experiment/src/contrib/mammaPrintData_1.27.0.tar.gz && rm -rf mammaPrintData.buildbin-libdir && mkdir mammaPrintData.buildbin-libdir && D:\biocbuild\bbs-3.13-bioc\R\bin\R.exe CMD INSTALL --merge-multiarch --build --library=mammaPrintData.buildbin-libdir mammaPrintData_1.27.0.tar.gz && D:\biocbuild\bbs-3.13-bioc\R\bin\R.exe CMD INSTALL mammaPrintData_1.27.0.zip && rm mammaPrintData_1.27.0.tar.gz mammaPrintData_1.27.0.zip
###
##############################################################################
##############################################################################


  % Total    % Received % Xferd  Average Speed   Time    Time     Time  Current
                                 Dload  Upload   Total   Spent    Left  Speed

  0     0    0     0    0     0      0      0 --:--:-- --:--:-- --:--:--     0
  0     0    0     0    0     0      0      0 --:--:-- --:--:-- --:--:--     0
 13  213M   13 29.1M    0     0  27.8M      0  0:00:07  0:00:01  0:00:06 27.8M
 48  213M   48  104M    0     0  51.2M      0  0:00:04  0:00:02  0:00:02 51.2M
 93  213M   93  200M    0     0  65.9M      0  0:00:03  0:00:03 --:--:-- 65.8M
100  213M  100  213M    0     0  62.9M      0  0:00:03  0:00:03 --:--:-- 62.8M

install for i386

* installing *source* package 'mammaPrintData' ...
** using staged installation
** data
** inst
** help
*** installing help indices
  converting help for package 'mammaPrintData'
    finding HTML links ... done
    buyseRGcy3                              html  
REDIRECT:topic	 buyseRGcy3 -> buyseRGcy3.html [ SUCCESS ]
    buyseRGcy5                              html  
REDIRECT:topic	 buyseRGcy5 -> buyseRGcy5.html [ SUCCESS ]
    glasRGcy3                               html  
REDIRECT:topic	 glasRGcy3 -> glasRGcy3.html [ SUCCESS ]
    glasRGcy5                               html  
REDIRECT:topic	 glasRGcy5 -> glasRGcy5.html [ SUCCESS ]
    mammaPrintData                          html  
REDIRECT:topic	 mammaPrintData-package -> mammaPrintData.html [ SUCCESS ]
REDIRECT:topic	 mammaPrintData -> mammaPrintData.html [ SUCCESS ]
** building package indices
** installing vignettes
** testing if installed package can be loaded from temporary location
** testing if installed package can be loaded from final location
** testing if installed package keeps a record of temporary installation path

install for x64

* installing *source* package 'mammaPrintData' ...
** testing if installed package can be loaded
* MD5 sums
packaged installation of 'mammaPrintData' as mammaPrintData_1.27.0.zip
* DONE (mammaPrintData)
* installing to library 'D:/biocbuild/bbs-3.13-bioc/R/library'
package 'mammaPrintData' successfully unpacked and MD5 sums checked