Back to Multiple platform build/check report for BioC 3.13 experimental data
ABCDEFGHIJKL[M]NOPQRSTUVWXYZ

INSTALL report for macrophage on riesling1

This page was generated on 2021-01-18 15:58:48 -0500 (Mon, 18 Jan 2021).

TO THE DEVELOPERS/MAINTAINERS OF THE macrophage PACKAGE: Please make sure to use the following settings in order to reproduce any error or warning you see on this page.
Package 205/385HostnameOS / ArchINSTALLBUILDCHECK
macrophage 1.7.0
Michael Love
Snapshot Date: 2021-01-18 09:00:15 -0500 (Mon, 18 Jan 2021)
URL: https://git.bioconductor.org/packages/macrophage
Branch: master
Last Commit: 24b8351
Last Changed Date: 2020-10-27 10:29:13 -0500 (Tue, 27 Oct 2020)
malbec2 Linux (Ubuntu 20.04.1 LTS) / x86_64  OK  OK  OK UNNEEDED, same version exists in internal repository
riesling1 Windows Server 2019 Standard / x64 [ OK ] OK  OK 

Summary

Package: macrophage
Version: 1.7.0
Command: C:\cygwin\bin\curl.exe -O http://172.29.0.4/BBS/3.13/data-experiment/src/contrib/macrophage_1.7.0.tar.gz && rm -rf macrophage.buildbin-libdir && mkdir macrophage.buildbin-libdir && D:\biocbuild\bbs-3.13-bioc\R\bin\R.exe CMD INSTALL --merge-multiarch --build --library=macrophage.buildbin-libdir macrophage_1.7.0.tar.gz && D:\biocbuild\bbs-3.13-bioc\R\bin\R.exe CMD INSTALL macrophage_1.7.0.zip && rm macrophage_1.7.0.tar.gz macrophage_1.7.0.zip
StartedAt: 2021-01-18 09:48:40 -0500 (Mon, 18 Jan 2021)
EndedAt: 2021-01-18 09:50:11 -0500 (Mon, 18 Jan 2021)
EllapsedTime: 91.0 seconds
RetCode: 0
Status:  OK  

Command output

##############################################################################
##############################################################################
###
### Running command:
###
###   C:\cygwin\bin\curl.exe -O http://172.29.0.4/BBS/3.13/data-experiment/src/contrib/macrophage_1.7.0.tar.gz && rm -rf macrophage.buildbin-libdir && mkdir macrophage.buildbin-libdir && D:\biocbuild\bbs-3.13-bioc\R\bin\R.exe CMD INSTALL --merge-multiarch --build --library=macrophage.buildbin-libdir macrophage_1.7.0.tar.gz && D:\biocbuild\bbs-3.13-bioc\R\bin\R.exe CMD INSTALL macrophage_1.7.0.zip && rm macrophage_1.7.0.tar.gz macrophage_1.7.0.zip
###
##############################################################################
##############################################################################


  % Total    % Received % Xferd  Average Speed   Time    Time     Time  Current
                                 Dload  Upload   Total   Spent    Left  Speed

  0     0    0     0    0     0      0      0 --:--:-- --:--:-- --:--:--     0
  0  511M    0  1211    0     0   1003      0   6d 04h  0:00:01   6d 04h  1003
  0  511M    0 1683k    0     0   770k      0  0:11:19  0:00:02  0:11:17  770k
  0  511M    0 3393k    0     0  1132k      0  0:07:42  0:00:02  0:07:40 1132k
  6  511M    6 33.2M    0     0  8602k      0  0:01:00  0:00:03  0:00:57 8599k
 21  511M   21  110M    0     0  22.2M      0  0:00:23  0:00:04  0:00:19 22.2M
 38  511M   38  197M    0     0  33.0M      0  0:00:15  0:00:05  0:00:10 41.4M
 51  511M   51  260M    0     0  37.3M      0  0:00:13  0:00:06  0:00:07 54.0M
 66  511M   66  338M    0     0  42.4M      0  0:00:12  0:00:07  0:00:05 67.4M
 74  511M   74  381M    0     0  42.6M      0  0:00:11  0:00:08  0:00:03 69.7M
 81  511M   81  418M    0     0  42.0M      0  0:00:12  0:00:09  0:00:03 61.6M
 89  511M   89  457M    0     0  41.7M      0  0:00:12  0:00:10  0:00:02 52.0M
 97  511M   97  498M    0     0  41.6M      0  0:00:12  0:00:11  0:00:01 47.6M
100  511M  100  511M    0     0  42.0M      0  0:00:12  0:00:12 --:--:-- 41.2M

install for i386

* installing *source* package 'macrophage' ...
** using staged installation
** data
** inst
** help
*** installing help indices
  converting help for package 'macrophage'
    finding HTML links ... done
    gse                                     html  
REDIRECT:topic	 gse -> gse.html [ SUCCESS ]
    macrophage-package                      html  
REDIRECT:topic	 macrophage-package -> macrophage-package.html [ SUCCESS ]
** building package indices
** installing vignettes
** testing if installed package can be loaded from temporary location
** testing if installed package can be loaded from final location
** testing if installed package keeps a record of temporary installation path

install for x64

* installing *source* package 'macrophage' ...
** testing if installed package can be loaded
* MD5 sums
packaged installation of 'macrophage' as macrophage_1.7.0.zip
* DONE (macrophage)
* installing to library 'D:/biocbuild/bbs-3.13-bioc/R/library'
package 'macrophage' successfully unpacked and MD5 sums checked