Back to Multiple platform build/check report for BioC 3.13 experimental data |
|
This page was generated on 2021-01-21 16:01:31 -0500 (Thu, 21 Jan 2021).
TO THE DEVELOPERS/MAINTAINERS OF THE macrophage PACKAGE: Please make sure to use the following settings in order to reproduce any error or warning you see on this page. |
Package 205/386 | Hostname | OS / Arch | INSTALL | BUILD | CHECK | ||||||
macrophage 1.7.0 Michael Love
| malbec2 | Linux (Ubuntu 20.04.1 LTS) / x86_64 | OK | OK | OK | ![]() | |||||
riesling1 | Windows Server 2019 Standard / x64 | OK | [ OK ] | OK |
Package: macrophage |
Version: 1.7.0 |
Command: chmod a+r macrophage -R && D:\biocbuild\bbs-3.13-bioc\R\bin\R.exe CMD build --keep-empty-dirs --no-resave-data macrophage |
StartedAt: 2021-01-21 10:47:44 -0500 (Thu, 21 Jan 2021) |
EndedAt: 2021-01-21 10:50:19 -0500 (Thu, 21 Jan 2021) |
EllapsedTime: 154.7 seconds |
RetCode: 0 |
Status: OK |
PackageFile: macrophage_1.7.0.tar.gz |
PackageFileSize: 511.4 MiB |
############################################################################## ############################################################################## ### ### Running command: ### ### chmod a+r macrophage -R && D:\biocbuild\bbs-3.13-bioc\R\bin\R.exe CMD build --keep-empty-dirs --no-resave-data macrophage ### ############################################################################## ############################################################################## * checking for file 'macrophage/DESCRIPTION' ... OK * preparing 'macrophage': * checking DESCRIPTION meta-information ... OK * installing the package to build vignettes * creating vignettes ... OK * checking for LF line-endings in source and make files and shell scripts * checking for empty or unneeded directories * looking to see if a 'data/datalist' file should be added * building 'macrophage_1.7.0.tar.gz'