Back to Multiple platform build/check report for BioC 3.13 experimental data
ABCDEFGHIJKL[M]NOPQRSTUVWXYZ

INSTALL report for mCSEAdata on riesling1

This page was generated on 2021-01-21 16:01:31 -0500 (Thu, 21 Jan 2021).

TO THE DEVELOPERS/MAINTAINERS OF THE mCSEAdata PACKAGE: Please make sure to use the following settings in order to reproduce any error or warning you see on this page.
Package 212/386HostnameOS / ArchINSTALLBUILDCHECK
mCSEAdata 1.11.1
Jordi Martorell Marugán
Snapshot Date: 2021-01-21 09:00:14 -0500 (Thu, 21 Jan 2021)
URL: https://git.bioconductor.org/packages/mCSEAdata
Branch: master
Last Commit: 07782ff
Last Changed Date: 2020-12-03 06:28:25 -0500 (Thu, 03 Dec 2020)
malbec2 Linux (Ubuntu 20.04.1 LTS) / x86_64  OK  OK  OK UNNEEDED, same version exists in internal repository
riesling1 Windows Server 2019 Standard / x64 [ OK ] OK  WARNINGS 

Summary

Package: mCSEAdata
Version: 1.11.1
Command: C:\cygwin\bin\curl.exe -O http://172.29.0.4/BBS/3.13/data-experiment/src/contrib/mCSEAdata_1.11.1.tar.gz && rm -rf mCSEAdata.buildbin-libdir && mkdir mCSEAdata.buildbin-libdir && D:\biocbuild\bbs-3.13-bioc\R\bin\R.exe CMD INSTALL --merge-multiarch --build --library=mCSEAdata.buildbin-libdir mCSEAdata_1.11.1.tar.gz && D:\biocbuild\bbs-3.13-bioc\R\bin\R.exe CMD INSTALL mCSEAdata_1.11.1.zip && rm mCSEAdata_1.11.1.tar.gz mCSEAdata_1.11.1.zip
StartedAt: 2021-01-21 09:49:11 -0500 (Thu, 21 Jan 2021)
EndedAt: 2021-01-21 09:49:38 -0500 (Thu, 21 Jan 2021)
EllapsedTime: 26.5 seconds
RetCode: 0
Status:  OK  

Command output

##############################################################################
##############################################################################
###
### Running command:
###
###   C:\cygwin\bin\curl.exe -O http://172.29.0.4/BBS/3.13/data-experiment/src/contrib/mCSEAdata_1.11.1.tar.gz && rm -rf mCSEAdata.buildbin-libdir && mkdir mCSEAdata.buildbin-libdir && D:\biocbuild\bbs-3.13-bioc\R\bin\R.exe CMD INSTALL --merge-multiarch --build --library=mCSEAdata.buildbin-libdir mCSEAdata_1.11.1.tar.gz && D:\biocbuild\bbs-3.13-bioc\R\bin\R.exe CMD INSTALL mCSEAdata_1.11.1.zip && rm mCSEAdata_1.11.1.tar.gz mCSEAdata_1.11.1.zip
###
##############################################################################
##############################################################################


  % Total    % Received % Xferd  Average Speed   Time    Time     Time  Current
                                 Dload  Upload   Total   Spent    Left  Speed

  0     0    0     0    0     0      0      0 --:--:-- --:--:-- --:--:--     0
  4 15.9M    4  746k    0     0  2883k      0  0:00:05 --:--:--  0:00:05 2883k
 19 15.9M   19 3247k    0     0  2372k      0  0:00:06  0:00:01  0:00:05 2372k
 28 15.9M   28 4610k    0     0  1973k      0  0:00:08  0:00:02  0:00:06 1972k
 47 15.9M   47 7748k    0     0  2320k      0  0:00:07  0:00:03  0:00:04 2320k
 68 15.9M   68 10.9M    0     0  2557k      0  0:00:06  0:00:04  0:00:02 2556k
 81 15.9M   81 13.1M    0     0  2553k      0  0:00:06  0:00:05  0:00:01 2536k
100 15.9M  100 15.9M    0     0  2770k      0  0:00:05  0:00:05 --:--:-- 2890k

install for i386

* installing *source* package 'mCSEAdata' ...
** using staged installation
** data
*** moving datasets to lazyload DB
** inst
** help
*** installing help indices
  converting help for package 'mCSEAdata'
    finding HTML links ... done
    bandTable                               html  
REDIRECT:topic	 bandTable -> bandTable.html [ SUCCESS ]
    mCSEAdata-package                       html  
REDIRECT:topic	 mCSEAdata-package -> mCSEAdata-package.html [ SUCCESS ]
REDIRECT:topic	 mCSEAdata -> mCSEAdata-package.html [ SUCCESS ]
    mcseadata                               html  
REDIRECT:topic	 mcseadata -> mcseadata.html [ SUCCESS ]
REDIRECT:topic	 assocPromoters450k -> mcseadata.html [ SUCCESS ]
REDIRECT:topic	 assocPromotersEPIC -> mcseadata.html [ SUCCESS ]
REDIRECT:topic	 assocGenes450k -> mcseadata.html [ SUCCESS ]
REDIRECT:topic	 assocGenesEPIC -> mcseadata.html [ SUCCESS ]
REDIRECT:topic	 assocCGI450k -> mcseadata.html [ SUCCESS ]
REDIRECT:topic	 assocCGIEPIC -> mcseadata.html [ SUCCESS ]
REDIRECT:topic	 annot450K -> mcseadata.html [ SUCCESS ]
REDIRECT:topic	 annotEPIC -> mcseadata.html [ SUCCESS ]
REDIRECT:topic	 betaTest -> mcseadata.html [ SUCCESS ]
REDIRECT:topic	 phenoTest -> mcseadata.html [ SUCCESS ]
REDIRECT:topic	 exprTest -> mcseadata.html [ SUCCESS ]
Rd warning: Previous alias or file overwritten by alias: mcseadata
** building package indices
** installing vignettes
** testing if installed package can be loaded from temporary location
** testing if installed package can be loaded from final location
** testing if installed package keeps a record of temporary installation path

install for x64

* installing *source* package 'mCSEAdata' ...
** testing if installed package can be loaded
* MD5 sums
packaged installation of 'mCSEAdata' as mCSEAdata_1.11.1.zip
* DONE (mCSEAdata)
* installing to library 'D:/biocbuild/bbs-3.13-bioc/R/library'
package 'mCSEAdata' successfully unpacked and MD5 sums checked