Back to Multiple platform build/check report for BioC 3.13 experimental data
ABCDEFGHIJKL[M]NOPQRSTUVWXYZ

BUILD report for mCSEAdata on riesling1

This page was generated on 2021-01-21 16:01:31 -0500 (Thu, 21 Jan 2021).

TO THE DEVELOPERS/MAINTAINERS OF THE mCSEAdata PACKAGE: Please make sure to use the following settings in order to reproduce any error or warning you see on this page.
Package 212/386HostnameOS / ArchINSTALLBUILDCHECK
mCSEAdata 1.11.1
Jordi Martorell Marugán
Snapshot Date: 2021-01-21 09:00:14 -0500 (Thu, 21 Jan 2021)
URL: https://git.bioconductor.org/packages/mCSEAdata
Branch: master
Last Commit: 07782ff
Last Changed Date: 2020-12-03 06:28:25 -0500 (Thu, 03 Dec 2020)
malbec2 Linux (Ubuntu 20.04.1 LTS) / x86_64  OK  OK  OK UNNEEDED, same version exists in internal repository
riesling1 Windows Server 2019 Standard / x64  OK [ OK ] WARNINGS 

Summary

Package: mCSEAdata
Version: 1.11.1
Command: chmod a+r mCSEAdata -R && D:\biocbuild\bbs-3.13-bioc\R\bin\R.exe CMD build --keep-empty-dirs --no-resave-data mCSEAdata
StartedAt: 2021-01-21 10:50:13 -0500 (Thu, 21 Jan 2021)
EndedAt: 2021-01-21 10:50:38 -0500 (Thu, 21 Jan 2021)
EllapsedTime: 25.5 seconds
RetCode: 0
Status:  OK  
PackageFile: mCSEAdata_1.11.1.tar.gz
PackageFileSize: 16.15 MiB

Command output

##############################################################################
##############################################################################
###
### Running command:
###
###   chmod a+r mCSEAdata -R && D:\biocbuild\bbs-3.13-bioc\R\bin\R.exe CMD build --keep-empty-dirs --no-resave-data mCSEAdata
###
##############################################################################
##############################################################################


* checking for file 'mCSEAdata/DESCRIPTION' ... OK
* preparing 'mCSEAdata':
* checking DESCRIPTION meta-information ... OK
* installing the package to build vignettes
* creating vignettes ... OK
* checking for LF line-endings in source and make files and shell scripts
* checking for empty or unneeded directories
* building 'mCSEAdata_1.11.1.tar.gz'