Back to Multiple platform build/check report for BioC 3.13 experimental data
ABCDEFGHIJK[L]MNOPQRSTUVWXYZ

BUILD report for lydata on riesling1

This page was generated on 2021-01-14 15:59:08 -0500 (Thu, 14 Jan 2021).

TO THE DEVELOPERS/MAINTAINERS OF THE lydata PACKAGE: Please make sure to use the following settings in order to reproduce any error or warning you see on this page.
Package 203/385HostnameOS / ArchINSTALLBUILDCHECK
lydata 1.17.0
Alex Pickering
Snapshot Date: 2021-01-14 09:00:13 -0500 (Thu, 14 Jan 2021)
URL: https://git.bioconductor.org/packages/lydata
Branch: master
Last Commit: 7110cf1
Last Changed Date: 2020-10-27 10:20:11 -0500 (Tue, 27 Oct 2020)
malbec2 Linux (Ubuntu 20.04.1 LTS) / x86_64  OK  OK  OK UNNEEDED, same version exists in internal repository
riesling1 Windows Server 2019 Standard / x64  OK [ OK ] OK 

Summary

Package: lydata
Version: 1.17.0
Command: chmod a+r lydata -R && D:\biocbuild\bbs-3.13-bioc\R\bin\R.exe CMD build --keep-empty-dirs --no-resave-data lydata
StartedAt: 2021-01-14 10:43:17 -0500 (Thu, 14 Jan 2021)
EndedAt: 2021-01-14 10:48:11 -0500 (Thu, 14 Jan 2021)
EllapsedTime: 293.6 seconds
RetCode: 0
Status:  OK  
PackageFile: lydata_1.17.0.tar.gz
PackageFileSize: 158.9 MiB

Command output

##############################################################################
##############################################################################
###
### Running command:
###
###   chmod a+r lydata -R && D:\biocbuild\bbs-3.13-bioc\R\bin\R.exe CMD build --keep-empty-dirs --no-resave-data lydata
###
##############################################################################
##############################################################################


* checking for file 'lydata/DESCRIPTION' ... OK
* preparing 'lydata':
* checking DESCRIPTION meta-information ... OK
* checking for LF line-endings in source and make files and shell scripts
* checking for empty or unneeded directories
* building 'lydata_1.17.0.tar.gz'